BEGIN:VCALENDAR
VERSION:2.0
PRODID:-//TropicalArts Resort and Studios | Bocas del Toro, Panama - ECPv6.15.14//NONSGML v1.0//EN
CALSCALE:GREGORIAN
METHOD:PUBLISH
X-WR-CALNAME:TropicalArts Resort and Studios | Bocas del Toro, Panama
X-ORIGINAL-URL:https://tropicalartsbocas.com
X-WR-CALDESC:Events for TropicalArts Resort and Studios | Bocas del Toro, Panama
REFRESH-INTERVAL;VALUE=DURATION:PT1H
X-Robots-Tag:noindex
X-PUBLISHED-TTL:PT1H
BEGIN:VTIMEZONE
TZID:America/Panama
BEGIN:STANDARD
TZOFFSETFROM:-0500
TZOFFSETTO:-0500
TZNAME:EST
DTSTART:20280101T000000
END:STANDARD
END:VTIMEZONE
BEGIN:VEVENT
DTSTART;TZID=America/Panama:20290312T173000
DTEND;TZID=America/Panama:20290312T183000
DTSTAMP:20260425T180507
CREATED:20260128T182904Z
LAST-MODIFIED:20260128T182904Z
UID:10000528-1868031000-1868034600@tropicalartsbocas.com
SUMMARY:Vinyasa Flow Yoga
DESCRIPTION:This class blends seamless flow with functional mobility-focused movement. Expect a feel-good rhythm\, smart sequencing and options to meet you where you are\, you´ll leave feeling stronger\, softer and more at home in your body! \nCome as you are–you´re in good hands
URL:https://tropicalartsbocas.com/event/vinyasa-flow-yoga/2029-03-12/
LOCATION:Fitness Studio
CATEGORIES:Fitness Studio
ATTACH;FMTTYPE=image/png:https://tropicalartsbocas.com/wp-content/uploads/2026/01/Screenshot-2026-01-28-131919.png
END:VEVENT
BEGIN:VEVENT
DTSTART;TZID=America/Panama:20290314T160000
DTEND;TZID=America/Panama:20290314T170000
DTSTAMP:20260425T180507
CREATED:20260128T185942Z
LAST-MODIFIED:20260128T185942Z
UID:10000986-1868198400-1868202000@tropicalartsbocas.com
SUMMARY:Mat pilates with Kristle
DESCRIPTION:Strong moves\, a little burn\, fun playlists\, and laughs. This is Krystle your Mat Pilates Teacher who somehow makes you laugh and sweat at the same time. Her classes gives you a little burn\, a lot of moves you didn’t think you could pull off\, and always a playlist that just hits right. She’s all about helping you surprise yourself\, feel good in your body\, and leave class glowing a little stronger (and happier) than when you came in. Basically? if you want pilates that feels fun\, not scary — Krystle’s your girl.
URL:https://tropicalartsbocas.com/event/mat-pilates-with-kristle/2029-03-14/
LOCATION:Fitness Studio
CATEGORIES:Pilates,Wellness & Fitness,Workshops & Classes
ATTACH;FMTTYPE=image/png:https://tropicalartsbocas.com/wp-content/uploads/2026/01/Screenshot-2026-01-28-135058.png
END:VEVENT
BEGIN:VEVENT
DTSTART;TZID=America/Panama:20290314T173000
DTEND;TZID=America/Panama:20290314T183000
DTSTAMP:20260425T180507
CREATED:20260128T182904Z
LAST-MODIFIED:20260128T182904Z
UID:10000529-1868203800-1868207400@tropicalartsbocas.com
SUMMARY:Vinyasa Flow Yoga
DESCRIPTION:This class blends seamless flow with functional mobility-focused movement. Expect a feel-good rhythm\, smart sequencing and options to meet you where you are\, you´ll leave feeling stronger\, softer and more at home in your body! \nCome as you are–you´re in good hands
URL:https://tropicalartsbocas.com/event/vinyasa-flow-yoga/2029-03-14/
LOCATION:Fitness Studio
CATEGORIES:Fitness Studio
ATTACH;FMTTYPE=image/png:https://tropicalartsbocas.com/wp-content/uploads/2026/01/Screenshot-2026-01-28-131919.png
END:VEVENT
BEGIN:VEVENT
DTSTART;TZID=America/Panama:20290316T173000
DTEND;TZID=America/Panama:20290316T183000
DTSTAMP:20260425T180507
CREATED:20260128T182904Z
LAST-MODIFIED:20260128T182904Z
UID:10000530-1868376600-1868380200@tropicalartsbocas.com
SUMMARY:Vinyasa Flow Yoga
DESCRIPTION:This class blends seamless flow with functional mobility-focused movement. Expect a feel-good rhythm\, smart sequencing and options to meet you where you are\, you´ll leave feeling stronger\, softer and more at home in your body! \nCome as you are–you´re in good hands
URL:https://tropicalartsbocas.com/event/vinyasa-flow-yoga/2029-03-16/
LOCATION:Fitness Studio
CATEGORIES:Fitness Studio
ATTACH;FMTTYPE=image/png:https://tropicalartsbocas.com/wp-content/uploads/2026/01/Screenshot-2026-01-28-131919.png
END:VEVENT
BEGIN:VEVENT
DTSTART;TZID=America/Panama:20290319T173000
DTEND;TZID=America/Panama:20290319T183000
DTSTAMP:20260425T180507
CREATED:20260128T182904Z
LAST-MODIFIED:20260128T182904Z
UID:10000531-1868635800-1868639400@tropicalartsbocas.com
SUMMARY:Vinyasa Flow Yoga
DESCRIPTION:This class blends seamless flow with functional mobility-focused movement. Expect a feel-good rhythm\, smart sequencing and options to meet you where you are\, you´ll leave feeling stronger\, softer and more at home in your body! \nCome as you are–you´re in good hands
URL:https://tropicalartsbocas.com/event/vinyasa-flow-yoga/2029-03-19/
LOCATION:Fitness Studio
CATEGORIES:Fitness Studio
ATTACH;FMTTYPE=image/png:https://tropicalartsbocas.com/wp-content/uploads/2026/01/Screenshot-2026-01-28-131919.png
END:VEVENT
BEGIN:VEVENT
DTSTART;TZID=America/Panama:20290321T160000
DTEND;TZID=America/Panama:20290321T170000
DTSTAMP:20260425T180507
CREATED:20260128T185942Z
LAST-MODIFIED:20260128T185942Z
UID:10000987-1868803200-1868806800@tropicalartsbocas.com
SUMMARY:Mat pilates with Kristle
DESCRIPTION:Strong moves\, a little burn\, fun playlists\, and laughs. This is Krystle your Mat Pilates Teacher who somehow makes you laugh and sweat at the same time. Her classes gives you a little burn\, a lot of moves you didn’t think you could pull off\, and always a playlist that just hits right. She’s all about helping you surprise yourself\, feel good in your body\, and leave class glowing a little stronger (and happier) than when you came in. Basically? if you want pilates that feels fun\, not scary — Krystle’s your girl.
URL:https://tropicalartsbocas.com/event/mat-pilates-with-kristle/2029-03-21/
LOCATION:Fitness Studio
CATEGORIES:Pilates,Wellness & Fitness,Workshops & Classes
ATTACH;FMTTYPE=image/png:https://tropicalartsbocas.com/wp-content/uploads/2026/01/Screenshot-2026-01-28-135058.png
END:VEVENT
BEGIN:VEVENT
DTSTART;TZID=America/Panama:20290321T173000
DTEND;TZID=America/Panama:20290321T183000
DTSTAMP:20260425T180507
CREATED:20260128T182904Z
LAST-MODIFIED:20260128T182904Z
UID:10000532-1868808600-1868812200@tropicalartsbocas.com
SUMMARY:Vinyasa Flow Yoga
DESCRIPTION:This class blends seamless flow with functional mobility-focused movement. Expect a feel-good rhythm\, smart sequencing and options to meet you where you are\, you´ll leave feeling stronger\, softer and more at home in your body! \nCome as you are–you´re in good hands
URL:https://tropicalartsbocas.com/event/vinyasa-flow-yoga/2029-03-21/
LOCATION:Fitness Studio
CATEGORIES:Fitness Studio
ATTACH;FMTTYPE=image/png:https://tropicalartsbocas.com/wp-content/uploads/2026/01/Screenshot-2026-01-28-131919.png
END:VEVENT
BEGIN:VEVENT
DTSTART;TZID=America/Panama:20290323T173000
DTEND;TZID=America/Panama:20290323T183000
DTSTAMP:20260425T180507
CREATED:20260128T182904Z
LAST-MODIFIED:20260128T182904Z
UID:10000533-1868981400-1868985000@tropicalartsbocas.com
SUMMARY:Vinyasa Flow Yoga
DESCRIPTION:This class blends seamless flow with functional mobility-focused movement. Expect a feel-good rhythm\, smart sequencing and options to meet you where you are\, you´ll leave feeling stronger\, softer and more at home in your body! \nCome as you are–you´re in good hands
URL:https://tropicalartsbocas.com/event/vinyasa-flow-yoga/2029-03-23/
LOCATION:Fitness Studio
CATEGORIES:Fitness Studio
ATTACH;FMTTYPE=image/png:https://tropicalartsbocas.com/wp-content/uploads/2026/01/Screenshot-2026-01-28-131919.png
END:VEVENT
BEGIN:VEVENT
DTSTART;TZID=America/Panama:20290326T173000
DTEND;TZID=America/Panama:20290326T183000
DTSTAMP:20260425T180507
CREATED:20260128T182904Z
LAST-MODIFIED:20260128T182904Z
UID:10000534-1869240600-1869244200@tropicalartsbocas.com
SUMMARY:Vinyasa Flow Yoga
DESCRIPTION:This class blends seamless flow with functional mobility-focused movement. Expect a feel-good rhythm\, smart sequencing and options to meet you where you are\, you´ll leave feeling stronger\, softer and more at home in your body! \nCome as you are–you´re in good hands
URL:https://tropicalartsbocas.com/event/vinyasa-flow-yoga/2029-03-26/
LOCATION:Fitness Studio
CATEGORIES:Fitness Studio
ATTACH;FMTTYPE=image/png:https://tropicalartsbocas.com/wp-content/uploads/2026/01/Screenshot-2026-01-28-131919.png
END:VEVENT
BEGIN:VEVENT
DTSTART;TZID=America/Panama:20290328T160000
DTEND;TZID=America/Panama:20290328T170000
DTSTAMP:20260425T180507
CREATED:20260128T185942Z
LAST-MODIFIED:20260128T185942Z
UID:10000988-1869408000-1869411600@tropicalartsbocas.com
SUMMARY:Mat pilates with Kristle
DESCRIPTION:Strong moves\, a little burn\, fun playlists\, and laughs. This is Krystle your Mat Pilates Teacher who somehow makes you laugh and sweat at the same time. Her classes gives you a little burn\, a lot of moves you didn’t think you could pull off\, and always a playlist that just hits right. She’s all about helping you surprise yourself\, feel good in your body\, and leave class glowing a little stronger (and happier) than when you came in. Basically? if you want pilates that feels fun\, not scary — Krystle’s your girl.
URL:https://tropicalartsbocas.com/event/mat-pilates-with-kristle/2029-03-28/
LOCATION:Fitness Studio
CATEGORIES:Pilates,Wellness & Fitness,Workshops & Classes
ATTACH;FMTTYPE=image/png:https://tropicalartsbocas.com/wp-content/uploads/2026/01/Screenshot-2026-01-28-135058.png
END:VEVENT
BEGIN:VEVENT
DTSTART;TZID=America/Panama:20290328T173000
DTEND;TZID=America/Panama:20290328T183000
DTSTAMP:20260425T180507
CREATED:20260128T182904Z
LAST-MODIFIED:20260128T182904Z
UID:10000535-1869413400-1869417000@tropicalartsbocas.com
SUMMARY:Vinyasa Flow Yoga
DESCRIPTION:This class blends seamless flow with functional mobility-focused movement. Expect a feel-good rhythm\, smart sequencing and options to meet you where you are\, you´ll leave feeling stronger\, softer and more at home in your body! \nCome as you are–you´re in good hands
URL:https://tropicalartsbocas.com/event/vinyasa-flow-yoga/2029-03-28/
LOCATION:Fitness Studio
CATEGORIES:Fitness Studio
ATTACH;FMTTYPE=image/png:https://tropicalartsbocas.com/wp-content/uploads/2026/01/Screenshot-2026-01-28-131919.png
END:VEVENT
BEGIN:VEVENT
DTSTART;TZID=America/Panama:20290330T173000
DTEND;TZID=America/Panama:20290330T183000
DTSTAMP:20260425T180507
CREATED:20260128T182904Z
LAST-MODIFIED:20260128T182904Z
UID:10000536-1869586200-1869589800@tropicalartsbocas.com
SUMMARY:Vinyasa Flow Yoga
DESCRIPTION:This class blends seamless flow with functional mobility-focused movement. Expect a feel-good rhythm\, smart sequencing and options to meet you where you are\, you´ll leave feeling stronger\, softer and more at home in your body! \nCome as you are–you´re in good hands
URL:https://tropicalartsbocas.com/event/vinyasa-flow-yoga/2029-03-30/
LOCATION:Fitness Studio
CATEGORIES:Fitness Studio
ATTACH;FMTTYPE=image/png:https://tropicalartsbocas.com/wp-content/uploads/2026/01/Screenshot-2026-01-28-131919.png
END:VEVENT
BEGIN:VEVENT
DTSTART;TZID=America/Panama:20290402T173000
DTEND;TZID=America/Panama:20290402T183000
DTSTAMP:20260425T180507
CREATED:20260128T182904Z
LAST-MODIFIED:20260128T182904Z
UID:10000537-1869845400-1869849000@tropicalartsbocas.com
SUMMARY:Vinyasa Flow Yoga
DESCRIPTION:This class blends seamless flow with functional mobility-focused movement. Expect a feel-good rhythm\, smart sequencing and options to meet you where you are\, you´ll leave feeling stronger\, softer and more at home in your body! \nCome as you are–you´re in good hands
URL:https://tropicalartsbocas.com/event/vinyasa-flow-yoga/2029-04-02/
LOCATION:Fitness Studio
CATEGORIES:Fitness Studio
ATTACH;FMTTYPE=image/png:https://tropicalartsbocas.com/wp-content/uploads/2026/01/Screenshot-2026-01-28-131919.png
END:VEVENT
BEGIN:VEVENT
DTSTART;TZID=America/Panama:20290404T160000
DTEND;TZID=America/Panama:20290404T170000
DTSTAMP:20260425T180507
CREATED:20260128T185942Z
LAST-MODIFIED:20260128T185942Z
UID:10000989-1870012800-1870016400@tropicalartsbocas.com
SUMMARY:Mat pilates with Kristle
DESCRIPTION:Strong moves\, a little burn\, fun playlists\, and laughs. This is Krystle your Mat Pilates Teacher who somehow makes you laugh and sweat at the same time. Her classes gives you a little burn\, a lot of moves you didn’t think you could pull off\, and always a playlist that just hits right. She’s all about helping you surprise yourself\, feel good in your body\, and leave class glowing a little stronger (and happier) than when you came in. Basically? if you want pilates that feels fun\, not scary — Krystle’s your girl.
URL:https://tropicalartsbocas.com/event/mat-pilates-with-kristle/2029-04-04/
LOCATION:Fitness Studio
CATEGORIES:Pilates,Wellness & Fitness,Workshops & Classes
ATTACH;FMTTYPE=image/png:https://tropicalartsbocas.com/wp-content/uploads/2026/01/Screenshot-2026-01-28-135058.png
END:VEVENT
BEGIN:VEVENT
DTSTART;TZID=America/Panama:20290404T173000
DTEND;TZID=America/Panama:20290404T183000
DTSTAMP:20260425T180507
CREATED:20260128T182904Z
LAST-MODIFIED:20260128T182904Z
UID:10000538-1870018200-1870021800@tropicalartsbocas.com
SUMMARY:Vinyasa Flow Yoga
DESCRIPTION:This class blends seamless flow with functional mobility-focused movement. Expect a feel-good rhythm\, smart sequencing and options to meet you where you are\, you´ll leave feeling stronger\, softer and more at home in your body! \nCome as you are–you´re in good hands
URL:https://tropicalartsbocas.com/event/vinyasa-flow-yoga/2029-04-04/
LOCATION:Fitness Studio
CATEGORIES:Fitness Studio
ATTACH;FMTTYPE=image/png:https://tropicalartsbocas.com/wp-content/uploads/2026/01/Screenshot-2026-01-28-131919.png
END:VEVENT
BEGIN:VEVENT
DTSTART;TZID=America/Panama:20290406T173000
DTEND;TZID=America/Panama:20290406T183000
DTSTAMP:20260425T180507
CREATED:20260128T182904Z
LAST-MODIFIED:20260128T182904Z
UID:10000539-1870191000-1870194600@tropicalartsbocas.com
SUMMARY:Vinyasa Flow Yoga
DESCRIPTION:This class blends seamless flow with functional mobility-focused movement. Expect a feel-good rhythm\, smart sequencing and options to meet you where you are\, you´ll leave feeling stronger\, softer and more at home in your body! \nCome as you are–you´re in good hands
URL:https://tropicalartsbocas.com/event/vinyasa-flow-yoga/2029-04-06/
LOCATION:Fitness Studio
CATEGORIES:Fitness Studio
ATTACH;FMTTYPE=image/png:https://tropicalartsbocas.com/wp-content/uploads/2026/01/Screenshot-2026-01-28-131919.png
END:VEVENT
BEGIN:VEVENT
DTSTART;TZID=America/Panama:20290409T173000
DTEND;TZID=America/Panama:20290409T183000
DTSTAMP:20260425T180507
CREATED:20260128T182904Z
LAST-MODIFIED:20260128T182904Z
UID:10000540-1870450200-1870453800@tropicalartsbocas.com
SUMMARY:Vinyasa Flow Yoga
DESCRIPTION:This class blends seamless flow with functional mobility-focused movement. Expect a feel-good rhythm\, smart sequencing and options to meet you where you are\, you´ll leave feeling stronger\, softer and more at home in your body! \nCome as you are–you´re in good hands
URL:https://tropicalartsbocas.com/event/vinyasa-flow-yoga/2029-04-09/
LOCATION:Fitness Studio
CATEGORIES:Fitness Studio
ATTACH;FMTTYPE=image/png:https://tropicalartsbocas.com/wp-content/uploads/2026/01/Screenshot-2026-01-28-131919.png
END:VEVENT
BEGIN:VEVENT
DTSTART;TZID=America/Panama:20290411T160000
DTEND;TZID=America/Panama:20290411T170000
DTSTAMP:20260425T180507
CREATED:20260128T185942Z
LAST-MODIFIED:20260128T185942Z
UID:10000990-1870617600-1870621200@tropicalartsbocas.com
SUMMARY:Mat pilates with Kristle
DESCRIPTION:Strong moves\, a little burn\, fun playlists\, and laughs. This is Krystle your Mat Pilates Teacher who somehow makes you laugh and sweat at the same time. Her classes gives you a little burn\, a lot of moves you didn’t think you could pull off\, and always a playlist that just hits right. She’s all about helping you surprise yourself\, feel good in your body\, and leave class glowing a little stronger (and happier) than when you came in. Basically? if you want pilates that feels fun\, not scary — Krystle’s your girl.
URL:https://tropicalartsbocas.com/event/mat-pilates-with-kristle/2029-04-11/
LOCATION:Fitness Studio
CATEGORIES:Pilates,Wellness & Fitness,Workshops & Classes
ATTACH;FMTTYPE=image/png:https://tropicalartsbocas.com/wp-content/uploads/2026/01/Screenshot-2026-01-28-135058.png
END:VEVENT
BEGIN:VEVENT
DTSTART;TZID=America/Panama:20290411T173000
DTEND;TZID=America/Panama:20290411T183000
DTSTAMP:20260425T180507
CREATED:20260128T182904Z
LAST-MODIFIED:20260128T182904Z
UID:10000541-1870623000-1870626600@tropicalartsbocas.com
SUMMARY:Vinyasa Flow Yoga
DESCRIPTION:This class blends seamless flow with functional mobility-focused movement. Expect a feel-good rhythm\, smart sequencing and options to meet you where you are\, you´ll leave feeling stronger\, softer and more at home in your body! \nCome as you are–you´re in good hands
URL:https://tropicalartsbocas.com/event/vinyasa-flow-yoga/2029-04-11/
LOCATION:Fitness Studio
CATEGORIES:Fitness Studio
ATTACH;FMTTYPE=image/png:https://tropicalartsbocas.com/wp-content/uploads/2026/01/Screenshot-2026-01-28-131919.png
END:VEVENT
BEGIN:VEVENT
DTSTART;TZID=America/Panama:20290413T173000
DTEND;TZID=America/Panama:20290413T183000
DTSTAMP:20260425T180507
CREATED:20260128T182904Z
LAST-MODIFIED:20260128T182904Z
UID:10000542-1870795800-1870799400@tropicalartsbocas.com
SUMMARY:Vinyasa Flow Yoga
DESCRIPTION:This class blends seamless flow with functional mobility-focused movement. Expect a feel-good rhythm\, smart sequencing and options to meet you where you are\, you´ll leave feeling stronger\, softer and more at home in your body! \nCome as you are–you´re in good hands
URL:https://tropicalartsbocas.com/event/vinyasa-flow-yoga/2029-04-13/
LOCATION:Fitness Studio
CATEGORIES:Fitness Studio
ATTACH;FMTTYPE=image/png:https://tropicalartsbocas.com/wp-content/uploads/2026/01/Screenshot-2026-01-28-131919.png
END:VEVENT
BEGIN:VEVENT
DTSTART;TZID=America/Panama:20290416T173000
DTEND;TZID=America/Panama:20290416T183000
DTSTAMP:20260425T180507
CREATED:20260128T182904Z
LAST-MODIFIED:20260128T182904Z
UID:10000543-1871055000-1871058600@tropicalartsbocas.com
SUMMARY:Vinyasa Flow Yoga
DESCRIPTION:This class blends seamless flow with functional mobility-focused movement. Expect a feel-good rhythm\, smart sequencing and options to meet you where you are\, you´ll leave feeling stronger\, softer and more at home in your body! \nCome as you are–you´re in good hands
URL:https://tropicalartsbocas.com/event/vinyasa-flow-yoga/2029-04-16/
LOCATION:Fitness Studio
CATEGORIES:Fitness Studio
ATTACH;FMTTYPE=image/png:https://tropicalartsbocas.com/wp-content/uploads/2026/01/Screenshot-2026-01-28-131919.png
END:VEVENT
BEGIN:VEVENT
DTSTART;TZID=America/Panama:20290418T160000
DTEND;TZID=America/Panama:20290418T170000
DTSTAMP:20260425T180507
CREATED:20260128T185942Z
LAST-MODIFIED:20260128T185942Z
UID:10000991-1871222400-1871226000@tropicalartsbocas.com
SUMMARY:Mat pilates with Kristle
DESCRIPTION:Strong moves\, a little burn\, fun playlists\, and laughs. This is Krystle your Mat Pilates Teacher who somehow makes you laugh and sweat at the same time. Her classes gives you a little burn\, a lot of moves you didn’t think you could pull off\, and always a playlist that just hits right. She’s all about helping you surprise yourself\, feel good in your body\, and leave class glowing a little stronger (and happier) than when you came in. Basically? if you want pilates that feels fun\, not scary — Krystle’s your girl.
URL:https://tropicalartsbocas.com/event/mat-pilates-with-kristle/2029-04-18/
LOCATION:Fitness Studio
CATEGORIES:Pilates,Wellness & Fitness,Workshops & Classes
ATTACH;FMTTYPE=image/png:https://tropicalartsbocas.com/wp-content/uploads/2026/01/Screenshot-2026-01-28-135058.png
END:VEVENT
BEGIN:VEVENT
DTSTART;TZID=America/Panama:20290418T173000
DTEND;TZID=America/Panama:20290418T183000
DTSTAMP:20260425T180507
CREATED:20260128T182904Z
LAST-MODIFIED:20260128T182904Z
UID:10000544-1871227800-1871231400@tropicalartsbocas.com
SUMMARY:Vinyasa Flow Yoga
DESCRIPTION:This class blends seamless flow with functional mobility-focused movement. Expect a feel-good rhythm\, smart sequencing and options to meet you where you are\, you´ll leave feeling stronger\, softer and more at home in your body! \nCome as you are–you´re in good hands
URL:https://tropicalartsbocas.com/event/vinyasa-flow-yoga/2029-04-18/
LOCATION:Fitness Studio
CATEGORIES:Fitness Studio
ATTACH;FMTTYPE=image/png:https://tropicalartsbocas.com/wp-content/uploads/2026/01/Screenshot-2026-01-28-131919.png
END:VEVENT
BEGIN:VEVENT
DTSTART;TZID=America/Panama:20290420T173000
DTEND;TZID=America/Panama:20290420T183000
DTSTAMP:20260425T180507
CREATED:20260128T182904Z
LAST-MODIFIED:20260128T182904Z
UID:10000545-1871400600-1871404200@tropicalartsbocas.com
SUMMARY:Vinyasa Flow Yoga
DESCRIPTION:This class blends seamless flow with functional mobility-focused movement. Expect a feel-good rhythm\, smart sequencing and options to meet you where you are\, you´ll leave feeling stronger\, softer and more at home in your body! \nCome as you are–you´re in good hands
URL:https://tropicalartsbocas.com/event/vinyasa-flow-yoga/2029-04-20/
LOCATION:Fitness Studio
CATEGORIES:Fitness Studio
ATTACH;FMTTYPE=image/png:https://tropicalartsbocas.com/wp-content/uploads/2026/01/Screenshot-2026-01-28-131919.png
END:VEVENT
BEGIN:VEVENT
DTSTART;TZID=America/Panama:20290423T173000
DTEND;TZID=America/Panama:20290423T183000
DTSTAMP:20260425T180507
CREATED:20260128T182904Z
LAST-MODIFIED:20260128T182904Z
UID:10000546-1871659800-1871663400@tropicalartsbocas.com
SUMMARY:Vinyasa Flow Yoga
DESCRIPTION:This class blends seamless flow with functional mobility-focused movement. Expect a feel-good rhythm\, smart sequencing and options to meet you where you are\, you´ll leave feeling stronger\, softer and more at home in your body! \nCome as you are–you´re in good hands
URL:https://tropicalartsbocas.com/event/vinyasa-flow-yoga/2029-04-23/
LOCATION:Fitness Studio
CATEGORIES:Fitness Studio
ATTACH;FMTTYPE=image/png:https://tropicalartsbocas.com/wp-content/uploads/2026/01/Screenshot-2026-01-28-131919.png
END:VEVENT
BEGIN:VEVENT
DTSTART;TZID=America/Panama:20290425T160000
DTEND;TZID=America/Panama:20290425T170000
DTSTAMP:20260425T180507
CREATED:20260128T185942Z
LAST-MODIFIED:20260128T185942Z
UID:10000992-1871827200-1871830800@tropicalartsbocas.com
SUMMARY:Mat pilates with Kristle
DESCRIPTION:Strong moves\, a little burn\, fun playlists\, and laughs. This is Krystle your Mat Pilates Teacher who somehow makes you laugh and sweat at the same time. Her classes gives you a little burn\, a lot of moves you didn’t think you could pull off\, and always a playlist that just hits right. She’s all about helping you surprise yourself\, feel good in your body\, and leave class glowing a little stronger (and happier) than when you came in. Basically? if you want pilates that feels fun\, not scary — Krystle’s your girl.
URL:https://tropicalartsbocas.com/event/mat-pilates-with-kristle/2029-04-25/
LOCATION:Fitness Studio
CATEGORIES:Pilates,Wellness & Fitness,Workshops & Classes
ATTACH;FMTTYPE=image/png:https://tropicalartsbocas.com/wp-content/uploads/2026/01/Screenshot-2026-01-28-135058.png
END:VEVENT
BEGIN:VEVENT
DTSTART;TZID=America/Panama:20290425T173000
DTEND;TZID=America/Panama:20290425T183000
DTSTAMP:20260425T180507
CREATED:20260128T182904Z
LAST-MODIFIED:20260128T182904Z
UID:10000547-1871832600-1871836200@tropicalartsbocas.com
SUMMARY:Vinyasa Flow Yoga
DESCRIPTION:This class blends seamless flow with functional mobility-focused movement. Expect a feel-good rhythm\, smart sequencing and options to meet you where you are\, you´ll leave feeling stronger\, softer and more at home in your body! \nCome as you are–you´re in good hands
URL:https://tropicalartsbocas.com/event/vinyasa-flow-yoga/2029-04-25/
LOCATION:Fitness Studio
CATEGORIES:Fitness Studio
ATTACH;FMTTYPE=image/png:https://tropicalartsbocas.com/wp-content/uploads/2026/01/Screenshot-2026-01-28-131919.png
END:VEVENT
BEGIN:VEVENT
DTSTART;TZID=America/Panama:20290427T173000
DTEND;TZID=America/Panama:20290427T183000
DTSTAMP:20260425T180507
CREATED:20260128T182904Z
LAST-MODIFIED:20260128T182904Z
UID:10000548-1872005400-1872009000@tropicalartsbocas.com
SUMMARY:Vinyasa Flow Yoga
DESCRIPTION:This class blends seamless flow with functional mobility-focused movement. Expect a feel-good rhythm\, smart sequencing and options to meet you where you are\, you´ll leave feeling stronger\, softer and more at home in your body! \nCome as you are–you´re in good hands
URL:https://tropicalartsbocas.com/event/vinyasa-flow-yoga/2029-04-27/
LOCATION:Fitness Studio
CATEGORIES:Fitness Studio
ATTACH;FMTTYPE=image/png:https://tropicalartsbocas.com/wp-content/uploads/2026/01/Screenshot-2026-01-28-131919.png
END:VEVENT
BEGIN:VEVENT
DTSTART;TZID=America/Panama:20290430T173000
DTEND;TZID=America/Panama:20290430T183000
DTSTAMP:20260425T180507
CREATED:20260128T182904Z
LAST-MODIFIED:20260128T182904Z
UID:10000549-1872264600-1872268200@tropicalartsbocas.com
SUMMARY:Vinyasa Flow Yoga
DESCRIPTION:This class blends seamless flow with functional mobility-focused movement. Expect a feel-good rhythm\, smart sequencing and options to meet you where you are\, you´ll leave feeling stronger\, softer and more at home in your body! \nCome as you are–you´re in good hands
URL:https://tropicalartsbocas.com/event/vinyasa-flow-yoga/2029-04-30/
LOCATION:Fitness Studio
CATEGORIES:Fitness Studio
ATTACH;FMTTYPE=image/png:https://tropicalartsbocas.com/wp-content/uploads/2026/01/Screenshot-2026-01-28-131919.png
END:VEVENT
BEGIN:VEVENT
DTSTART;TZID=America/Panama:20290502T160000
DTEND;TZID=America/Panama:20290502T170000
DTSTAMP:20260425T180507
CREATED:20260128T185942Z
LAST-MODIFIED:20260128T185942Z
UID:10000993-1872432000-1872435600@tropicalartsbocas.com
SUMMARY:Mat pilates with Kristle
DESCRIPTION:Strong moves\, a little burn\, fun playlists\, and laughs. This is Krystle your Mat Pilates Teacher who somehow makes you laugh and sweat at the same time. Her classes gives you a little burn\, a lot of moves you didn’t think you could pull off\, and always a playlist that just hits right. She’s all about helping you surprise yourself\, feel good in your body\, and leave class glowing a little stronger (and happier) than when you came in. Basically? if you want pilates that feels fun\, not scary — Krystle’s your girl.
URL:https://tropicalartsbocas.com/event/mat-pilates-with-kristle/2029-05-02/
LOCATION:Fitness Studio
CATEGORIES:Pilates,Wellness & Fitness,Workshops & Classes
ATTACH;FMTTYPE=image/png:https://tropicalartsbocas.com/wp-content/uploads/2026/01/Screenshot-2026-01-28-135058.png
END:VEVENT
END:VCALENDAR