BEGIN:VCALENDAR
VERSION:2.0
PRODID:-//TropicalArts Resort and Studios | Bocas del Toro, Panama - ECPv6.15.14//NONSGML v1.0//EN
CALSCALE:GREGORIAN
METHOD:PUBLISH
X-ORIGINAL-URL:https://tropicalartsbocas.com
X-WR-CALDESC:Events for TropicalArts Resort and Studios | Bocas del Toro, Panama
REFRESH-INTERVAL;VALUE=DURATION:PT1H
X-Robots-Tag:noindex
X-PUBLISHED-TTL:PT1H
BEGIN:VTIMEZONE
TZID:America/Panama
BEGIN:STANDARD
TZOFFSETFROM:-0500
TZOFFSETTO:-0500
TZNAME:EST
DTSTART:20270101T000000
END:STANDARD
END:VTIMEZONE
BEGIN:VEVENT
DTSTART;TZID=America/Panama:20280407T173000
DTEND;TZID=America/Panama:20280407T183000
DTSTAMP:20260424T143943
CREATED:20260128T182904Z
LAST-MODIFIED:20260128T182904Z
UID:10000383-1838741400-1838745000@tropicalartsbocas.com
SUMMARY:Vinyasa Flow Yoga
DESCRIPTION:This class blends seamless flow with functional mobility-focused movement. Expect a feel-good rhythm\, smart sequencing and options to meet you where you are\, you´ll leave feeling stronger\, softer and more at home in your body! \nCome as you are–you´re in good hands
URL:https://tropicalartsbocas.com/event/vinyasa-flow-yoga/2028-04-07/
LOCATION:Fitness Studio
CATEGORIES:Fitness Studio
ATTACH;FMTTYPE=image/png:https://tropicalartsbocas.com/wp-content/uploads/2026/01/Screenshot-2026-01-28-131919.png
END:VEVENT
BEGIN:VEVENT
DTSTART;TZID=America/Panama:20280410T173000
DTEND;TZID=America/Panama:20280410T183000
DTSTAMP:20260424T143943
CREATED:20260128T182904Z
LAST-MODIFIED:20260128T182904Z
UID:10000384-1839000600-1839004200@tropicalartsbocas.com
SUMMARY:Vinyasa Flow Yoga
DESCRIPTION:This class blends seamless flow with functional mobility-focused movement. Expect a feel-good rhythm\, smart sequencing and options to meet you where you are\, you´ll leave feeling stronger\, softer and more at home in your body! \nCome as you are–you´re in good hands
URL:https://tropicalartsbocas.com/event/vinyasa-flow-yoga/2028-04-10/
LOCATION:Fitness Studio
CATEGORIES:Fitness Studio
ATTACH;FMTTYPE=image/png:https://tropicalartsbocas.com/wp-content/uploads/2026/01/Screenshot-2026-01-28-131919.png
END:VEVENT
BEGIN:VEVENT
DTSTART;TZID=America/Panama:20280412T160000
DTEND;TZID=America/Panama:20280412T170000
DTSTAMP:20260424T143943
CREATED:20260128T185942Z
LAST-MODIFIED:20260128T185942Z
UID:10000938-1839168000-1839171600@tropicalartsbocas.com
SUMMARY:Mat pilates with Kristle
DESCRIPTION:Strong moves\, a little burn\, fun playlists\, and laughs. This is Krystle your Mat Pilates Teacher who somehow makes you laugh and sweat at the same time. Her classes gives you a little burn\, a lot of moves you didn’t think you could pull off\, and always a playlist that just hits right. She’s all about helping you surprise yourself\, feel good in your body\, and leave class glowing a little stronger (and happier) than when you came in. Basically? if you want pilates that feels fun\, not scary — Krystle’s your girl.
URL:https://tropicalartsbocas.com/event/mat-pilates-with-kristle/2028-04-12/
LOCATION:Fitness Studio
CATEGORIES:Pilates,Wellness & Fitness,Workshops & Classes
ATTACH;FMTTYPE=image/png:https://tropicalartsbocas.com/wp-content/uploads/2026/01/Screenshot-2026-01-28-135058.png
END:VEVENT
BEGIN:VEVENT
DTSTART;TZID=America/Panama:20280412T173000
DTEND;TZID=America/Panama:20280412T183000
DTSTAMP:20260424T143943
CREATED:20260128T182904Z
LAST-MODIFIED:20260128T182904Z
UID:10000385-1839173400-1839177000@tropicalartsbocas.com
SUMMARY:Vinyasa Flow Yoga
DESCRIPTION:This class blends seamless flow with functional mobility-focused movement. Expect a feel-good rhythm\, smart sequencing and options to meet you where you are\, you´ll leave feeling stronger\, softer and more at home in your body! \nCome as you are–you´re in good hands
URL:https://tropicalartsbocas.com/event/vinyasa-flow-yoga/2028-04-12/
LOCATION:Fitness Studio
CATEGORIES:Fitness Studio
ATTACH;FMTTYPE=image/png:https://tropicalartsbocas.com/wp-content/uploads/2026/01/Screenshot-2026-01-28-131919.png
END:VEVENT
BEGIN:VEVENT
DTSTART;TZID=America/Panama:20280414T173000
DTEND;TZID=America/Panama:20280414T183000
DTSTAMP:20260424T143943
CREATED:20260128T182904Z
LAST-MODIFIED:20260128T182904Z
UID:10000386-1839346200-1839349800@tropicalartsbocas.com
SUMMARY:Vinyasa Flow Yoga
DESCRIPTION:This class blends seamless flow with functional mobility-focused movement. Expect a feel-good rhythm\, smart sequencing and options to meet you where you are\, you´ll leave feeling stronger\, softer and more at home in your body! \nCome as you are–you´re in good hands
URL:https://tropicalartsbocas.com/event/vinyasa-flow-yoga/2028-04-14/
LOCATION:Fitness Studio
CATEGORIES:Fitness Studio
ATTACH;FMTTYPE=image/png:https://tropicalartsbocas.com/wp-content/uploads/2026/01/Screenshot-2026-01-28-131919.png
END:VEVENT
BEGIN:VEVENT
DTSTART;TZID=America/Panama:20280417T173000
DTEND;TZID=America/Panama:20280417T183000
DTSTAMP:20260424T143943
CREATED:20260128T182904Z
LAST-MODIFIED:20260128T182904Z
UID:10000387-1839605400-1839609000@tropicalartsbocas.com
SUMMARY:Vinyasa Flow Yoga
DESCRIPTION:This class blends seamless flow with functional mobility-focused movement. Expect a feel-good rhythm\, smart sequencing and options to meet you where you are\, you´ll leave feeling stronger\, softer and more at home in your body! \nCome as you are–you´re in good hands
URL:https://tropicalartsbocas.com/event/vinyasa-flow-yoga/2028-04-17/
LOCATION:Fitness Studio
CATEGORIES:Fitness Studio
ATTACH;FMTTYPE=image/png:https://tropicalartsbocas.com/wp-content/uploads/2026/01/Screenshot-2026-01-28-131919.png
END:VEVENT
BEGIN:VEVENT
DTSTART;TZID=America/Panama:20280419T160000
DTEND;TZID=America/Panama:20280419T170000
DTSTAMP:20260424T143943
CREATED:20260128T185942Z
LAST-MODIFIED:20260128T185942Z
UID:10000939-1839772800-1839776400@tropicalartsbocas.com
SUMMARY:Mat pilates with Kristle
DESCRIPTION:Strong moves\, a little burn\, fun playlists\, and laughs. This is Krystle your Mat Pilates Teacher who somehow makes you laugh and sweat at the same time. Her classes gives you a little burn\, a lot of moves you didn’t think you could pull off\, and always a playlist that just hits right. She’s all about helping you surprise yourself\, feel good in your body\, and leave class glowing a little stronger (and happier) than when you came in. Basically? if you want pilates that feels fun\, not scary — Krystle’s your girl.
URL:https://tropicalartsbocas.com/event/mat-pilates-with-kristle/2028-04-19/
LOCATION:Fitness Studio
CATEGORIES:Pilates,Wellness & Fitness,Workshops & Classes
ATTACH;FMTTYPE=image/png:https://tropicalartsbocas.com/wp-content/uploads/2026/01/Screenshot-2026-01-28-135058.png
END:VEVENT
BEGIN:VEVENT
DTSTART;TZID=America/Panama:20280419T173000
DTEND;TZID=America/Panama:20280419T183000
DTSTAMP:20260424T143943
CREATED:20260128T182904Z
LAST-MODIFIED:20260128T182904Z
UID:10000388-1839778200-1839781800@tropicalartsbocas.com
SUMMARY:Vinyasa Flow Yoga
DESCRIPTION:This class blends seamless flow with functional mobility-focused movement. Expect a feel-good rhythm\, smart sequencing and options to meet you where you are\, you´ll leave feeling stronger\, softer and more at home in your body! \nCome as you are–you´re in good hands
URL:https://tropicalartsbocas.com/event/vinyasa-flow-yoga/2028-04-19/
LOCATION:Fitness Studio
CATEGORIES:Fitness Studio
ATTACH;FMTTYPE=image/png:https://tropicalartsbocas.com/wp-content/uploads/2026/01/Screenshot-2026-01-28-131919.png
END:VEVENT
BEGIN:VEVENT
DTSTART;TZID=America/Panama:20280421T173000
DTEND;TZID=America/Panama:20280421T183000
DTSTAMP:20260424T143943
CREATED:20260128T182904Z
LAST-MODIFIED:20260128T182904Z
UID:10000389-1839951000-1839954600@tropicalartsbocas.com
SUMMARY:Vinyasa Flow Yoga
DESCRIPTION:This class blends seamless flow with functional mobility-focused movement. Expect a feel-good rhythm\, smart sequencing and options to meet you where you are\, you´ll leave feeling stronger\, softer and more at home in your body! \nCome as you are–you´re in good hands
URL:https://tropicalartsbocas.com/event/vinyasa-flow-yoga/2028-04-21/
LOCATION:Fitness Studio
CATEGORIES:Fitness Studio
ATTACH;FMTTYPE=image/png:https://tropicalartsbocas.com/wp-content/uploads/2026/01/Screenshot-2026-01-28-131919.png
END:VEVENT
BEGIN:VEVENT
DTSTART;TZID=America/Panama:20280424T173000
DTEND;TZID=America/Panama:20280424T183000
DTSTAMP:20260424T143943
CREATED:20260128T182904Z
LAST-MODIFIED:20260128T182904Z
UID:10000390-1840210200-1840213800@tropicalartsbocas.com
SUMMARY:Vinyasa Flow Yoga
DESCRIPTION:This class blends seamless flow with functional mobility-focused movement. Expect a feel-good rhythm\, smart sequencing and options to meet you where you are\, you´ll leave feeling stronger\, softer and more at home in your body! \nCome as you are–you´re in good hands
URL:https://tropicalartsbocas.com/event/vinyasa-flow-yoga/2028-04-24/
LOCATION:Fitness Studio
CATEGORIES:Fitness Studio
ATTACH;FMTTYPE=image/png:https://tropicalartsbocas.com/wp-content/uploads/2026/01/Screenshot-2026-01-28-131919.png
END:VEVENT
BEGIN:VEVENT
DTSTART;TZID=America/Panama:20280426T160000
DTEND;TZID=America/Panama:20280426T170000
DTSTAMP:20260424T143943
CREATED:20260128T185942Z
LAST-MODIFIED:20260128T185942Z
UID:10000940-1840377600-1840381200@tropicalartsbocas.com
SUMMARY:Mat pilates with Kristle
DESCRIPTION:Strong moves\, a little burn\, fun playlists\, and laughs. This is Krystle your Mat Pilates Teacher who somehow makes you laugh and sweat at the same time. Her classes gives you a little burn\, a lot of moves you didn’t think you could pull off\, and always a playlist that just hits right. She’s all about helping you surprise yourself\, feel good in your body\, and leave class glowing a little stronger (and happier) than when you came in. Basically? if you want pilates that feels fun\, not scary — Krystle’s your girl.
URL:https://tropicalartsbocas.com/event/mat-pilates-with-kristle/2028-04-26/
LOCATION:Fitness Studio
CATEGORIES:Pilates,Wellness & Fitness,Workshops & Classes
ATTACH;FMTTYPE=image/png:https://tropicalartsbocas.com/wp-content/uploads/2026/01/Screenshot-2026-01-28-135058.png
END:VEVENT
BEGIN:VEVENT
DTSTART;TZID=America/Panama:20280426T173000
DTEND;TZID=America/Panama:20280426T183000
DTSTAMP:20260424T143943
CREATED:20260128T182904Z
LAST-MODIFIED:20260128T182904Z
UID:10000391-1840383000-1840386600@tropicalartsbocas.com
SUMMARY:Vinyasa Flow Yoga
DESCRIPTION:This class blends seamless flow with functional mobility-focused movement. Expect a feel-good rhythm\, smart sequencing and options to meet you where you are\, you´ll leave feeling stronger\, softer and more at home in your body! \nCome as you are–you´re in good hands
URL:https://tropicalartsbocas.com/event/vinyasa-flow-yoga/2028-04-26/
LOCATION:Fitness Studio
CATEGORIES:Fitness Studio
ATTACH;FMTTYPE=image/png:https://tropicalartsbocas.com/wp-content/uploads/2026/01/Screenshot-2026-01-28-131919.png
END:VEVENT
BEGIN:VEVENT
DTSTART;TZID=America/Panama:20280428T173000
DTEND;TZID=America/Panama:20280428T183000
DTSTAMP:20260424T143943
CREATED:20260128T182904Z
LAST-MODIFIED:20260128T182904Z
UID:10000392-1840555800-1840559400@tropicalartsbocas.com
SUMMARY:Vinyasa Flow Yoga
DESCRIPTION:This class blends seamless flow with functional mobility-focused movement. Expect a feel-good rhythm\, smart sequencing and options to meet you where you are\, you´ll leave feeling stronger\, softer and more at home in your body! \nCome as you are–you´re in good hands
URL:https://tropicalartsbocas.com/event/vinyasa-flow-yoga/2028-04-28/
LOCATION:Fitness Studio
CATEGORIES:Fitness Studio
ATTACH;FMTTYPE=image/png:https://tropicalartsbocas.com/wp-content/uploads/2026/01/Screenshot-2026-01-28-131919.png
END:VEVENT
BEGIN:VEVENT
DTSTART;TZID=America/Panama:20280501T173000
DTEND;TZID=America/Panama:20280501T183000
DTSTAMP:20260424T143943
CREATED:20260128T182904Z
LAST-MODIFIED:20260128T182904Z
UID:10000393-1840815000-1840818600@tropicalartsbocas.com
SUMMARY:Vinyasa Flow Yoga
DESCRIPTION:This class blends seamless flow with functional mobility-focused movement. Expect a feel-good rhythm\, smart sequencing and options to meet you where you are\, you´ll leave feeling stronger\, softer and more at home in your body! \nCome as you are–you´re in good hands
URL:https://tropicalartsbocas.com/event/vinyasa-flow-yoga/2028-05-01/
LOCATION:Fitness Studio
CATEGORIES:Fitness Studio
ATTACH;FMTTYPE=image/png:https://tropicalartsbocas.com/wp-content/uploads/2026/01/Screenshot-2026-01-28-131919.png
END:VEVENT
BEGIN:VEVENT
DTSTART;TZID=America/Panama:20280503T160000
DTEND;TZID=America/Panama:20280503T170000
DTSTAMP:20260424T143943
CREATED:20260128T185942Z
LAST-MODIFIED:20260128T185942Z
UID:10000941-1840982400-1840986000@tropicalartsbocas.com
SUMMARY:Mat pilates with Kristle
DESCRIPTION:Strong moves\, a little burn\, fun playlists\, and laughs. This is Krystle your Mat Pilates Teacher who somehow makes you laugh and sweat at the same time. Her classes gives you a little burn\, a lot of moves you didn’t think you could pull off\, and always a playlist that just hits right. She’s all about helping you surprise yourself\, feel good in your body\, and leave class glowing a little stronger (and happier) than when you came in. Basically? if you want pilates that feels fun\, not scary — Krystle’s your girl.
URL:https://tropicalartsbocas.com/event/mat-pilates-with-kristle/2028-05-03/
LOCATION:Fitness Studio
CATEGORIES:Pilates,Wellness & Fitness,Workshops & Classes
ATTACH;FMTTYPE=image/png:https://tropicalartsbocas.com/wp-content/uploads/2026/01/Screenshot-2026-01-28-135058.png
END:VEVENT
BEGIN:VEVENT
DTSTART;TZID=America/Panama:20280503T173000
DTEND;TZID=America/Panama:20280503T183000
DTSTAMP:20260424T143943
CREATED:20260128T182904Z
LAST-MODIFIED:20260128T182904Z
UID:10000394-1840987800-1840991400@tropicalartsbocas.com
SUMMARY:Vinyasa Flow Yoga
DESCRIPTION:This class blends seamless flow with functional mobility-focused movement. Expect a feel-good rhythm\, smart sequencing and options to meet you where you are\, you´ll leave feeling stronger\, softer and more at home in your body! \nCome as you are–you´re in good hands
URL:https://tropicalartsbocas.com/event/vinyasa-flow-yoga/2028-05-03/
LOCATION:Fitness Studio
CATEGORIES:Fitness Studio
ATTACH;FMTTYPE=image/png:https://tropicalartsbocas.com/wp-content/uploads/2026/01/Screenshot-2026-01-28-131919.png
END:VEVENT
BEGIN:VEVENT
DTSTART;TZID=America/Panama:20280505T173000
DTEND;TZID=America/Panama:20280505T183000
DTSTAMP:20260424T143943
CREATED:20260128T182904Z
LAST-MODIFIED:20260128T182904Z
UID:10000395-1841160600-1841164200@tropicalartsbocas.com
SUMMARY:Vinyasa Flow Yoga
DESCRIPTION:This class blends seamless flow with functional mobility-focused movement. Expect a feel-good rhythm\, smart sequencing and options to meet you where you are\, you´ll leave feeling stronger\, softer and more at home in your body! \nCome as you are–you´re in good hands
URL:https://tropicalartsbocas.com/event/vinyasa-flow-yoga/2028-05-05/
LOCATION:Fitness Studio
CATEGORIES:Fitness Studio
ATTACH;FMTTYPE=image/png:https://tropicalartsbocas.com/wp-content/uploads/2026/01/Screenshot-2026-01-28-131919.png
END:VEVENT
BEGIN:VEVENT
DTSTART;TZID=America/Panama:20280508T173000
DTEND;TZID=America/Panama:20280508T183000
DTSTAMP:20260424T143943
CREATED:20260128T182904Z
LAST-MODIFIED:20260128T182904Z
UID:10000396-1841419800-1841423400@tropicalartsbocas.com
SUMMARY:Vinyasa Flow Yoga
DESCRIPTION:This class blends seamless flow with functional mobility-focused movement. Expect a feel-good rhythm\, smart sequencing and options to meet you where you are\, you´ll leave feeling stronger\, softer and more at home in your body! \nCome as you are–you´re in good hands
URL:https://tropicalartsbocas.com/event/vinyasa-flow-yoga/2028-05-08/
LOCATION:Fitness Studio
CATEGORIES:Fitness Studio
ATTACH;FMTTYPE=image/png:https://tropicalartsbocas.com/wp-content/uploads/2026/01/Screenshot-2026-01-28-131919.png
END:VEVENT
BEGIN:VEVENT
DTSTART;TZID=America/Panama:20280510T160000
DTEND;TZID=America/Panama:20280510T170000
DTSTAMP:20260424T143943
CREATED:20260128T185942Z
LAST-MODIFIED:20260128T185942Z
UID:10000942-1841587200-1841590800@tropicalartsbocas.com
SUMMARY:Mat pilates with Kristle
DESCRIPTION:Strong moves\, a little burn\, fun playlists\, and laughs. This is Krystle your Mat Pilates Teacher who somehow makes you laugh and sweat at the same time. Her classes gives you a little burn\, a lot of moves you didn’t think you could pull off\, and always a playlist that just hits right. She’s all about helping you surprise yourself\, feel good in your body\, and leave class glowing a little stronger (and happier) than when you came in. Basically? if you want pilates that feels fun\, not scary — Krystle’s your girl.
URL:https://tropicalartsbocas.com/event/mat-pilates-with-kristle/2028-05-10/
LOCATION:Fitness Studio
CATEGORIES:Pilates,Wellness & Fitness,Workshops & Classes
ATTACH;FMTTYPE=image/png:https://tropicalartsbocas.com/wp-content/uploads/2026/01/Screenshot-2026-01-28-135058.png
END:VEVENT
BEGIN:VEVENT
DTSTART;TZID=America/Panama:20280510T173000
DTEND;TZID=America/Panama:20280510T183000
DTSTAMP:20260424T143943
CREATED:20260128T182904Z
LAST-MODIFIED:20260128T182904Z
UID:10000397-1841592600-1841596200@tropicalartsbocas.com
SUMMARY:Vinyasa Flow Yoga
DESCRIPTION:This class blends seamless flow with functional mobility-focused movement. Expect a feel-good rhythm\, smart sequencing and options to meet you where you are\, you´ll leave feeling stronger\, softer and more at home in your body! \nCome as you are–you´re in good hands
URL:https://tropicalartsbocas.com/event/vinyasa-flow-yoga/2028-05-10/
LOCATION:Fitness Studio
CATEGORIES:Fitness Studio
ATTACH;FMTTYPE=image/png:https://tropicalartsbocas.com/wp-content/uploads/2026/01/Screenshot-2026-01-28-131919.png
END:VEVENT
BEGIN:VEVENT
DTSTART;TZID=America/Panama:20280512T173000
DTEND;TZID=America/Panama:20280512T183000
DTSTAMP:20260424T143943
CREATED:20260128T182904Z
LAST-MODIFIED:20260128T182904Z
UID:10000398-1841765400-1841769000@tropicalartsbocas.com
SUMMARY:Vinyasa Flow Yoga
DESCRIPTION:This class blends seamless flow with functional mobility-focused movement. Expect a feel-good rhythm\, smart sequencing and options to meet you where you are\, you´ll leave feeling stronger\, softer and more at home in your body! \nCome as you are–you´re in good hands
URL:https://tropicalartsbocas.com/event/vinyasa-flow-yoga/2028-05-12/
LOCATION:Fitness Studio
CATEGORIES:Fitness Studio
ATTACH;FMTTYPE=image/png:https://tropicalartsbocas.com/wp-content/uploads/2026/01/Screenshot-2026-01-28-131919.png
END:VEVENT
BEGIN:VEVENT
DTSTART;TZID=America/Panama:20280515T173000
DTEND;TZID=America/Panama:20280515T183000
DTSTAMP:20260424T143943
CREATED:20260128T182904Z
LAST-MODIFIED:20260128T182904Z
UID:10000399-1842024600-1842028200@tropicalartsbocas.com
SUMMARY:Vinyasa Flow Yoga
DESCRIPTION:This class blends seamless flow with functional mobility-focused movement. Expect a feel-good rhythm\, smart sequencing and options to meet you where you are\, you´ll leave feeling stronger\, softer and more at home in your body! \nCome as you are–you´re in good hands
URL:https://tropicalartsbocas.com/event/vinyasa-flow-yoga/2028-05-15/
LOCATION:Fitness Studio
CATEGORIES:Fitness Studio
ATTACH;FMTTYPE=image/png:https://tropicalartsbocas.com/wp-content/uploads/2026/01/Screenshot-2026-01-28-131919.png
END:VEVENT
BEGIN:VEVENT
DTSTART;TZID=America/Panama:20280517T160000
DTEND;TZID=America/Panama:20280517T170000
DTSTAMP:20260424T143943
CREATED:20260128T185942Z
LAST-MODIFIED:20260128T185942Z
UID:10000943-1842192000-1842195600@tropicalartsbocas.com
SUMMARY:Mat pilates with Kristle
DESCRIPTION:Strong moves\, a little burn\, fun playlists\, and laughs. This is Krystle your Mat Pilates Teacher who somehow makes you laugh and sweat at the same time. Her classes gives you a little burn\, a lot of moves you didn’t think you could pull off\, and always a playlist that just hits right. She’s all about helping you surprise yourself\, feel good in your body\, and leave class glowing a little stronger (and happier) than when you came in. Basically? if you want pilates that feels fun\, not scary — Krystle’s your girl.
URL:https://tropicalartsbocas.com/event/mat-pilates-with-kristle/2028-05-17/
LOCATION:Fitness Studio
CATEGORIES:Pilates,Wellness & Fitness,Workshops & Classes
ATTACH;FMTTYPE=image/png:https://tropicalartsbocas.com/wp-content/uploads/2026/01/Screenshot-2026-01-28-135058.png
END:VEVENT
BEGIN:VEVENT
DTSTART;TZID=America/Panama:20280517T173000
DTEND;TZID=America/Panama:20280517T183000
DTSTAMP:20260424T143943
CREATED:20260128T182904Z
LAST-MODIFIED:20260128T182904Z
UID:10000400-1842197400-1842201000@tropicalartsbocas.com
SUMMARY:Vinyasa Flow Yoga
DESCRIPTION:This class blends seamless flow with functional mobility-focused movement. Expect a feel-good rhythm\, smart sequencing and options to meet you where you are\, you´ll leave feeling stronger\, softer and more at home in your body! \nCome as you are–you´re in good hands
URL:https://tropicalartsbocas.com/event/vinyasa-flow-yoga/2028-05-17/
LOCATION:Fitness Studio
CATEGORIES:Fitness Studio
ATTACH;FMTTYPE=image/png:https://tropicalartsbocas.com/wp-content/uploads/2026/01/Screenshot-2026-01-28-131919.png
END:VEVENT
BEGIN:VEVENT
DTSTART;TZID=America/Panama:20280519T173000
DTEND;TZID=America/Panama:20280519T183000
DTSTAMP:20260424T143943
CREATED:20260128T182904Z
LAST-MODIFIED:20260128T182904Z
UID:10000401-1842370200-1842373800@tropicalartsbocas.com
SUMMARY:Vinyasa Flow Yoga
DESCRIPTION:This class blends seamless flow with functional mobility-focused movement. Expect a feel-good rhythm\, smart sequencing and options to meet you where you are\, you´ll leave feeling stronger\, softer and more at home in your body! \nCome as you are–you´re in good hands
URL:https://tropicalartsbocas.com/event/vinyasa-flow-yoga/2028-05-19/
LOCATION:Fitness Studio
CATEGORIES:Fitness Studio
ATTACH;FMTTYPE=image/png:https://tropicalartsbocas.com/wp-content/uploads/2026/01/Screenshot-2026-01-28-131919.png
END:VEVENT
BEGIN:VEVENT
DTSTART;TZID=America/Panama:20280522T173000
DTEND;TZID=America/Panama:20280522T183000
DTSTAMP:20260424T143943
CREATED:20260128T182904Z
LAST-MODIFIED:20260128T182904Z
UID:10000402-1842629400-1842633000@tropicalartsbocas.com
SUMMARY:Vinyasa Flow Yoga
DESCRIPTION:This class blends seamless flow with functional mobility-focused movement. Expect a feel-good rhythm\, smart sequencing and options to meet you where you are\, you´ll leave feeling stronger\, softer and more at home in your body! \nCome as you are–you´re in good hands
URL:https://tropicalartsbocas.com/event/vinyasa-flow-yoga/2028-05-22/
LOCATION:Fitness Studio
CATEGORIES:Fitness Studio
ATTACH;FMTTYPE=image/png:https://tropicalartsbocas.com/wp-content/uploads/2026/01/Screenshot-2026-01-28-131919.png
END:VEVENT
BEGIN:VEVENT
DTSTART;TZID=America/Panama:20280524T160000
DTEND;TZID=America/Panama:20280524T170000
DTSTAMP:20260424T143943
CREATED:20260128T185942Z
LAST-MODIFIED:20260128T185942Z
UID:10000944-1842796800-1842800400@tropicalartsbocas.com
SUMMARY:Mat pilates with Kristle
DESCRIPTION:Strong moves\, a little burn\, fun playlists\, and laughs. This is Krystle your Mat Pilates Teacher who somehow makes you laugh and sweat at the same time. Her classes gives you a little burn\, a lot of moves you didn’t think you could pull off\, and always a playlist that just hits right. She’s all about helping you surprise yourself\, feel good in your body\, and leave class glowing a little stronger (and happier) than when you came in. Basically? if you want pilates that feels fun\, not scary — Krystle’s your girl.
URL:https://tropicalartsbocas.com/event/mat-pilates-with-kristle/2028-05-24/
LOCATION:Fitness Studio
CATEGORIES:Pilates,Wellness & Fitness,Workshops & Classes
ATTACH;FMTTYPE=image/png:https://tropicalartsbocas.com/wp-content/uploads/2026/01/Screenshot-2026-01-28-135058.png
END:VEVENT
BEGIN:VEVENT
DTSTART;TZID=America/Panama:20280524T173000
DTEND;TZID=America/Panama:20280524T183000
DTSTAMP:20260424T143943
CREATED:20260128T182904Z
LAST-MODIFIED:20260128T182904Z
UID:10000403-1842802200-1842805800@tropicalartsbocas.com
SUMMARY:Vinyasa Flow Yoga
DESCRIPTION:This class blends seamless flow with functional mobility-focused movement. Expect a feel-good rhythm\, smart sequencing and options to meet you where you are\, you´ll leave feeling stronger\, softer and more at home in your body! \nCome as you are–you´re in good hands
URL:https://tropicalartsbocas.com/event/vinyasa-flow-yoga/2028-05-24/
LOCATION:Fitness Studio
CATEGORIES:Fitness Studio
ATTACH;FMTTYPE=image/png:https://tropicalartsbocas.com/wp-content/uploads/2026/01/Screenshot-2026-01-28-131919.png
END:VEVENT
BEGIN:VEVENT
DTSTART;TZID=America/Panama:20280526T173000
DTEND;TZID=America/Panama:20280526T183000
DTSTAMP:20260424T143943
CREATED:20260128T182904Z
LAST-MODIFIED:20260128T182904Z
UID:10000404-1842975000-1842978600@tropicalartsbocas.com
SUMMARY:Vinyasa Flow Yoga
DESCRIPTION:This class blends seamless flow with functional mobility-focused movement. Expect a feel-good rhythm\, smart sequencing and options to meet you where you are\, you´ll leave feeling stronger\, softer and more at home in your body! \nCome as you are–you´re in good hands
URL:https://tropicalartsbocas.com/event/vinyasa-flow-yoga/2028-05-26/
LOCATION:Fitness Studio
CATEGORIES:Fitness Studio
ATTACH;FMTTYPE=image/png:https://tropicalartsbocas.com/wp-content/uploads/2026/01/Screenshot-2026-01-28-131919.png
END:VEVENT
BEGIN:VEVENT
DTSTART;TZID=America/Panama:20280529T173000
DTEND;TZID=America/Panama:20280529T183000
DTSTAMP:20260424T143943
CREATED:20260128T182904Z
LAST-MODIFIED:20260128T182904Z
UID:10000405-1843234200-1843237800@tropicalartsbocas.com
SUMMARY:Vinyasa Flow Yoga
DESCRIPTION:This class blends seamless flow with functional mobility-focused movement. Expect a feel-good rhythm\, smart sequencing and options to meet you where you are\, you´ll leave feeling stronger\, softer and more at home in your body! \nCome as you are–you´re in good hands
URL:https://tropicalartsbocas.com/event/vinyasa-flow-yoga/2028-05-29/
LOCATION:Fitness Studio
CATEGORIES:Fitness Studio
ATTACH;FMTTYPE=image/png:https://tropicalartsbocas.com/wp-content/uploads/2026/01/Screenshot-2026-01-28-131919.png
END:VEVENT
END:VCALENDAR