BEGIN:VCALENDAR
VERSION:2.0
PRODID:-//TropicalArts Resort and Studios | Bocas del Toro, Panama - ECPv6.15.14//NONSGML v1.0//EN
CALSCALE:GREGORIAN
METHOD:PUBLISH
X-WR-CALNAME:TropicalArts Resort and Studios | Bocas del Toro, Panama
X-ORIGINAL-URL:https://tropicalartsbocas.com
X-WR-CALDESC:Events for TropicalArts Resort and Studios | Bocas del Toro, Panama
REFRESH-INTERVAL;VALUE=DURATION:PT1H
X-Robots-Tag:noindex
X-PUBLISHED-TTL:PT1H
BEGIN:VTIMEZONE
TZID:America/Panama
BEGIN:STANDARD
TZOFFSETFROM:-0500
TZOFFSETTO:-0500
TZNAME:EST
DTSTART:20260101T000000
END:STANDARD
END:VTIMEZONE
BEGIN:VEVENT
DTSTART;TZID=America/Panama:20271224T173000
DTEND;TZID=America/Panama:20271224T183000
DTSTAMP:20260424T052514
CREATED:20260128T182904Z
LAST-MODIFIED:20260128T182904Z
UID:10000338-1829669400-1829673000@tropicalartsbocas.com
SUMMARY:Vinyasa Flow Yoga
DESCRIPTION:This class blends seamless flow with functional mobility-focused movement. Expect a feel-good rhythm\, smart sequencing and options to meet you where you are\, you´ll leave feeling stronger\, softer and more at home in your body! \nCome as you are–you´re in good hands
URL:https://tropicalartsbocas.com/event/vinyasa-flow-yoga/2027-12-24/
LOCATION:Fitness Studio
CATEGORIES:Fitness Studio
ATTACH;FMTTYPE=image/png:https://tropicalartsbocas.com/wp-content/uploads/2026/01/Screenshot-2026-01-28-131919.png
END:VEVENT
BEGIN:VEVENT
DTSTART;TZID=America/Panama:20271227T173000
DTEND;TZID=America/Panama:20271227T183000
DTSTAMP:20260424T052514
CREATED:20260128T182904Z
LAST-MODIFIED:20260128T182904Z
UID:10000339-1829928600-1829932200@tropicalartsbocas.com
SUMMARY:Vinyasa Flow Yoga
DESCRIPTION:This class blends seamless flow with functional mobility-focused movement. Expect a feel-good rhythm\, smart sequencing and options to meet you where you are\, you´ll leave feeling stronger\, softer and more at home in your body! \nCome as you are–you´re in good hands
URL:https://tropicalartsbocas.com/event/vinyasa-flow-yoga/2027-12-27/
LOCATION:Fitness Studio
CATEGORIES:Fitness Studio
ATTACH;FMTTYPE=image/png:https://tropicalartsbocas.com/wp-content/uploads/2026/01/Screenshot-2026-01-28-131919.png
END:VEVENT
BEGIN:VEVENT
DTSTART;TZID=America/Panama:20271229T160000
DTEND;TZID=America/Panama:20271229T170000
DTSTAMP:20260424T052514
CREATED:20260128T185942Z
LAST-MODIFIED:20260128T185942Z
UID:10000923-1830096000-1830099600@tropicalartsbocas.com
SUMMARY:Mat pilates with Kristle
DESCRIPTION:Strong moves\, a little burn\, fun playlists\, and laughs. This is Krystle your Mat Pilates Teacher who somehow makes you laugh and sweat at the same time. Her classes gives you a little burn\, a lot of moves you didn’t think you could pull off\, and always a playlist that just hits right. She’s all about helping you surprise yourself\, feel good in your body\, and leave class glowing a little stronger (and happier) than when you came in. Basically? if you want pilates that feels fun\, not scary — Krystle’s your girl.
URL:https://tropicalartsbocas.com/event/mat-pilates-with-kristle/2027-12-29/
LOCATION:Fitness Studio
CATEGORIES:Pilates,Wellness & Fitness,Workshops & Classes
ATTACH;FMTTYPE=image/png:https://tropicalartsbocas.com/wp-content/uploads/2026/01/Screenshot-2026-01-28-135058.png
END:VEVENT
BEGIN:VEVENT
DTSTART;TZID=America/Panama:20271229T173000
DTEND;TZID=America/Panama:20271229T183000
DTSTAMP:20260424T052514
CREATED:20260128T182904Z
LAST-MODIFIED:20260128T182904Z
UID:10000340-1830101400-1830105000@tropicalartsbocas.com
SUMMARY:Vinyasa Flow Yoga
DESCRIPTION:This class blends seamless flow with functional mobility-focused movement. Expect a feel-good rhythm\, smart sequencing and options to meet you where you are\, you´ll leave feeling stronger\, softer and more at home in your body! \nCome as you are–you´re in good hands
URL:https://tropicalartsbocas.com/event/vinyasa-flow-yoga/2027-12-29/
LOCATION:Fitness Studio
CATEGORIES:Fitness Studio
ATTACH;FMTTYPE=image/png:https://tropicalartsbocas.com/wp-content/uploads/2026/01/Screenshot-2026-01-28-131919.png
END:VEVENT
BEGIN:VEVENT
DTSTART;TZID=America/Panama:20271231T173000
DTEND;TZID=America/Panama:20271231T183000
DTSTAMP:20260424T052514
CREATED:20260128T182904Z
LAST-MODIFIED:20260128T182904Z
UID:10000341-1830274200-1830277800@tropicalartsbocas.com
SUMMARY:Vinyasa Flow Yoga
DESCRIPTION:This class blends seamless flow with functional mobility-focused movement. Expect a feel-good rhythm\, smart sequencing and options to meet you where you are\, you´ll leave feeling stronger\, softer and more at home in your body! \nCome as you are–you´re in good hands
URL:https://tropicalartsbocas.com/event/vinyasa-flow-yoga/2027-12-31/
LOCATION:Fitness Studio
CATEGORIES:Fitness Studio
ATTACH;FMTTYPE=image/png:https://tropicalartsbocas.com/wp-content/uploads/2026/01/Screenshot-2026-01-28-131919.png
END:VEVENT
BEGIN:VEVENT
DTSTART;TZID=America/Panama:20280103T173000
DTEND;TZID=America/Panama:20280103T183000
DTSTAMP:20260424T052514
CREATED:20260128T182904Z
LAST-MODIFIED:20260128T182904Z
UID:10000342-1830533400-1830537000@tropicalartsbocas.com
SUMMARY:Vinyasa Flow Yoga
DESCRIPTION:This class blends seamless flow with functional mobility-focused movement. Expect a feel-good rhythm\, smart sequencing and options to meet you where you are\, you´ll leave feeling stronger\, softer and more at home in your body! \nCome as you are–you´re in good hands
URL:https://tropicalartsbocas.com/event/vinyasa-flow-yoga/2028-01-03/
LOCATION:Fitness Studio
CATEGORIES:Fitness Studio
ATTACH;FMTTYPE=image/png:https://tropicalartsbocas.com/wp-content/uploads/2026/01/Screenshot-2026-01-28-131919.png
END:VEVENT
BEGIN:VEVENT
DTSTART;TZID=America/Panama:20280105T160000
DTEND;TZID=America/Panama:20280105T170000
DTSTAMP:20260424T052514
CREATED:20260128T185942Z
LAST-MODIFIED:20260128T185942Z
UID:10000924-1830700800-1830704400@tropicalartsbocas.com
SUMMARY:Mat pilates with Kristle
DESCRIPTION:Strong moves\, a little burn\, fun playlists\, and laughs. This is Krystle your Mat Pilates Teacher who somehow makes you laugh and sweat at the same time. Her classes gives you a little burn\, a lot of moves you didn’t think you could pull off\, and always a playlist that just hits right. She’s all about helping you surprise yourself\, feel good in your body\, and leave class glowing a little stronger (and happier) than when you came in. Basically? if you want pilates that feels fun\, not scary — Krystle’s your girl.
URL:https://tropicalartsbocas.com/event/mat-pilates-with-kristle/2028-01-05/
LOCATION:Fitness Studio
CATEGORIES:Pilates,Wellness & Fitness,Workshops & Classes
ATTACH;FMTTYPE=image/png:https://tropicalartsbocas.com/wp-content/uploads/2026/01/Screenshot-2026-01-28-135058.png
END:VEVENT
BEGIN:VEVENT
DTSTART;TZID=America/Panama:20280105T173000
DTEND;TZID=America/Panama:20280105T183000
DTSTAMP:20260424T052514
CREATED:20260128T182904Z
LAST-MODIFIED:20260128T182904Z
UID:10000343-1830706200-1830709800@tropicalartsbocas.com
SUMMARY:Vinyasa Flow Yoga
DESCRIPTION:This class blends seamless flow with functional mobility-focused movement. Expect a feel-good rhythm\, smart sequencing and options to meet you where you are\, you´ll leave feeling stronger\, softer and more at home in your body! \nCome as you are–you´re in good hands
URL:https://tropicalartsbocas.com/event/vinyasa-flow-yoga/2028-01-05/
LOCATION:Fitness Studio
CATEGORIES:Fitness Studio
ATTACH;FMTTYPE=image/png:https://tropicalartsbocas.com/wp-content/uploads/2026/01/Screenshot-2026-01-28-131919.png
END:VEVENT
BEGIN:VEVENT
DTSTART;TZID=America/Panama:20280107T173000
DTEND;TZID=America/Panama:20280107T183000
DTSTAMP:20260424T052514
CREATED:20260128T182904Z
LAST-MODIFIED:20260128T182904Z
UID:10000344-1830879000-1830882600@tropicalartsbocas.com
SUMMARY:Vinyasa Flow Yoga
DESCRIPTION:This class blends seamless flow with functional mobility-focused movement. Expect a feel-good rhythm\, smart sequencing and options to meet you where you are\, you´ll leave feeling stronger\, softer and more at home in your body! \nCome as you are–you´re in good hands
URL:https://tropicalartsbocas.com/event/vinyasa-flow-yoga/2028-01-07/
LOCATION:Fitness Studio
CATEGORIES:Fitness Studio
ATTACH;FMTTYPE=image/png:https://tropicalartsbocas.com/wp-content/uploads/2026/01/Screenshot-2026-01-28-131919.png
END:VEVENT
BEGIN:VEVENT
DTSTART;TZID=America/Panama:20280110T173000
DTEND;TZID=America/Panama:20280110T183000
DTSTAMP:20260424T052514
CREATED:20260128T182904Z
LAST-MODIFIED:20260128T182904Z
UID:10000345-1831138200-1831141800@tropicalartsbocas.com
SUMMARY:Vinyasa Flow Yoga
DESCRIPTION:This class blends seamless flow with functional mobility-focused movement. Expect a feel-good rhythm\, smart sequencing and options to meet you where you are\, you´ll leave feeling stronger\, softer and more at home in your body! \nCome as you are–you´re in good hands
URL:https://tropicalartsbocas.com/event/vinyasa-flow-yoga/2028-01-10/
LOCATION:Fitness Studio
CATEGORIES:Fitness Studio
ATTACH;FMTTYPE=image/png:https://tropicalartsbocas.com/wp-content/uploads/2026/01/Screenshot-2026-01-28-131919.png
END:VEVENT
BEGIN:VEVENT
DTSTART;TZID=America/Panama:20280112T160000
DTEND;TZID=America/Panama:20280112T170000
DTSTAMP:20260424T052514
CREATED:20260128T185942Z
LAST-MODIFIED:20260128T185942Z
UID:10000925-1831305600-1831309200@tropicalartsbocas.com
SUMMARY:Mat pilates with Kristle
DESCRIPTION:Strong moves\, a little burn\, fun playlists\, and laughs. This is Krystle your Mat Pilates Teacher who somehow makes you laugh and sweat at the same time. Her classes gives you a little burn\, a lot of moves you didn’t think you could pull off\, and always a playlist that just hits right. She’s all about helping you surprise yourself\, feel good in your body\, and leave class glowing a little stronger (and happier) than when you came in. Basically? if you want pilates that feels fun\, not scary — Krystle’s your girl.
URL:https://tropicalartsbocas.com/event/mat-pilates-with-kristle/2028-01-12/
LOCATION:Fitness Studio
CATEGORIES:Pilates,Wellness & Fitness,Workshops & Classes
ATTACH;FMTTYPE=image/png:https://tropicalartsbocas.com/wp-content/uploads/2026/01/Screenshot-2026-01-28-135058.png
END:VEVENT
BEGIN:VEVENT
DTSTART;TZID=America/Panama:20280112T173000
DTEND;TZID=America/Panama:20280112T183000
DTSTAMP:20260424T052514
CREATED:20260128T182904Z
LAST-MODIFIED:20260128T182904Z
UID:10000346-1831311000-1831314600@tropicalartsbocas.com
SUMMARY:Vinyasa Flow Yoga
DESCRIPTION:This class blends seamless flow with functional mobility-focused movement. Expect a feel-good rhythm\, smart sequencing and options to meet you where you are\, you´ll leave feeling stronger\, softer and more at home in your body! \nCome as you are–you´re in good hands
URL:https://tropicalartsbocas.com/event/vinyasa-flow-yoga/2028-01-12/
LOCATION:Fitness Studio
CATEGORIES:Fitness Studio
ATTACH;FMTTYPE=image/png:https://tropicalartsbocas.com/wp-content/uploads/2026/01/Screenshot-2026-01-28-131919.png
END:VEVENT
BEGIN:VEVENT
DTSTART;TZID=America/Panama:20280114T173000
DTEND;TZID=America/Panama:20280114T183000
DTSTAMP:20260424T052514
CREATED:20260128T182904Z
LAST-MODIFIED:20260128T182904Z
UID:10000347-1831483800-1831487400@tropicalartsbocas.com
SUMMARY:Vinyasa Flow Yoga
DESCRIPTION:This class blends seamless flow with functional mobility-focused movement. Expect a feel-good rhythm\, smart sequencing and options to meet you where you are\, you´ll leave feeling stronger\, softer and more at home in your body! \nCome as you are–you´re in good hands
URL:https://tropicalartsbocas.com/event/vinyasa-flow-yoga/2028-01-14/
LOCATION:Fitness Studio
CATEGORIES:Fitness Studio
ATTACH;FMTTYPE=image/png:https://tropicalartsbocas.com/wp-content/uploads/2026/01/Screenshot-2026-01-28-131919.png
END:VEVENT
BEGIN:VEVENT
DTSTART;TZID=America/Panama:20280117T173000
DTEND;TZID=America/Panama:20280117T183000
DTSTAMP:20260424T052514
CREATED:20260128T182904Z
LAST-MODIFIED:20260128T182904Z
UID:10000348-1831743000-1831746600@tropicalartsbocas.com
SUMMARY:Vinyasa Flow Yoga
DESCRIPTION:This class blends seamless flow with functional mobility-focused movement. Expect a feel-good rhythm\, smart sequencing and options to meet you where you are\, you´ll leave feeling stronger\, softer and more at home in your body! \nCome as you are–you´re in good hands
URL:https://tropicalartsbocas.com/event/vinyasa-flow-yoga/2028-01-17/
LOCATION:Fitness Studio
CATEGORIES:Fitness Studio
ATTACH;FMTTYPE=image/png:https://tropicalartsbocas.com/wp-content/uploads/2026/01/Screenshot-2026-01-28-131919.png
END:VEVENT
BEGIN:VEVENT
DTSTART;TZID=America/Panama:20280119T160000
DTEND;TZID=America/Panama:20280119T170000
DTSTAMP:20260424T052514
CREATED:20260128T185942Z
LAST-MODIFIED:20260128T185942Z
UID:10000926-1831910400-1831914000@tropicalartsbocas.com
SUMMARY:Mat pilates with Kristle
DESCRIPTION:Strong moves\, a little burn\, fun playlists\, and laughs. This is Krystle your Mat Pilates Teacher who somehow makes you laugh and sweat at the same time. Her classes gives you a little burn\, a lot of moves you didn’t think you could pull off\, and always a playlist that just hits right. She’s all about helping you surprise yourself\, feel good in your body\, and leave class glowing a little stronger (and happier) than when you came in. Basically? if you want pilates that feels fun\, not scary — Krystle’s your girl.
URL:https://tropicalartsbocas.com/event/mat-pilates-with-kristle/2028-01-19/
LOCATION:Fitness Studio
CATEGORIES:Pilates,Wellness & Fitness,Workshops & Classes
ATTACH;FMTTYPE=image/png:https://tropicalartsbocas.com/wp-content/uploads/2026/01/Screenshot-2026-01-28-135058.png
END:VEVENT
BEGIN:VEVENT
DTSTART;TZID=America/Panama:20280119T173000
DTEND;TZID=America/Panama:20280119T183000
DTSTAMP:20260424T052514
CREATED:20260128T182904Z
LAST-MODIFIED:20260128T182904Z
UID:10000349-1831915800-1831919400@tropicalartsbocas.com
SUMMARY:Vinyasa Flow Yoga
DESCRIPTION:This class blends seamless flow with functional mobility-focused movement. Expect a feel-good rhythm\, smart sequencing and options to meet you where you are\, you´ll leave feeling stronger\, softer and more at home in your body! \nCome as you are–you´re in good hands
URL:https://tropicalartsbocas.com/event/vinyasa-flow-yoga/2028-01-19/
LOCATION:Fitness Studio
CATEGORIES:Fitness Studio
ATTACH;FMTTYPE=image/png:https://tropicalartsbocas.com/wp-content/uploads/2026/01/Screenshot-2026-01-28-131919.png
END:VEVENT
BEGIN:VEVENT
DTSTART;TZID=America/Panama:20280121T173000
DTEND;TZID=America/Panama:20280121T183000
DTSTAMP:20260424T052514
CREATED:20260128T182904Z
LAST-MODIFIED:20260128T182904Z
UID:10000350-1832088600-1832092200@tropicalartsbocas.com
SUMMARY:Vinyasa Flow Yoga
DESCRIPTION:This class blends seamless flow with functional mobility-focused movement. Expect a feel-good rhythm\, smart sequencing and options to meet you where you are\, you´ll leave feeling stronger\, softer and more at home in your body! \nCome as you are–you´re in good hands
URL:https://tropicalartsbocas.com/event/vinyasa-flow-yoga/2028-01-21/
LOCATION:Fitness Studio
CATEGORIES:Fitness Studio
ATTACH;FMTTYPE=image/png:https://tropicalartsbocas.com/wp-content/uploads/2026/01/Screenshot-2026-01-28-131919.png
END:VEVENT
BEGIN:VEVENT
DTSTART;TZID=America/Panama:20280124T173000
DTEND;TZID=America/Panama:20280124T183000
DTSTAMP:20260424T052514
CREATED:20260128T182904Z
LAST-MODIFIED:20260128T182904Z
UID:10000351-1832347800-1832351400@tropicalartsbocas.com
SUMMARY:Vinyasa Flow Yoga
DESCRIPTION:This class blends seamless flow with functional mobility-focused movement. Expect a feel-good rhythm\, smart sequencing and options to meet you where you are\, you´ll leave feeling stronger\, softer and more at home in your body! \nCome as you are–you´re in good hands
URL:https://tropicalartsbocas.com/event/vinyasa-flow-yoga/2028-01-24/
LOCATION:Fitness Studio
CATEGORIES:Fitness Studio
ATTACH;FMTTYPE=image/png:https://tropicalartsbocas.com/wp-content/uploads/2026/01/Screenshot-2026-01-28-131919.png
END:VEVENT
BEGIN:VEVENT
DTSTART;TZID=America/Panama:20280126T160000
DTEND;TZID=America/Panama:20280126T170000
DTSTAMP:20260424T052514
CREATED:20260128T185942Z
LAST-MODIFIED:20260128T185942Z
UID:10000927-1832515200-1832518800@tropicalartsbocas.com
SUMMARY:Mat pilates with Kristle
DESCRIPTION:Strong moves\, a little burn\, fun playlists\, and laughs. This is Krystle your Mat Pilates Teacher who somehow makes you laugh and sweat at the same time. Her classes gives you a little burn\, a lot of moves you didn’t think you could pull off\, and always a playlist that just hits right. She’s all about helping you surprise yourself\, feel good in your body\, and leave class glowing a little stronger (and happier) than when you came in. Basically? if you want pilates that feels fun\, not scary — Krystle’s your girl.
URL:https://tropicalartsbocas.com/event/mat-pilates-with-kristle/2028-01-26/
LOCATION:Fitness Studio
CATEGORIES:Pilates,Wellness & Fitness,Workshops & Classes
ATTACH;FMTTYPE=image/png:https://tropicalartsbocas.com/wp-content/uploads/2026/01/Screenshot-2026-01-28-135058.png
END:VEVENT
BEGIN:VEVENT
DTSTART;TZID=America/Panama:20280126T173000
DTEND;TZID=America/Panama:20280126T183000
DTSTAMP:20260424T052514
CREATED:20260128T182904Z
LAST-MODIFIED:20260128T182904Z
UID:10000352-1832520600-1832524200@tropicalartsbocas.com
SUMMARY:Vinyasa Flow Yoga
DESCRIPTION:This class blends seamless flow with functional mobility-focused movement. Expect a feel-good rhythm\, smart sequencing and options to meet you where you are\, you´ll leave feeling stronger\, softer and more at home in your body! \nCome as you are–you´re in good hands
URL:https://tropicalartsbocas.com/event/vinyasa-flow-yoga/2028-01-26/
LOCATION:Fitness Studio
CATEGORIES:Fitness Studio
ATTACH;FMTTYPE=image/png:https://tropicalartsbocas.com/wp-content/uploads/2026/01/Screenshot-2026-01-28-131919.png
END:VEVENT
BEGIN:VEVENT
DTSTART;TZID=America/Panama:20280128T173000
DTEND;TZID=America/Panama:20280128T183000
DTSTAMP:20260424T052514
CREATED:20260128T182904Z
LAST-MODIFIED:20260128T182904Z
UID:10000353-1832693400-1832697000@tropicalartsbocas.com
SUMMARY:Vinyasa Flow Yoga
DESCRIPTION:This class blends seamless flow with functional mobility-focused movement. Expect a feel-good rhythm\, smart sequencing and options to meet you where you are\, you´ll leave feeling stronger\, softer and more at home in your body! \nCome as you are–you´re in good hands
URL:https://tropicalartsbocas.com/event/vinyasa-flow-yoga/2028-01-28/
LOCATION:Fitness Studio
CATEGORIES:Fitness Studio
ATTACH;FMTTYPE=image/png:https://tropicalartsbocas.com/wp-content/uploads/2026/01/Screenshot-2026-01-28-131919.png
END:VEVENT
BEGIN:VEVENT
DTSTART;TZID=America/Panama:20280131T173000
DTEND;TZID=America/Panama:20280131T183000
DTSTAMP:20260424T052514
CREATED:20260128T182904Z
LAST-MODIFIED:20260128T182904Z
UID:10000354-1832952600-1832956200@tropicalartsbocas.com
SUMMARY:Vinyasa Flow Yoga
DESCRIPTION:This class blends seamless flow with functional mobility-focused movement. Expect a feel-good rhythm\, smart sequencing and options to meet you where you are\, you´ll leave feeling stronger\, softer and more at home in your body! \nCome as you are–you´re in good hands
URL:https://tropicalartsbocas.com/event/vinyasa-flow-yoga/2028-01-31/
LOCATION:Fitness Studio
CATEGORIES:Fitness Studio
ATTACH;FMTTYPE=image/png:https://tropicalartsbocas.com/wp-content/uploads/2026/01/Screenshot-2026-01-28-131919.png
END:VEVENT
BEGIN:VEVENT
DTSTART;TZID=America/Panama:20280202T160000
DTEND;TZID=America/Panama:20280202T170000
DTSTAMP:20260424T052514
CREATED:20260128T185942Z
LAST-MODIFIED:20260128T185942Z
UID:10000928-1833120000-1833123600@tropicalartsbocas.com
SUMMARY:Mat pilates with Kristle
DESCRIPTION:Strong moves\, a little burn\, fun playlists\, and laughs. This is Krystle your Mat Pilates Teacher who somehow makes you laugh and sweat at the same time. Her classes gives you a little burn\, a lot of moves you didn’t think you could pull off\, and always a playlist that just hits right. She’s all about helping you surprise yourself\, feel good in your body\, and leave class glowing a little stronger (and happier) than when you came in. Basically? if you want pilates that feels fun\, not scary — Krystle’s your girl.
URL:https://tropicalartsbocas.com/event/mat-pilates-with-kristle/2028-02-02/
LOCATION:Fitness Studio
CATEGORIES:Pilates,Wellness & Fitness,Workshops & Classes
ATTACH;FMTTYPE=image/png:https://tropicalartsbocas.com/wp-content/uploads/2026/01/Screenshot-2026-01-28-135058.png
END:VEVENT
BEGIN:VEVENT
DTSTART;TZID=America/Panama:20280202T173000
DTEND;TZID=America/Panama:20280202T183000
DTSTAMP:20260424T052514
CREATED:20260128T182904Z
LAST-MODIFIED:20260128T182904Z
UID:10000355-1833125400-1833129000@tropicalartsbocas.com
SUMMARY:Vinyasa Flow Yoga
DESCRIPTION:This class blends seamless flow with functional mobility-focused movement. Expect a feel-good rhythm\, smart sequencing and options to meet you where you are\, you´ll leave feeling stronger\, softer and more at home in your body! \nCome as you are–you´re in good hands
URL:https://tropicalartsbocas.com/event/vinyasa-flow-yoga/2028-02-02/
LOCATION:Fitness Studio
CATEGORIES:Fitness Studio
ATTACH;FMTTYPE=image/png:https://tropicalartsbocas.com/wp-content/uploads/2026/01/Screenshot-2026-01-28-131919.png
END:VEVENT
BEGIN:VEVENT
DTSTART;TZID=America/Panama:20280204T173000
DTEND;TZID=America/Panama:20280204T183000
DTSTAMP:20260424T052514
CREATED:20260128T182904Z
LAST-MODIFIED:20260128T182904Z
UID:10000356-1833298200-1833301800@tropicalartsbocas.com
SUMMARY:Vinyasa Flow Yoga
DESCRIPTION:This class blends seamless flow with functional mobility-focused movement. Expect a feel-good rhythm\, smart sequencing and options to meet you where you are\, you´ll leave feeling stronger\, softer and more at home in your body! \nCome as you are–you´re in good hands
URL:https://tropicalartsbocas.com/event/vinyasa-flow-yoga/2028-02-04/
LOCATION:Fitness Studio
CATEGORIES:Fitness Studio
ATTACH;FMTTYPE=image/png:https://tropicalartsbocas.com/wp-content/uploads/2026/01/Screenshot-2026-01-28-131919.png
END:VEVENT
BEGIN:VEVENT
DTSTART;TZID=America/Panama:20280207T173000
DTEND;TZID=America/Panama:20280207T183000
DTSTAMP:20260424T052514
CREATED:20260128T182904Z
LAST-MODIFIED:20260128T182904Z
UID:10000357-1833557400-1833561000@tropicalartsbocas.com
SUMMARY:Vinyasa Flow Yoga
DESCRIPTION:This class blends seamless flow with functional mobility-focused movement. Expect a feel-good rhythm\, smart sequencing and options to meet you where you are\, you´ll leave feeling stronger\, softer and more at home in your body! \nCome as you are–you´re in good hands
URL:https://tropicalartsbocas.com/event/vinyasa-flow-yoga/2028-02-07/
LOCATION:Fitness Studio
CATEGORIES:Fitness Studio
ATTACH;FMTTYPE=image/png:https://tropicalartsbocas.com/wp-content/uploads/2026/01/Screenshot-2026-01-28-131919.png
END:VEVENT
BEGIN:VEVENT
DTSTART;TZID=America/Panama:20280209T160000
DTEND;TZID=America/Panama:20280209T170000
DTSTAMP:20260424T052514
CREATED:20260128T185942Z
LAST-MODIFIED:20260128T185942Z
UID:10000929-1833724800-1833728400@tropicalartsbocas.com
SUMMARY:Mat pilates with Kristle
DESCRIPTION:Strong moves\, a little burn\, fun playlists\, and laughs. This is Krystle your Mat Pilates Teacher who somehow makes you laugh and sweat at the same time. Her classes gives you a little burn\, a lot of moves you didn’t think you could pull off\, and always a playlist that just hits right. She’s all about helping you surprise yourself\, feel good in your body\, and leave class glowing a little stronger (and happier) than when you came in. Basically? if you want pilates that feels fun\, not scary — Krystle’s your girl.
URL:https://tropicalartsbocas.com/event/mat-pilates-with-kristle/2028-02-09/
LOCATION:Fitness Studio
CATEGORIES:Pilates,Wellness & Fitness,Workshops & Classes
ATTACH;FMTTYPE=image/png:https://tropicalartsbocas.com/wp-content/uploads/2026/01/Screenshot-2026-01-28-135058.png
END:VEVENT
BEGIN:VEVENT
DTSTART;TZID=America/Panama:20280209T173000
DTEND;TZID=America/Panama:20280209T183000
DTSTAMP:20260424T052514
CREATED:20260128T182904Z
LAST-MODIFIED:20260128T182904Z
UID:10000358-1833730200-1833733800@tropicalartsbocas.com
SUMMARY:Vinyasa Flow Yoga
DESCRIPTION:This class blends seamless flow with functional mobility-focused movement. Expect a feel-good rhythm\, smart sequencing and options to meet you where you are\, you´ll leave feeling stronger\, softer and more at home in your body! \nCome as you are–you´re in good hands
URL:https://tropicalartsbocas.com/event/vinyasa-flow-yoga/2028-02-09/
LOCATION:Fitness Studio
CATEGORIES:Fitness Studio
ATTACH;FMTTYPE=image/png:https://tropicalartsbocas.com/wp-content/uploads/2026/01/Screenshot-2026-01-28-131919.png
END:VEVENT
BEGIN:VEVENT
DTSTART;TZID=America/Panama:20280211T173000
DTEND;TZID=America/Panama:20280211T183000
DTSTAMP:20260424T052514
CREATED:20260128T182904Z
LAST-MODIFIED:20260128T182904Z
UID:10000359-1833903000-1833906600@tropicalartsbocas.com
SUMMARY:Vinyasa Flow Yoga
DESCRIPTION:This class blends seamless flow with functional mobility-focused movement. Expect a feel-good rhythm\, smart sequencing and options to meet you where you are\, you´ll leave feeling stronger\, softer and more at home in your body! \nCome as you are–you´re in good hands
URL:https://tropicalartsbocas.com/event/vinyasa-flow-yoga/2028-02-11/
LOCATION:Fitness Studio
CATEGORIES:Fitness Studio
ATTACH;FMTTYPE=image/png:https://tropicalartsbocas.com/wp-content/uploads/2026/01/Screenshot-2026-01-28-131919.png
END:VEVENT
BEGIN:VEVENT
DTSTART;TZID=America/Panama:20280214T173000
DTEND;TZID=America/Panama:20280214T183000
DTSTAMP:20260424T052514
CREATED:20260128T182904Z
LAST-MODIFIED:20260128T182904Z
UID:10000360-1834162200-1834165800@tropicalartsbocas.com
SUMMARY:Vinyasa Flow Yoga
DESCRIPTION:This class blends seamless flow with functional mobility-focused movement. Expect a feel-good rhythm\, smart sequencing and options to meet you where you are\, you´ll leave feeling stronger\, softer and more at home in your body! \nCome as you are–you´re in good hands
URL:https://tropicalartsbocas.com/event/vinyasa-flow-yoga/2028-02-14/
LOCATION:Fitness Studio
CATEGORIES:Fitness Studio
ATTACH;FMTTYPE=image/png:https://tropicalartsbocas.com/wp-content/uploads/2026/01/Screenshot-2026-01-28-131919.png
END:VEVENT
END:VCALENDAR