BEGIN:VCALENDAR
VERSION:2.0
PRODID:-//TropicalArts Resort and Studios | Bocas del Toro, Panama - ECPv6.15.14//NONSGML v1.0//EN
CALSCALE:GREGORIAN
METHOD:PUBLISH
X-WR-CALNAME:TropicalArts Resort and Studios | Bocas del Toro, Panama
X-ORIGINAL-URL:https://tropicalartsbocas.com
X-WR-CALDESC:Events for TropicalArts Resort and Studios | Bocas del Toro, Panama
REFRESH-INTERVAL;VALUE=DURATION:PT1H
X-Robots-Tag:noindex
X-PUBLISHED-TTL:PT1H
BEGIN:VTIMEZONE
TZID:America/Panama
BEGIN:STANDARD
TZOFFSETFROM:-0500
TZOFFSETTO:-0500
TZNAME:EST
DTSTART:20260101T000000
END:STANDARD
END:VTIMEZONE
BEGIN:VEVENT
DTSTART;TZID=America/Panama:20270730T173000
DTEND;TZID=America/Panama:20270730T183000
DTSTAMP:20260423T181748
CREATED:20260128T182904Z
LAST-MODIFIED:20260128T182904Z
UID:10000275-1816968600-1816972200@tropicalartsbocas.com
SUMMARY:Vinyasa Flow Yoga
DESCRIPTION:This class blends seamless flow with functional mobility-focused movement. Expect a feel-good rhythm\, smart sequencing and options to meet you where you are\, you´ll leave feeling stronger\, softer and more at home in your body! \nCome as you are–you´re in good hands
URL:https://tropicalartsbocas.com/event/vinyasa-flow-yoga/2027-07-30/
LOCATION:Fitness Studio
CATEGORIES:Fitness Studio
ATTACH;FMTTYPE=image/png:https://tropicalartsbocas.com/wp-content/uploads/2026/01/Screenshot-2026-01-28-131919.png
END:VEVENT
BEGIN:VEVENT
DTSTART;TZID=America/Panama:20270802T173000
DTEND;TZID=America/Panama:20270802T183000
DTSTAMP:20260423T181748
CREATED:20260128T182904Z
LAST-MODIFIED:20260128T182904Z
UID:10000276-1817227800-1817231400@tropicalartsbocas.com
SUMMARY:Vinyasa Flow Yoga
DESCRIPTION:This class blends seamless flow with functional mobility-focused movement. Expect a feel-good rhythm\, smart sequencing and options to meet you where you are\, you´ll leave feeling stronger\, softer and more at home in your body! \nCome as you are–you´re in good hands
URL:https://tropicalartsbocas.com/event/vinyasa-flow-yoga/2027-08-02/
LOCATION:Fitness Studio
CATEGORIES:Fitness Studio
ATTACH;FMTTYPE=image/png:https://tropicalartsbocas.com/wp-content/uploads/2026/01/Screenshot-2026-01-28-131919.png
END:VEVENT
BEGIN:VEVENT
DTSTART;TZID=America/Panama:20270804T160000
DTEND;TZID=America/Panama:20270804T170000
DTSTAMP:20260423T181748
CREATED:20260128T185942Z
LAST-MODIFIED:20260128T185942Z
UID:10000902-1817395200-1817398800@tropicalartsbocas.com
SUMMARY:Mat pilates with Kristle
DESCRIPTION:Strong moves\, a little burn\, fun playlists\, and laughs. This is Krystle your Mat Pilates Teacher who somehow makes you laugh and sweat at the same time. Her classes gives you a little burn\, a lot of moves you didn’t think you could pull off\, and always a playlist that just hits right. She’s all about helping you surprise yourself\, feel good in your body\, and leave class glowing a little stronger (and happier) than when you came in. Basically? if you want pilates that feels fun\, not scary — Krystle’s your girl.
URL:https://tropicalartsbocas.com/event/mat-pilates-with-kristle/2027-08-04/
LOCATION:Fitness Studio
CATEGORIES:Pilates,Wellness & Fitness,Workshops & Classes
ATTACH;FMTTYPE=image/png:https://tropicalartsbocas.com/wp-content/uploads/2026/01/Screenshot-2026-01-28-135058.png
END:VEVENT
BEGIN:VEVENT
DTSTART;TZID=America/Panama:20270804T173000
DTEND;TZID=America/Panama:20270804T183000
DTSTAMP:20260423T181748
CREATED:20260128T182904Z
LAST-MODIFIED:20260128T182904Z
UID:10000277-1817400600-1817404200@tropicalartsbocas.com
SUMMARY:Vinyasa Flow Yoga
DESCRIPTION:This class blends seamless flow with functional mobility-focused movement. Expect a feel-good rhythm\, smart sequencing and options to meet you where you are\, you´ll leave feeling stronger\, softer and more at home in your body! \nCome as you are–you´re in good hands
URL:https://tropicalartsbocas.com/event/vinyasa-flow-yoga/2027-08-04/
LOCATION:Fitness Studio
CATEGORIES:Fitness Studio
ATTACH;FMTTYPE=image/png:https://tropicalartsbocas.com/wp-content/uploads/2026/01/Screenshot-2026-01-28-131919.png
END:VEVENT
BEGIN:VEVENT
DTSTART;TZID=America/Panama:20270806T173000
DTEND;TZID=America/Panama:20270806T183000
DTSTAMP:20260423T181748
CREATED:20260128T182904Z
LAST-MODIFIED:20260128T182904Z
UID:10000278-1817573400-1817577000@tropicalartsbocas.com
SUMMARY:Vinyasa Flow Yoga
DESCRIPTION:This class blends seamless flow with functional mobility-focused movement. Expect a feel-good rhythm\, smart sequencing and options to meet you where you are\, you´ll leave feeling stronger\, softer and more at home in your body! \nCome as you are–you´re in good hands
URL:https://tropicalartsbocas.com/event/vinyasa-flow-yoga/2027-08-06/
LOCATION:Fitness Studio
CATEGORIES:Fitness Studio
ATTACH;FMTTYPE=image/png:https://tropicalartsbocas.com/wp-content/uploads/2026/01/Screenshot-2026-01-28-131919.png
END:VEVENT
BEGIN:VEVENT
DTSTART;TZID=America/Panama:20270809T173000
DTEND;TZID=America/Panama:20270809T183000
DTSTAMP:20260423T181748
CREATED:20260128T182904Z
LAST-MODIFIED:20260128T182904Z
UID:10000279-1817832600-1817836200@tropicalartsbocas.com
SUMMARY:Vinyasa Flow Yoga
DESCRIPTION:This class blends seamless flow with functional mobility-focused movement. Expect a feel-good rhythm\, smart sequencing and options to meet you where you are\, you´ll leave feeling stronger\, softer and more at home in your body! \nCome as you are–you´re in good hands
URL:https://tropicalartsbocas.com/event/vinyasa-flow-yoga/2027-08-09/
LOCATION:Fitness Studio
CATEGORIES:Fitness Studio
ATTACH;FMTTYPE=image/png:https://tropicalartsbocas.com/wp-content/uploads/2026/01/Screenshot-2026-01-28-131919.png
END:VEVENT
BEGIN:VEVENT
DTSTART;TZID=America/Panama:20270811T160000
DTEND;TZID=America/Panama:20270811T170000
DTSTAMP:20260423T181748
CREATED:20260128T185942Z
LAST-MODIFIED:20260128T185942Z
UID:10000903-1818000000-1818003600@tropicalartsbocas.com
SUMMARY:Mat pilates with Kristle
DESCRIPTION:Strong moves\, a little burn\, fun playlists\, and laughs. This is Krystle your Mat Pilates Teacher who somehow makes you laugh and sweat at the same time. Her classes gives you a little burn\, a lot of moves you didn’t think you could pull off\, and always a playlist that just hits right. She’s all about helping you surprise yourself\, feel good in your body\, and leave class glowing a little stronger (and happier) than when you came in. Basically? if you want pilates that feels fun\, not scary — Krystle’s your girl.
URL:https://tropicalartsbocas.com/event/mat-pilates-with-kristle/2027-08-11/
LOCATION:Fitness Studio
CATEGORIES:Pilates,Wellness & Fitness,Workshops & Classes
ATTACH;FMTTYPE=image/png:https://tropicalartsbocas.com/wp-content/uploads/2026/01/Screenshot-2026-01-28-135058.png
END:VEVENT
BEGIN:VEVENT
DTSTART;TZID=America/Panama:20270811T173000
DTEND;TZID=America/Panama:20270811T183000
DTSTAMP:20260423T181748
CREATED:20260128T182904Z
LAST-MODIFIED:20260128T182904Z
UID:10000280-1818005400-1818009000@tropicalartsbocas.com
SUMMARY:Vinyasa Flow Yoga
DESCRIPTION:This class blends seamless flow with functional mobility-focused movement. Expect a feel-good rhythm\, smart sequencing and options to meet you where you are\, you´ll leave feeling stronger\, softer and more at home in your body! \nCome as you are–you´re in good hands
URL:https://tropicalartsbocas.com/event/vinyasa-flow-yoga/2027-08-11/
LOCATION:Fitness Studio
CATEGORIES:Fitness Studio
ATTACH;FMTTYPE=image/png:https://tropicalartsbocas.com/wp-content/uploads/2026/01/Screenshot-2026-01-28-131919.png
END:VEVENT
BEGIN:VEVENT
DTSTART;TZID=America/Panama:20270813T173000
DTEND;TZID=America/Panama:20270813T183000
DTSTAMP:20260423T181748
CREATED:20260128T182904Z
LAST-MODIFIED:20260128T182904Z
UID:10000281-1818178200-1818181800@tropicalartsbocas.com
SUMMARY:Vinyasa Flow Yoga
DESCRIPTION:This class blends seamless flow with functional mobility-focused movement. Expect a feel-good rhythm\, smart sequencing and options to meet you where you are\, you´ll leave feeling stronger\, softer and more at home in your body! \nCome as you are–you´re in good hands
URL:https://tropicalartsbocas.com/event/vinyasa-flow-yoga/2027-08-13/
LOCATION:Fitness Studio
CATEGORIES:Fitness Studio
ATTACH;FMTTYPE=image/png:https://tropicalartsbocas.com/wp-content/uploads/2026/01/Screenshot-2026-01-28-131919.png
END:VEVENT
BEGIN:VEVENT
DTSTART;TZID=America/Panama:20270816T173000
DTEND;TZID=America/Panama:20270816T183000
DTSTAMP:20260423T181748
CREATED:20260128T182904Z
LAST-MODIFIED:20260128T182904Z
UID:10000282-1818437400-1818441000@tropicalartsbocas.com
SUMMARY:Vinyasa Flow Yoga
DESCRIPTION:This class blends seamless flow with functional mobility-focused movement. Expect a feel-good rhythm\, smart sequencing and options to meet you where you are\, you´ll leave feeling stronger\, softer and more at home in your body! \nCome as you are–you´re in good hands
URL:https://tropicalartsbocas.com/event/vinyasa-flow-yoga/2027-08-16/
LOCATION:Fitness Studio
CATEGORIES:Fitness Studio
ATTACH;FMTTYPE=image/png:https://tropicalartsbocas.com/wp-content/uploads/2026/01/Screenshot-2026-01-28-131919.png
END:VEVENT
BEGIN:VEVENT
DTSTART;TZID=America/Panama:20270818T160000
DTEND;TZID=America/Panama:20270818T170000
DTSTAMP:20260423T181748
CREATED:20260128T185942Z
LAST-MODIFIED:20260128T185942Z
UID:10000904-1818604800-1818608400@tropicalartsbocas.com
SUMMARY:Mat pilates with Kristle
DESCRIPTION:Strong moves\, a little burn\, fun playlists\, and laughs. This is Krystle your Mat Pilates Teacher who somehow makes you laugh and sweat at the same time. Her classes gives you a little burn\, a lot of moves you didn’t think you could pull off\, and always a playlist that just hits right. She’s all about helping you surprise yourself\, feel good in your body\, and leave class glowing a little stronger (and happier) than when you came in. Basically? if you want pilates that feels fun\, not scary — Krystle’s your girl.
URL:https://tropicalartsbocas.com/event/mat-pilates-with-kristle/2027-08-18/
LOCATION:Fitness Studio
CATEGORIES:Pilates,Wellness & Fitness,Workshops & Classes
ATTACH;FMTTYPE=image/png:https://tropicalartsbocas.com/wp-content/uploads/2026/01/Screenshot-2026-01-28-135058.png
END:VEVENT
BEGIN:VEVENT
DTSTART;TZID=America/Panama:20270818T173000
DTEND;TZID=America/Panama:20270818T183000
DTSTAMP:20260423T181748
CREATED:20260128T182904Z
LAST-MODIFIED:20260128T182904Z
UID:10000283-1818610200-1818613800@tropicalartsbocas.com
SUMMARY:Vinyasa Flow Yoga
DESCRIPTION:This class blends seamless flow with functional mobility-focused movement. Expect a feel-good rhythm\, smart sequencing and options to meet you where you are\, you´ll leave feeling stronger\, softer and more at home in your body! \nCome as you are–you´re in good hands
URL:https://tropicalartsbocas.com/event/vinyasa-flow-yoga/2027-08-18/
LOCATION:Fitness Studio
CATEGORIES:Fitness Studio
ATTACH;FMTTYPE=image/png:https://tropicalartsbocas.com/wp-content/uploads/2026/01/Screenshot-2026-01-28-131919.png
END:VEVENT
BEGIN:VEVENT
DTSTART;TZID=America/Panama:20270820T173000
DTEND;TZID=America/Panama:20270820T183000
DTSTAMP:20260423T181748
CREATED:20260128T182904Z
LAST-MODIFIED:20260128T182904Z
UID:10000284-1818783000-1818786600@tropicalartsbocas.com
SUMMARY:Vinyasa Flow Yoga
DESCRIPTION:This class blends seamless flow with functional mobility-focused movement. Expect a feel-good rhythm\, smart sequencing and options to meet you where you are\, you´ll leave feeling stronger\, softer and more at home in your body! \nCome as you are–you´re in good hands
URL:https://tropicalartsbocas.com/event/vinyasa-flow-yoga/2027-08-20/
LOCATION:Fitness Studio
CATEGORIES:Fitness Studio
ATTACH;FMTTYPE=image/png:https://tropicalartsbocas.com/wp-content/uploads/2026/01/Screenshot-2026-01-28-131919.png
END:VEVENT
BEGIN:VEVENT
DTSTART;TZID=America/Panama:20270823T173000
DTEND;TZID=America/Panama:20270823T183000
DTSTAMP:20260423T181748
CREATED:20260128T182904Z
LAST-MODIFIED:20260128T182904Z
UID:10000285-1819042200-1819045800@tropicalartsbocas.com
SUMMARY:Vinyasa Flow Yoga
DESCRIPTION:This class blends seamless flow with functional mobility-focused movement. Expect a feel-good rhythm\, smart sequencing and options to meet you where you are\, you´ll leave feeling stronger\, softer and more at home in your body! \nCome as you are–you´re in good hands
URL:https://tropicalartsbocas.com/event/vinyasa-flow-yoga/2027-08-23/
LOCATION:Fitness Studio
CATEGORIES:Fitness Studio
ATTACH;FMTTYPE=image/png:https://tropicalartsbocas.com/wp-content/uploads/2026/01/Screenshot-2026-01-28-131919.png
END:VEVENT
BEGIN:VEVENT
DTSTART;TZID=America/Panama:20270825T160000
DTEND;TZID=America/Panama:20270825T170000
DTSTAMP:20260423T181748
CREATED:20260128T185942Z
LAST-MODIFIED:20260128T185942Z
UID:10000905-1819209600-1819213200@tropicalartsbocas.com
SUMMARY:Mat pilates with Kristle
DESCRIPTION:Strong moves\, a little burn\, fun playlists\, and laughs. This is Krystle your Mat Pilates Teacher who somehow makes you laugh and sweat at the same time. Her classes gives you a little burn\, a lot of moves you didn’t think you could pull off\, and always a playlist that just hits right. She’s all about helping you surprise yourself\, feel good in your body\, and leave class glowing a little stronger (and happier) than when you came in. Basically? if you want pilates that feels fun\, not scary — Krystle’s your girl.
URL:https://tropicalartsbocas.com/event/mat-pilates-with-kristle/2027-08-25/
LOCATION:Fitness Studio
CATEGORIES:Pilates,Wellness & Fitness,Workshops & Classes
ATTACH;FMTTYPE=image/png:https://tropicalartsbocas.com/wp-content/uploads/2026/01/Screenshot-2026-01-28-135058.png
END:VEVENT
BEGIN:VEVENT
DTSTART;TZID=America/Panama:20270825T173000
DTEND;TZID=America/Panama:20270825T183000
DTSTAMP:20260423T181748
CREATED:20260128T182904Z
LAST-MODIFIED:20260128T182904Z
UID:10000286-1819215000-1819218600@tropicalartsbocas.com
SUMMARY:Vinyasa Flow Yoga
DESCRIPTION:This class blends seamless flow with functional mobility-focused movement. Expect a feel-good rhythm\, smart sequencing and options to meet you where you are\, you´ll leave feeling stronger\, softer and more at home in your body! \nCome as you are–you´re in good hands
URL:https://tropicalartsbocas.com/event/vinyasa-flow-yoga/2027-08-25/
LOCATION:Fitness Studio
CATEGORIES:Fitness Studio
ATTACH;FMTTYPE=image/png:https://tropicalartsbocas.com/wp-content/uploads/2026/01/Screenshot-2026-01-28-131919.png
END:VEVENT
BEGIN:VEVENT
DTSTART;TZID=America/Panama:20270827T173000
DTEND;TZID=America/Panama:20270827T183000
DTSTAMP:20260423T181748
CREATED:20260128T182904Z
LAST-MODIFIED:20260128T182904Z
UID:10000287-1819387800-1819391400@tropicalartsbocas.com
SUMMARY:Vinyasa Flow Yoga
DESCRIPTION:This class blends seamless flow with functional mobility-focused movement. Expect a feel-good rhythm\, smart sequencing and options to meet you where you are\, you´ll leave feeling stronger\, softer and more at home in your body! \nCome as you are–you´re in good hands
URL:https://tropicalartsbocas.com/event/vinyasa-flow-yoga/2027-08-27/
LOCATION:Fitness Studio
CATEGORIES:Fitness Studio
ATTACH;FMTTYPE=image/png:https://tropicalartsbocas.com/wp-content/uploads/2026/01/Screenshot-2026-01-28-131919.png
END:VEVENT
BEGIN:VEVENT
DTSTART;TZID=America/Panama:20270830T173000
DTEND;TZID=America/Panama:20270830T183000
DTSTAMP:20260423T181748
CREATED:20260128T182904Z
LAST-MODIFIED:20260128T182904Z
UID:10000288-1819647000-1819650600@tropicalartsbocas.com
SUMMARY:Vinyasa Flow Yoga
DESCRIPTION:This class blends seamless flow with functional mobility-focused movement. Expect a feel-good rhythm\, smart sequencing and options to meet you where you are\, you´ll leave feeling stronger\, softer and more at home in your body! \nCome as you are–you´re in good hands
URL:https://tropicalartsbocas.com/event/vinyasa-flow-yoga/2027-08-30/
LOCATION:Fitness Studio
CATEGORIES:Fitness Studio
ATTACH;FMTTYPE=image/png:https://tropicalartsbocas.com/wp-content/uploads/2026/01/Screenshot-2026-01-28-131919.png
END:VEVENT
BEGIN:VEVENT
DTSTART;TZID=America/Panama:20270901T160000
DTEND;TZID=America/Panama:20270901T170000
DTSTAMP:20260423T181748
CREATED:20260128T185942Z
LAST-MODIFIED:20260128T185942Z
UID:10000906-1819814400-1819818000@tropicalartsbocas.com
SUMMARY:Mat pilates with Kristle
DESCRIPTION:Strong moves\, a little burn\, fun playlists\, and laughs. This is Krystle your Mat Pilates Teacher who somehow makes you laugh and sweat at the same time. Her classes gives you a little burn\, a lot of moves you didn’t think you could pull off\, and always a playlist that just hits right. She’s all about helping you surprise yourself\, feel good in your body\, and leave class glowing a little stronger (and happier) than when you came in. Basically? if you want pilates that feels fun\, not scary — Krystle’s your girl.
URL:https://tropicalartsbocas.com/event/mat-pilates-with-kristle/2027-09-01/
LOCATION:Fitness Studio
CATEGORIES:Pilates,Wellness & Fitness,Workshops & Classes
ATTACH;FMTTYPE=image/png:https://tropicalartsbocas.com/wp-content/uploads/2026/01/Screenshot-2026-01-28-135058.png
END:VEVENT
BEGIN:VEVENT
DTSTART;TZID=America/Panama:20270901T173000
DTEND;TZID=America/Panama:20270901T183000
DTSTAMP:20260423T181748
CREATED:20260128T182904Z
LAST-MODIFIED:20260128T182904Z
UID:10000289-1819819800-1819823400@tropicalartsbocas.com
SUMMARY:Vinyasa Flow Yoga
DESCRIPTION:This class blends seamless flow with functional mobility-focused movement. Expect a feel-good rhythm\, smart sequencing and options to meet you where you are\, you´ll leave feeling stronger\, softer and more at home in your body! \nCome as you are–you´re in good hands
URL:https://tropicalartsbocas.com/event/vinyasa-flow-yoga/2027-09-01/
LOCATION:Fitness Studio
CATEGORIES:Fitness Studio
ATTACH;FMTTYPE=image/png:https://tropicalartsbocas.com/wp-content/uploads/2026/01/Screenshot-2026-01-28-131919.png
END:VEVENT
BEGIN:VEVENT
DTSTART;TZID=America/Panama:20270903T173000
DTEND;TZID=America/Panama:20270903T183000
DTSTAMP:20260423T181748
CREATED:20260128T182904Z
LAST-MODIFIED:20260128T182904Z
UID:10000290-1819992600-1819996200@tropicalartsbocas.com
SUMMARY:Vinyasa Flow Yoga
DESCRIPTION:This class blends seamless flow with functional mobility-focused movement. Expect a feel-good rhythm\, smart sequencing and options to meet you where you are\, you´ll leave feeling stronger\, softer and more at home in your body! \nCome as you are–you´re in good hands
URL:https://tropicalartsbocas.com/event/vinyasa-flow-yoga/2027-09-03/
LOCATION:Fitness Studio
CATEGORIES:Fitness Studio
ATTACH;FMTTYPE=image/png:https://tropicalartsbocas.com/wp-content/uploads/2026/01/Screenshot-2026-01-28-131919.png
END:VEVENT
BEGIN:VEVENT
DTSTART;TZID=America/Panama:20270906T173000
DTEND;TZID=America/Panama:20270906T183000
DTSTAMP:20260423T181748
CREATED:20260128T182904Z
LAST-MODIFIED:20260128T182904Z
UID:10000291-1820251800-1820255400@tropicalartsbocas.com
SUMMARY:Vinyasa Flow Yoga
DESCRIPTION:This class blends seamless flow with functional mobility-focused movement. Expect a feel-good rhythm\, smart sequencing and options to meet you where you are\, you´ll leave feeling stronger\, softer and more at home in your body! \nCome as you are–you´re in good hands
URL:https://tropicalartsbocas.com/event/vinyasa-flow-yoga/2027-09-06/
LOCATION:Fitness Studio
CATEGORIES:Fitness Studio
ATTACH;FMTTYPE=image/png:https://tropicalartsbocas.com/wp-content/uploads/2026/01/Screenshot-2026-01-28-131919.png
END:VEVENT
BEGIN:VEVENT
DTSTART;TZID=America/Panama:20270908T160000
DTEND;TZID=America/Panama:20270908T170000
DTSTAMP:20260423T181748
CREATED:20260128T185942Z
LAST-MODIFIED:20260128T185942Z
UID:10000907-1820419200-1820422800@tropicalartsbocas.com
SUMMARY:Mat pilates with Kristle
DESCRIPTION:Strong moves\, a little burn\, fun playlists\, and laughs. This is Krystle your Mat Pilates Teacher who somehow makes you laugh and sweat at the same time. Her classes gives you a little burn\, a lot of moves you didn’t think you could pull off\, and always a playlist that just hits right. She’s all about helping you surprise yourself\, feel good in your body\, and leave class glowing a little stronger (and happier) than when you came in. Basically? if you want pilates that feels fun\, not scary — Krystle’s your girl.
URL:https://tropicalartsbocas.com/event/mat-pilates-with-kristle/2027-09-08/
LOCATION:Fitness Studio
CATEGORIES:Pilates,Wellness & Fitness,Workshops & Classes
ATTACH;FMTTYPE=image/png:https://tropicalartsbocas.com/wp-content/uploads/2026/01/Screenshot-2026-01-28-135058.png
END:VEVENT
BEGIN:VEVENT
DTSTART;TZID=America/Panama:20270908T173000
DTEND;TZID=America/Panama:20270908T183000
DTSTAMP:20260423T181748
CREATED:20260128T182904Z
LAST-MODIFIED:20260128T182904Z
UID:10000292-1820424600-1820428200@tropicalartsbocas.com
SUMMARY:Vinyasa Flow Yoga
DESCRIPTION:This class blends seamless flow with functional mobility-focused movement. Expect a feel-good rhythm\, smart sequencing and options to meet you where you are\, you´ll leave feeling stronger\, softer and more at home in your body! \nCome as you are–you´re in good hands
URL:https://tropicalartsbocas.com/event/vinyasa-flow-yoga/2027-09-08/
LOCATION:Fitness Studio
CATEGORIES:Fitness Studio
ATTACH;FMTTYPE=image/png:https://tropicalartsbocas.com/wp-content/uploads/2026/01/Screenshot-2026-01-28-131919.png
END:VEVENT
BEGIN:VEVENT
DTSTART;TZID=America/Panama:20270910T173000
DTEND;TZID=America/Panama:20270910T183000
DTSTAMP:20260423T181748
CREATED:20260128T182904Z
LAST-MODIFIED:20260128T182904Z
UID:10000293-1820597400-1820601000@tropicalartsbocas.com
SUMMARY:Vinyasa Flow Yoga
DESCRIPTION:This class blends seamless flow with functional mobility-focused movement. Expect a feel-good rhythm\, smart sequencing and options to meet you where you are\, you´ll leave feeling stronger\, softer and more at home in your body! \nCome as you are–you´re in good hands
URL:https://tropicalartsbocas.com/event/vinyasa-flow-yoga/2027-09-10/
LOCATION:Fitness Studio
CATEGORIES:Fitness Studio
ATTACH;FMTTYPE=image/png:https://tropicalartsbocas.com/wp-content/uploads/2026/01/Screenshot-2026-01-28-131919.png
END:VEVENT
BEGIN:VEVENT
DTSTART;TZID=America/Panama:20270913T173000
DTEND;TZID=America/Panama:20270913T183000
DTSTAMP:20260423T181748
CREATED:20260128T182904Z
LAST-MODIFIED:20260128T182904Z
UID:10000294-1820856600-1820860200@tropicalartsbocas.com
SUMMARY:Vinyasa Flow Yoga
DESCRIPTION:This class blends seamless flow with functional mobility-focused movement. Expect a feel-good rhythm\, smart sequencing and options to meet you where you are\, you´ll leave feeling stronger\, softer and more at home in your body! \nCome as you are–you´re in good hands
URL:https://tropicalartsbocas.com/event/vinyasa-flow-yoga/2027-09-13/
LOCATION:Fitness Studio
CATEGORIES:Fitness Studio
ATTACH;FMTTYPE=image/png:https://tropicalartsbocas.com/wp-content/uploads/2026/01/Screenshot-2026-01-28-131919.png
END:VEVENT
BEGIN:VEVENT
DTSTART;TZID=America/Panama:20270915T160000
DTEND;TZID=America/Panama:20270915T170000
DTSTAMP:20260423T181748
CREATED:20260128T185942Z
LAST-MODIFIED:20260128T185942Z
UID:10000908-1821024000-1821027600@tropicalartsbocas.com
SUMMARY:Mat pilates with Kristle
DESCRIPTION:Strong moves\, a little burn\, fun playlists\, and laughs. This is Krystle your Mat Pilates Teacher who somehow makes you laugh and sweat at the same time. Her classes gives you a little burn\, a lot of moves you didn’t think you could pull off\, and always a playlist that just hits right. She’s all about helping you surprise yourself\, feel good in your body\, and leave class glowing a little stronger (and happier) than when you came in. Basically? if you want pilates that feels fun\, not scary — Krystle’s your girl.
URL:https://tropicalartsbocas.com/event/mat-pilates-with-kristle/2027-09-15/
LOCATION:Fitness Studio
CATEGORIES:Pilates,Wellness & Fitness,Workshops & Classes
ATTACH;FMTTYPE=image/png:https://tropicalartsbocas.com/wp-content/uploads/2026/01/Screenshot-2026-01-28-135058.png
END:VEVENT
BEGIN:VEVENT
DTSTART;TZID=America/Panama:20270915T173000
DTEND;TZID=America/Panama:20270915T183000
DTSTAMP:20260423T181748
CREATED:20260128T182904Z
LAST-MODIFIED:20260128T182904Z
UID:10000295-1821029400-1821033000@tropicalartsbocas.com
SUMMARY:Vinyasa Flow Yoga
DESCRIPTION:This class blends seamless flow with functional mobility-focused movement. Expect a feel-good rhythm\, smart sequencing and options to meet you where you are\, you´ll leave feeling stronger\, softer and more at home in your body! \nCome as you are–you´re in good hands
URL:https://tropicalartsbocas.com/event/vinyasa-flow-yoga/2027-09-15/
LOCATION:Fitness Studio
CATEGORIES:Fitness Studio
ATTACH;FMTTYPE=image/png:https://tropicalartsbocas.com/wp-content/uploads/2026/01/Screenshot-2026-01-28-131919.png
END:VEVENT
BEGIN:VEVENT
DTSTART;TZID=America/Panama:20270917T173000
DTEND;TZID=America/Panama:20270917T183000
DTSTAMP:20260423T181748
CREATED:20260128T182904Z
LAST-MODIFIED:20260128T182904Z
UID:10000296-1821202200-1821205800@tropicalartsbocas.com
SUMMARY:Vinyasa Flow Yoga
DESCRIPTION:This class blends seamless flow with functional mobility-focused movement. Expect a feel-good rhythm\, smart sequencing and options to meet you where you are\, you´ll leave feeling stronger\, softer and more at home in your body! \nCome as you are–you´re in good hands
URL:https://tropicalartsbocas.com/event/vinyasa-flow-yoga/2027-09-17/
LOCATION:Fitness Studio
CATEGORIES:Fitness Studio
ATTACH;FMTTYPE=image/png:https://tropicalartsbocas.com/wp-content/uploads/2026/01/Screenshot-2026-01-28-131919.png
END:VEVENT
BEGIN:VEVENT
DTSTART;TZID=America/Panama:20270920T173000
DTEND;TZID=America/Panama:20270920T183000
DTSTAMP:20260423T181748
CREATED:20260128T182904Z
LAST-MODIFIED:20260128T182904Z
UID:10000297-1821461400-1821465000@tropicalartsbocas.com
SUMMARY:Vinyasa Flow Yoga
DESCRIPTION:This class blends seamless flow with functional mobility-focused movement. Expect a feel-good rhythm\, smart sequencing and options to meet you where you are\, you´ll leave feeling stronger\, softer and more at home in your body! \nCome as you are–you´re in good hands
URL:https://tropicalartsbocas.com/event/vinyasa-flow-yoga/2027-09-20/
LOCATION:Fitness Studio
CATEGORIES:Fitness Studio
ATTACH;FMTTYPE=image/png:https://tropicalartsbocas.com/wp-content/uploads/2026/01/Screenshot-2026-01-28-131919.png
END:VEVENT
END:VCALENDAR