BEGIN:VCALENDAR
VERSION:2.0
PRODID:-//TropicalArts Resort and Studios | Bocas del Toro, Panama - ECPv6.15.14//NONSGML v1.0//EN
CALSCALE:GREGORIAN
METHOD:PUBLISH
X-WR-CALNAME:TropicalArts Resort and Studios | Bocas del Toro, Panama
X-ORIGINAL-URL:https://tropicalartsbocas.com
X-WR-CALDESC:Events for TropicalArts Resort and Studios | Bocas del Toro, Panama
REFRESH-INTERVAL;VALUE=DURATION:PT1H
X-Robots-Tag:noindex
X-PUBLISHED-TTL:PT1H
BEGIN:VTIMEZONE
TZID:America/Panama
BEGIN:STANDARD
TZOFFSETFROM:-0500
TZOFFSETTO:-0500
TZNAME:EST
DTSTART:20250101T000000
END:STANDARD
END:VTIMEZONE
BEGIN:VEVENT
DTSTART;TZID=America/Panama:20261211T173000
DTEND;TZID=America/Panama:20261211T183000
DTSTAMP:20260422T225926
CREATED:20260128T182904Z
LAST-MODIFIED:20260128T182904Z
UID:10000176-1797010200-1797013800@tropicalartsbocas.com
SUMMARY:Vinyasa Flow Yoga
DESCRIPTION:This class blends seamless flow with functional mobility-focused movement. Expect a feel-good rhythm\, smart sequencing and options to meet you where you are\, you´ll leave feeling stronger\, softer and more at home in your body! \nCome as you are–you´re in good hands
URL:https://tropicalartsbocas.com/event/vinyasa-flow-yoga/2026-12-11/
LOCATION:Fitness Studio
CATEGORIES:Fitness Studio
ATTACH;FMTTYPE=image/png:https://tropicalartsbocas.com/wp-content/uploads/2026/01/Screenshot-2026-01-28-131919.png
END:VEVENT
BEGIN:VEVENT
DTSTART;TZID=America/Panama:20261214T173000
DTEND;TZID=America/Panama:20261214T183000
DTSTAMP:20260422T225926
CREATED:20260128T182904Z
LAST-MODIFIED:20260128T182904Z
UID:10000177-1797269400-1797273000@tropicalartsbocas.com
SUMMARY:Vinyasa Flow Yoga
DESCRIPTION:This class blends seamless flow with functional mobility-focused movement. Expect a feel-good rhythm\, smart sequencing and options to meet you where you are\, you´ll leave feeling stronger\, softer and more at home in your body! \nCome as you are–you´re in good hands
URL:https://tropicalartsbocas.com/event/vinyasa-flow-yoga/2026-12-14/
LOCATION:Fitness Studio
CATEGORIES:Fitness Studio
ATTACH;FMTTYPE=image/png:https://tropicalartsbocas.com/wp-content/uploads/2026/01/Screenshot-2026-01-28-131919.png
END:VEVENT
BEGIN:VEVENT
DTSTART;TZID=America/Panama:20261216T160000
DTEND;TZID=America/Panama:20261216T170000
DTSTAMP:20260422T225926
CREATED:20260128T185942Z
LAST-MODIFIED:20260128T185942Z
UID:10000869-1797436800-1797440400@tropicalartsbocas.com
SUMMARY:Mat pilates with Kristle
DESCRIPTION:Strong moves\, a little burn\, fun playlists\, and laughs. This is Krystle your Mat Pilates Teacher who somehow makes you laugh and sweat at the same time. Her classes gives you a little burn\, a lot of moves you didn’t think you could pull off\, and always a playlist that just hits right. She’s all about helping you surprise yourself\, feel good in your body\, and leave class glowing a little stronger (and happier) than when you came in. Basically? if you want pilates that feels fun\, not scary — Krystle’s your girl.
URL:https://tropicalartsbocas.com/event/mat-pilates-with-kristle/2026-12-16/
LOCATION:Fitness Studio
CATEGORIES:Pilates,Wellness & Fitness,Workshops & Classes
ATTACH;FMTTYPE=image/png:https://tropicalartsbocas.com/wp-content/uploads/2026/01/Screenshot-2026-01-28-135058.png
END:VEVENT
BEGIN:VEVENT
DTSTART;TZID=America/Panama:20261216T173000
DTEND;TZID=America/Panama:20261216T183000
DTSTAMP:20260422T225926
CREATED:20260128T182904Z
LAST-MODIFIED:20260128T182904Z
UID:10000178-1797442200-1797445800@tropicalartsbocas.com
SUMMARY:Vinyasa Flow Yoga
DESCRIPTION:This class blends seamless flow with functional mobility-focused movement. Expect a feel-good rhythm\, smart sequencing and options to meet you where you are\, you´ll leave feeling stronger\, softer and more at home in your body! \nCome as you are–you´re in good hands
URL:https://tropicalartsbocas.com/event/vinyasa-flow-yoga/2026-12-16/
LOCATION:Fitness Studio
CATEGORIES:Fitness Studio
ATTACH;FMTTYPE=image/png:https://tropicalartsbocas.com/wp-content/uploads/2026/01/Screenshot-2026-01-28-131919.png
END:VEVENT
BEGIN:VEVENT
DTSTART;TZID=America/Panama:20261218T173000
DTEND;TZID=America/Panama:20261218T183000
DTSTAMP:20260422T225926
CREATED:20260128T182904Z
LAST-MODIFIED:20260128T182904Z
UID:10000179-1797615000-1797618600@tropicalartsbocas.com
SUMMARY:Vinyasa Flow Yoga
DESCRIPTION:This class blends seamless flow with functional mobility-focused movement. Expect a feel-good rhythm\, smart sequencing and options to meet you where you are\, you´ll leave feeling stronger\, softer and more at home in your body! \nCome as you are–you´re in good hands
URL:https://tropicalartsbocas.com/event/vinyasa-flow-yoga/2026-12-18/
LOCATION:Fitness Studio
CATEGORIES:Fitness Studio
ATTACH;FMTTYPE=image/png:https://tropicalartsbocas.com/wp-content/uploads/2026/01/Screenshot-2026-01-28-131919.png
END:VEVENT
BEGIN:VEVENT
DTSTART;TZID=America/Panama:20261221T173000
DTEND;TZID=America/Panama:20261221T183000
DTSTAMP:20260422T225926
CREATED:20260128T182904Z
LAST-MODIFIED:20260128T182904Z
UID:10000180-1797874200-1797877800@tropicalartsbocas.com
SUMMARY:Vinyasa Flow Yoga
DESCRIPTION:This class blends seamless flow with functional mobility-focused movement. Expect a feel-good rhythm\, smart sequencing and options to meet you where you are\, you´ll leave feeling stronger\, softer and more at home in your body! \nCome as you are–you´re in good hands
URL:https://tropicalartsbocas.com/event/vinyasa-flow-yoga/2026-12-21/
LOCATION:Fitness Studio
CATEGORIES:Fitness Studio
ATTACH;FMTTYPE=image/png:https://tropicalartsbocas.com/wp-content/uploads/2026/01/Screenshot-2026-01-28-131919.png
END:VEVENT
BEGIN:VEVENT
DTSTART;TZID=America/Panama:20261223T160000
DTEND;TZID=America/Panama:20261223T170000
DTSTAMP:20260422T225926
CREATED:20260128T185942Z
LAST-MODIFIED:20260128T185942Z
UID:10000870-1798041600-1798045200@tropicalartsbocas.com
SUMMARY:Mat pilates with Kristle
DESCRIPTION:Strong moves\, a little burn\, fun playlists\, and laughs. This is Krystle your Mat Pilates Teacher who somehow makes you laugh and sweat at the same time. Her classes gives you a little burn\, a lot of moves you didn’t think you could pull off\, and always a playlist that just hits right. She’s all about helping you surprise yourself\, feel good in your body\, and leave class glowing a little stronger (and happier) than when you came in. Basically? if you want pilates that feels fun\, not scary — Krystle’s your girl.
URL:https://tropicalartsbocas.com/event/mat-pilates-with-kristle/2026-12-23/
LOCATION:Fitness Studio
CATEGORIES:Pilates,Wellness & Fitness,Workshops & Classes
ATTACH;FMTTYPE=image/png:https://tropicalartsbocas.com/wp-content/uploads/2026/01/Screenshot-2026-01-28-135058.png
END:VEVENT
BEGIN:VEVENT
DTSTART;TZID=America/Panama:20261223T173000
DTEND;TZID=America/Panama:20261223T183000
DTSTAMP:20260422T225926
CREATED:20260128T182904Z
LAST-MODIFIED:20260128T182904Z
UID:10000181-1798047000-1798050600@tropicalartsbocas.com
SUMMARY:Vinyasa Flow Yoga
DESCRIPTION:This class blends seamless flow with functional mobility-focused movement. Expect a feel-good rhythm\, smart sequencing and options to meet you where you are\, you´ll leave feeling stronger\, softer and more at home in your body! \nCome as you are–you´re in good hands
URL:https://tropicalartsbocas.com/event/vinyasa-flow-yoga/2026-12-23/
LOCATION:Fitness Studio
CATEGORIES:Fitness Studio
ATTACH;FMTTYPE=image/png:https://tropicalartsbocas.com/wp-content/uploads/2026/01/Screenshot-2026-01-28-131919.png
END:VEVENT
BEGIN:VEVENT
DTSTART;TZID=America/Panama:20261225T173000
DTEND;TZID=America/Panama:20261225T183000
DTSTAMP:20260422T225926
CREATED:20260128T182904Z
LAST-MODIFIED:20260128T182904Z
UID:10000182-1798219800-1798223400@tropicalartsbocas.com
SUMMARY:Vinyasa Flow Yoga
DESCRIPTION:This class blends seamless flow with functional mobility-focused movement. Expect a feel-good rhythm\, smart sequencing and options to meet you where you are\, you´ll leave feeling stronger\, softer and more at home in your body! \nCome as you are–you´re in good hands
URL:https://tropicalartsbocas.com/event/vinyasa-flow-yoga/2026-12-25/
LOCATION:Fitness Studio
CATEGORIES:Fitness Studio
ATTACH;FMTTYPE=image/png:https://tropicalartsbocas.com/wp-content/uploads/2026/01/Screenshot-2026-01-28-131919.png
END:VEVENT
BEGIN:VEVENT
DTSTART;TZID=America/Panama:20261228T173000
DTEND;TZID=America/Panama:20261228T183000
DTSTAMP:20260422T225926
CREATED:20260128T182904Z
LAST-MODIFIED:20260128T182904Z
UID:10000183-1798479000-1798482600@tropicalartsbocas.com
SUMMARY:Vinyasa Flow Yoga
DESCRIPTION:This class blends seamless flow with functional mobility-focused movement. Expect a feel-good rhythm\, smart sequencing and options to meet you where you are\, you´ll leave feeling stronger\, softer and more at home in your body! \nCome as you are–you´re in good hands
URL:https://tropicalartsbocas.com/event/vinyasa-flow-yoga/2026-12-28/
LOCATION:Fitness Studio
CATEGORIES:Fitness Studio
ATTACH;FMTTYPE=image/png:https://tropicalartsbocas.com/wp-content/uploads/2026/01/Screenshot-2026-01-28-131919.png
END:VEVENT
BEGIN:VEVENT
DTSTART;TZID=America/Panama:20261230T160000
DTEND;TZID=America/Panama:20261230T170000
DTSTAMP:20260422T225926
CREATED:20260128T185942Z
LAST-MODIFIED:20260128T185942Z
UID:10000871-1798646400-1798650000@tropicalartsbocas.com
SUMMARY:Mat pilates with Kristle
DESCRIPTION:Strong moves\, a little burn\, fun playlists\, and laughs. This is Krystle your Mat Pilates Teacher who somehow makes you laugh and sweat at the same time. Her classes gives you a little burn\, a lot of moves you didn’t think you could pull off\, and always a playlist that just hits right. She’s all about helping you surprise yourself\, feel good in your body\, and leave class glowing a little stronger (and happier) than when you came in. Basically? if you want pilates that feels fun\, not scary — Krystle’s your girl.
URL:https://tropicalartsbocas.com/event/mat-pilates-with-kristle/2026-12-30/
LOCATION:Fitness Studio
CATEGORIES:Pilates,Wellness & Fitness,Workshops & Classes
ATTACH;FMTTYPE=image/png:https://tropicalartsbocas.com/wp-content/uploads/2026/01/Screenshot-2026-01-28-135058.png
END:VEVENT
BEGIN:VEVENT
DTSTART;TZID=America/Panama:20261230T173000
DTEND;TZID=America/Panama:20261230T183000
DTSTAMP:20260422T225926
CREATED:20260128T182904Z
LAST-MODIFIED:20260128T182904Z
UID:10000184-1798651800-1798655400@tropicalartsbocas.com
SUMMARY:Vinyasa Flow Yoga
DESCRIPTION:This class blends seamless flow with functional mobility-focused movement. Expect a feel-good rhythm\, smart sequencing and options to meet you where you are\, you´ll leave feeling stronger\, softer and more at home in your body! \nCome as you are–you´re in good hands
URL:https://tropicalartsbocas.com/event/vinyasa-flow-yoga/2026-12-30/
LOCATION:Fitness Studio
CATEGORIES:Fitness Studio
ATTACH;FMTTYPE=image/png:https://tropicalartsbocas.com/wp-content/uploads/2026/01/Screenshot-2026-01-28-131919.png
END:VEVENT
BEGIN:VEVENT
DTSTART;TZID=America/Panama:20270101T173000
DTEND;TZID=America/Panama:20270101T183000
DTSTAMP:20260422T225926
CREATED:20260128T182904Z
LAST-MODIFIED:20260128T182904Z
UID:10000185-1798824600-1798828200@tropicalartsbocas.com
SUMMARY:Vinyasa Flow Yoga
DESCRIPTION:This class blends seamless flow with functional mobility-focused movement. Expect a feel-good rhythm\, smart sequencing and options to meet you where you are\, you´ll leave feeling stronger\, softer and more at home in your body! \nCome as you are–you´re in good hands
URL:https://tropicalartsbocas.com/event/vinyasa-flow-yoga/2027-01-01/
LOCATION:Fitness Studio
CATEGORIES:Fitness Studio
ATTACH;FMTTYPE=image/png:https://tropicalartsbocas.com/wp-content/uploads/2026/01/Screenshot-2026-01-28-131919.png
END:VEVENT
BEGIN:VEVENT
DTSTART;TZID=America/Panama:20270104T173000
DTEND;TZID=America/Panama:20270104T183000
DTSTAMP:20260422T225926
CREATED:20260128T182904Z
LAST-MODIFIED:20260128T182904Z
UID:10000186-1799083800-1799087400@tropicalartsbocas.com
SUMMARY:Vinyasa Flow Yoga
DESCRIPTION:This class blends seamless flow with functional mobility-focused movement. Expect a feel-good rhythm\, smart sequencing and options to meet you where you are\, you´ll leave feeling stronger\, softer and more at home in your body! \nCome as you are–you´re in good hands
URL:https://tropicalartsbocas.com/event/vinyasa-flow-yoga/2027-01-04/
LOCATION:Fitness Studio
CATEGORIES:Fitness Studio
ATTACH;FMTTYPE=image/png:https://tropicalartsbocas.com/wp-content/uploads/2026/01/Screenshot-2026-01-28-131919.png
END:VEVENT
BEGIN:VEVENT
DTSTART;TZID=America/Panama:20270106T160000
DTEND;TZID=America/Panama:20270106T170000
DTSTAMP:20260422T225926
CREATED:20260128T185942Z
LAST-MODIFIED:20260128T185942Z
UID:10000872-1799251200-1799254800@tropicalartsbocas.com
SUMMARY:Mat pilates with Kristle
DESCRIPTION:Strong moves\, a little burn\, fun playlists\, and laughs. This is Krystle your Mat Pilates Teacher who somehow makes you laugh and sweat at the same time. Her classes gives you a little burn\, a lot of moves you didn’t think you could pull off\, and always a playlist that just hits right. She’s all about helping you surprise yourself\, feel good in your body\, and leave class glowing a little stronger (and happier) than when you came in. Basically? if you want pilates that feels fun\, not scary — Krystle’s your girl.
URL:https://tropicalartsbocas.com/event/mat-pilates-with-kristle/2027-01-06/
LOCATION:Fitness Studio
CATEGORIES:Pilates,Wellness & Fitness,Workshops & Classes
ATTACH;FMTTYPE=image/png:https://tropicalartsbocas.com/wp-content/uploads/2026/01/Screenshot-2026-01-28-135058.png
END:VEVENT
BEGIN:VEVENT
DTSTART;TZID=America/Panama:20270106T173000
DTEND;TZID=America/Panama:20270106T183000
DTSTAMP:20260422T225926
CREATED:20260128T182904Z
LAST-MODIFIED:20260128T182904Z
UID:10000187-1799256600-1799260200@tropicalartsbocas.com
SUMMARY:Vinyasa Flow Yoga
DESCRIPTION:This class blends seamless flow with functional mobility-focused movement. Expect a feel-good rhythm\, smart sequencing and options to meet you where you are\, you´ll leave feeling stronger\, softer and more at home in your body! \nCome as you are–you´re in good hands
URL:https://tropicalartsbocas.com/event/vinyasa-flow-yoga/2027-01-06/
LOCATION:Fitness Studio
CATEGORIES:Fitness Studio
ATTACH;FMTTYPE=image/png:https://tropicalartsbocas.com/wp-content/uploads/2026/01/Screenshot-2026-01-28-131919.png
END:VEVENT
BEGIN:VEVENT
DTSTART;TZID=America/Panama:20270108T173000
DTEND;TZID=America/Panama:20270108T183000
DTSTAMP:20260422T225926
CREATED:20260128T182904Z
LAST-MODIFIED:20260128T182904Z
UID:10000188-1799429400-1799433000@tropicalartsbocas.com
SUMMARY:Vinyasa Flow Yoga
DESCRIPTION:This class blends seamless flow with functional mobility-focused movement. Expect a feel-good rhythm\, smart sequencing and options to meet you where you are\, you´ll leave feeling stronger\, softer and more at home in your body! \nCome as you are–you´re in good hands
URL:https://tropicalartsbocas.com/event/vinyasa-flow-yoga/2027-01-08/
LOCATION:Fitness Studio
CATEGORIES:Fitness Studio
ATTACH;FMTTYPE=image/png:https://tropicalartsbocas.com/wp-content/uploads/2026/01/Screenshot-2026-01-28-131919.png
END:VEVENT
BEGIN:VEVENT
DTSTART;TZID=America/Panama:20270111T173000
DTEND;TZID=America/Panama:20270111T183000
DTSTAMP:20260422T225926
CREATED:20260128T182904Z
LAST-MODIFIED:20260128T182904Z
UID:10000189-1799688600-1799692200@tropicalartsbocas.com
SUMMARY:Vinyasa Flow Yoga
DESCRIPTION:This class blends seamless flow with functional mobility-focused movement. Expect a feel-good rhythm\, smart sequencing and options to meet you where you are\, you´ll leave feeling stronger\, softer and more at home in your body! \nCome as you are–you´re in good hands
URL:https://tropicalartsbocas.com/event/vinyasa-flow-yoga/2027-01-11/
LOCATION:Fitness Studio
CATEGORIES:Fitness Studio
ATTACH;FMTTYPE=image/png:https://tropicalartsbocas.com/wp-content/uploads/2026/01/Screenshot-2026-01-28-131919.png
END:VEVENT
BEGIN:VEVENT
DTSTART;TZID=America/Panama:20270113T160000
DTEND;TZID=America/Panama:20270113T170000
DTSTAMP:20260422T225926
CREATED:20260128T185942Z
LAST-MODIFIED:20260128T185942Z
UID:10000873-1799856000-1799859600@tropicalartsbocas.com
SUMMARY:Mat pilates with Kristle
DESCRIPTION:Strong moves\, a little burn\, fun playlists\, and laughs. This is Krystle your Mat Pilates Teacher who somehow makes you laugh and sweat at the same time. Her classes gives you a little burn\, a lot of moves you didn’t think you could pull off\, and always a playlist that just hits right. She’s all about helping you surprise yourself\, feel good in your body\, and leave class glowing a little stronger (and happier) than when you came in. Basically? if you want pilates that feels fun\, not scary — Krystle’s your girl.
URL:https://tropicalartsbocas.com/event/mat-pilates-with-kristle/2027-01-13/
LOCATION:Fitness Studio
CATEGORIES:Pilates,Wellness & Fitness,Workshops & Classes
ATTACH;FMTTYPE=image/png:https://tropicalartsbocas.com/wp-content/uploads/2026/01/Screenshot-2026-01-28-135058.png
END:VEVENT
BEGIN:VEVENT
DTSTART;TZID=America/Panama:20270113T173000
DTEND;TZID=America/Panama:20270113T183000
DTSTAMP:20260422T225926
CREATED:20260128T182904Z
LAST-MODIFIED:20260128T182904Z
UID:10000190-1799861400-1799865000@tropicalartsbocas.com
SUMMARY:Vinyasa Flow Yoga
DESCRIPTION:This class blends seamless flow with functional mobility-focused movement. Expect a feel-good rhythm\, smart sequencing and options to meet you where you are\, you´ll leave feeling stronger\, softer and more at home in your body! \nCome as you are–you´re in good hands
URL:https://tropicalartsbocas.com/event/vinyasa-flow-yoga/2027-01-13/
LOCATION:Fitness Studio
CATEGORIES:Fitness Studio
ATTACH;FMTTYPE=image/png:https://tropicalartsbocas.com/wp-content/uploads/2026/01/Screenshot-2026-01-28-131919.png
END:VEVENT
BEGIN:VEVENT
DTSTART;TZID=America/Panama:20270115T173000
DTEND;TZID=America/Panama:20270115T183000
DTSTAMP:20260422T225926
CREATED:20260128T182904Z
LAST-MODIFIED:20260128T182904Z
UID:10000191-1800034200-1800037800@tropicalartsbocas.com
SUMMARY:Vinyasa Flow Yoga
DESCRIPTION:This class blends seamless flow with functional mobility-focused movement. Expect a feel-good rhythm\, smart sequencing and options to meet you where you are\, you´ll leave feeling stronger\, softer and more at home in your body! \nCome as you are–you´re in good hands
URL:https://tropicalartsbocas.com/event/vinyasa-flow-yoga/2027-01-15/
LOCATION:Fitness Studio
CATEGORIES:Fitness Studio
ATTACH;FMTTYPE=image/png:https://tropicalartsbocas.com/wp-content/uploads/2026/01/Screenshot-2026-01-28-131919.png
END:VEVENT
BEGIN:VEVENT
DTSTART;TZID=America/Panama:20270118T173000
DTEND;TZID=America/Panama:20270118T183000
DTSTAMP:20260422T225926
CREATED:20260128T182904Z
LAST-MODIFIED:20260128T182904Z
UID:10000192-1800293400-1800297000@tropicalartsbocas.com
SUMMARY:Vinyasa Flow Yoga
DESCRIPTION:This class blends seamless flow with functional mobility-focused movement. Expect a feel-good rhythm\, smart sequencing and options to meet you where you are\, you´ll leave feeling stronger\, softer and more at home in your body! \nCome as you are–you´re in good hands
URL:https://tropicalartsbocas.com/event/vinyasa-flow-yoga/2027-01-18/
LOCATION:Fitness Studio
CATEGORIES:Fitness Studio
ATTACH;FMTTYPE=image/png:https://tropicalartsbocas.com/wp-content/uploads/2026/01/Screenshot-2026-01-28-131919.png
END:VEVENT
BEGIN:VEVENT
DTSTART;TZID=America/Panama:20270120T160000
DTEND;TZID=America/Panama:20270120T170000
DTSTAMP:20260422T225926
CREATED:20260128T185942Z
LAST-MODIFIED:20260128T185942Z
UID:10000874-1800460800-1800464400@tropicalartsbocas.com
SUMMARY:Mat pilates with Kristle
DESCRIPTION:Strong moves\, a little burn\, fun playlists\, and laughs. This is Krystle your Mat Pilates Teacher who somehow makes you laugh and sweat at the same time. Her classes gives you a little burn\, a lot of moves you didn’t think you could pull off\, and always a playlist that just hits right. She’s all about helping you surprise yourself\, feel good in your body\, and leave class glowing a little stronger (and happier) than when you came in. Basically? if you want pilates that feels fun\, not scary — Krystle’s your girl.
URL:https://tropicalartsbocas.com/event/mat-pilates-with-kristle/2027-01-20/
LOCATION:Fitness Studio
CATEGORIES:Pilates,Wellness & Fitness,Workshops & Classes
ATTACH;FMTTYPE=image/png:https://tropicalartsbocas.com/wp-content/uploads/2026/01/Screenshot-2026-01-28-135058.png
END:VEVENT
BEGIN:VEVENT
DTSTART;TZID=America/Panama:20270120T173000
DTEND;TZID=America/Panama:20270120T183000
DTSTAMP:20260422T225926
CREATED:20260128T182904Z
LAST-MODIFIED:20260128T182904Z
UID:10000193-1800466200-1800469800@tropicalartsbocas.com
SUMMARY:Vinyasa Flow Yoga
DESCRIPTION:This class blends seamless flow with functional mobility-focused movement. Expect a feel-good rhythm\, smart sequencing and options to meet you where you are\, you´ll leave feeling stronger\, softer and more at home in your body! \nCome as you are–you´re in good hands
URL:https://tropicalartsbocas.com/event/vinyasa-flow-yoga/2027-01-20/
LOCATION:Fitness Studio
CATEGORIES:Fitness Studio
ATTACH;FMTTYPE=image/png:https://tropicalartsbocas.com/wp-content/uploads/2026/01/Screenshot-2026-01-28-131919.png
END:VEVENT
BEGIN:VEVENT
DTSTART;TZID=America/Panama:20270122T173000
DTEND;TZID=America/Panama:20270122T183000
DTSTAMP:20260422T225926
CREATED:20260128T182904Z
LAST-MODIFIED:20260128T182904Z
UID:10000194-1800639000-1800642600@tropicalartsbocas.com
SUMMARY:Vinyasa Flow Yoga
DESCRIPTION:This class blends seamless flow with functional mobility-focused movement. Expect a feel-good rhythm\, smart sequencing and options to meet you where you are\, you´ll leave feeling stronger\, softer and more at home in your body! \nCome as you are–you´re in good hands
URL:https://tropicalartsbocas.com/event/vinyasa-flow-yoga/2027-01-22/
LOCATION:Fitness Studio
CATEGORIES:Fitness Studio
ATTACH;FMTTYPE=image/png:https://tropicalartsbocas.com/wp-content/uploads/2026/01/Screenshot-2026-01-28-131919.png
END:VEVENT
BEGIN:VEVENT
DTSTART;TZID=America/Panama:20270125T173000
DTEND;TZID=America/Panama:20270125T183000
DTSTAMP:20260422T225926
CREATED:20260128T182904Z
LAST-MODIFIED:20260128T182904Z
UID:10000195-1800898200-1800901800@tropicalartsbocas.com
SUMMARY:Vinyasa Flow Yoga
DESCRIPTION:This class blends seamless flow with functional mobility-focused movement. Expect a feel-good rhythm\, smart sequencing and options to meet you where you are\, you´ll leave feeling stronger\, softer and more at home in your body! \nCome as you are–you´re in good hands
URL:https://tropicalartsbocas.com/event/vinyasa-flow-yoga/2027-01-25/
LOCATION:Fitness Studio
CATEGORIES:Fitness Studio
ATTACH;FMTTYPE=image/png:https://tropicalartsbocas.com/wp-content/uploads/2026/01/Screenshot-2026-01-28-131919.png
END:VEVENT
BEGIN:VEVENT
DTSTART;TZID=America/Panama:20270127T160000
DTEND;TZID=America/Panama:20270127T170000
DTSTAMP:20260422T225926
CREATED:20260128T185942Z
LAST-MODIFIED:20260128T185942Z
UID:10000875-1801065600-1801069200@tropicalartsbocas.com
SUMMARY:Mat pilates with Kristle
DESCRIPTION:Strong moves\, a little burn\, fun playlists\, and laughs. This is Krystle your Mat Pilates Teacher who somehow makes you laugh and sweat at the same time. Her classes gives you a little burn\, a lot of moves you didn’t think you could pull off\, and always a playlist that just hits right. She’s all about helping you surprise yourself\, feel good in your body\, and leave class glowing a little stronger (and happier) than when you came in. Basically? if you want pilates that feels fun\, not scary — Krystle’s your girl.
URL:https://tropicalartsbocas.com/event/mat-pilates-with-kristle/2027-01-27/
LOCATION:Fitness Studio
CATEGORIES:Pilates,Wellness & Fitness,Workshops & Classes
ATTACH;FMTTYPE=image/png:https://tropicalartsbocas.com/wp-content/uploads/2026/01/Screenshot-2026-01-28-135058.png
END:VEVENT
BEGIN:VEVENT
DTSTART;TZID=America/Panama:20270127T173000
DTEND;TZID=America/Panama:20270127T183000
DTSTAMP:20260422T225926
CREATED:20260128T182904Z
LAST-MODIFIED:20260128T182904Z
UID:10000196-1801071000-1801074600@tropicalartsbocas.com
SUMMARY:Vinyasa Flow Yoga
DESCRIPTION:This class blends seamless flow with functional mobility-focused movement. Expect a feel-good rhythm\, smart sequencing and options to meet you where you are\, you´ll leave feeling stronger\, softer and more at home in your body! \nCome as you are–you´re in good hands
URL:https://tropicalartsbocas.com/event/vinyasa-flow-yoga/2027-01-27/
LOCATION:Fitness Studio
CATEGORIES:Fitness Studio
ATTACH;FMTTYPE=image/png:https://tropicalartsbocas.com/wp-content/uploads/2026/01/Screenshot-2026-01-28-131919.png
END:VEVENT
BEGIN:VEVENT
DTSTART;TZID=America/Panama:20270129T173000
DTEND;TZID=America/Panama:20270129T183000
DTSTAMP:20260422T225926
CREATED:20260128T182904Z
LAST-MODIFIED:20260128T182904Z
UID:10000197-1801243800-1801247400@tropicalartsbocas.com
SUMMARY:Vinyasa Flow Yoga
DESCRIPTION:This class blends seamless flow with functional mobility-focused movement. Expect a feel-good rhythm\, smart sequencing and options to meet you where you are\, you´ll leave feeling stronger\, softer and more at home in your body! \nCome as you are–you´re in good hands
URL:https://tropicalartsbocas.com/event/vinyasa-flow-yoga/2027-01-29/
LOCATION:Fitness Studio
CATEGORIES:Fitness Studio
ATTACH;FMTTYPE=image/png:https://tropicalartsbocas.com/wp-content/uploads/2026/01/Screenshot-2026-01-28-131919.png
END:VEVENT
BEGIN:VEVENT
DTSTART;TZID=America/Panama:20270201T173000
DTEND;TZID=America/Panama:20270201T183000
DTSTAMP:20260422T225926
CREATED:20260128T182904Z
LAST-MODIFIED:20260128T182904Z
UID:10000198-1801503000-1801506600@tropicalartsbocas.com
SUMMARY:Vinyasa Flow Yoga
DESCRIPTION:This class blends seamless flow with functional mobility-focused movement. Expect a feel-good rhythm\, smart sequencing and options to meet you where you are\, you´ll leave feeling stronger\, softer and more at home in your body! \nCome as you are–you´re in good hands
URL:https://tropicalartsbocas.com/event/vinyasa-flow-yoga/2027-02-01/
LOCATION:Fitness Studio
CATEGORIES:Fitness Studio
ATTACH;FMTTYPE=image/png:https://tropicalartsbocas.com/wp-content/uploads/2026/01/Screenshot-2026-01-28-131919.png
END:VEVENT
END:VCALENDAR