BEGIN:VCALENDAR
VERSION:2.0
PRODID:-//TropicalArts Resort and Studios | Bocas del Toro, Panama - ECPv6.15.14//NONSGML v1.0//EN
CALSCALE:GREGORIAN
METHOD:PUBLISH
X-WR-CALNAME:TropicalArts Resort and Studios | Bocas del Toro, Panama
X-ORIGINAL-URL:https://tropicalartsbocas.com
X-WR-CALDESC:Events for TropicalArts Resort and Studios | Bocas del Toro, Panama
REFRESH-INTERVAL;VALUE=DURATION:PT1H
X-Robots-Tag:noindex
X-PUBLISHED-TTL:PT1H
BEGIN:VTIMEZONE
TZID:America/Panama
BEGIN:STANDARD
TZOFFSETFROM:-0500
TZOFFSETTO:-0500
TZNAME:EST
DTSTART:20280101T000000
END:STANDARD
END:VTIMEZONE
BEGIN:VEVENT
DTSTART;TZID=America/Panama:20291228T173000
DTEND;TZID=America/Panama:20291228T183000
DTSTAMP:20260423T180717
CREATED:20260128T182904Z
LAST-MODIFIED:20260128T182904Z
UID:10000653-1893173400-1893177000@tropicalartsbocas.com
SUMMARY:Vinyasa Flow Yoga
DESCRIPTION:This class blends seamless flow with functional mobility-focused movement. Expect a feel-good rhythm\, smart sequencing and options to meet you where you are\, you´ll leave feeling stronger\, softer and more at home in your body! \nCome as you are–you´re in good hands
URL:https://tropicalartsbocas.com/event/vinyasa-flow-yoga/2029-12-28/
LOCATION:Fitness Studio
CATEGORIES:Fitness Studio
ATTACH;FMTTYPE=image/png:https://tropicalartsbocas.com/wp-content/uploads/2026/01/Screenshot-2026-01-28-131919.png
END:VEVENT
BEGIN:VEVENT
DTSTART;TZID=America/Panama:20291231T173000
DTEND;TZID=America/Panama:20291231T183000
DTSTAMP:20260423T180717
CREATED:20260128T182904Z
LAST-MODIFIED:20260128T182904Z
UID:10000654-1893432600-1893436200@tropicalartsbocas.com
SUMMARY:Vinyasa Flow Yoga
DESCRIPTION:This class blends seamless flow with functional mobility-focused movement. Expect a feel-good rhythm\, smart sequencing and options to meet you where you are\, you´ll leave feeling stronger\, softer and more at home in your body! \nCome as you are–you´re in good hands
URL:https://tropicalartsbocas.com/event/vinyasa-flow-yoga/2029-12-31/
LOCATION:Fitness Studio
CATEGORIES:Fitness Studio
ATTACH;FMTTYPE=image/png:https://tropicalartsbocas.com/wp-content/uploads/2026/01/Screenshot-2026-01-28-131919.png
END:VEVENT
BEGIN:VEVENT
DTSTART;TZID=America/Panama:20300102T173000
DTEND;TZID=America/Panama:20300102T183000
DTSTAMP:20260423T180717
CREATED:20260128T182904Z
LAST-MODIFIED:20260128T182904Z
UID:10000655-1893605400-1893609000@tropicalartsbocas.com
SUMMARY:Vinyasa Flow Yoga
DESCRIPTION:This class blends seamless flow with functional mobility-focused movement. Expect a feel-good rhythm\, smart sequencing and options to meet you where you are\, you´ll leave feeling stronger\, softer and more at home in your body! \nCome as you are–you´re in good hands
URL:https://tropicalartsbocas.com/event/vinyasa-flow-yoga/2030-01-02/
LOCATION:Fitness Studio
CATEGORIES:Fitness Studio
ATTACH;FMTTYPE=image/png:https://tropicalartsbocas.com/wp-content/uploads/2026/01/Screenshot-2026-01-28-131919.png
END:VEVENT
BEGIN:VEVENT
DTSTART;TZID=America/Panama:20300104T173000
DTEND;TZID=America/Panama:20300104T183000
DTSTAMP:20260423T180717
CREATED:20260128T182904Z
LAST-MODIFIED:20260128T182904Z
UID:10000656-1893778200-1893781800@tropicalartsbocas.com
SUMMARY:Vinyasa Flow Yoga
DESCRIPTION:This class blends seamless flow with functional mobility-focused movement. Expect a feel-good rhythm\, smart sequencing and options to meet you where you are\, you´ll leave feeling stronger\, softer and more at home in your body! \nCome as you are–you´re in good hands
URL:https://tropicalartsbocas.com/event/vinyasa-flow-yoga/2030-01-04/
LOCATION:Fitness Studio
CATEGORIES:Fitness Studio
ATTACH;FMTTYPE=image/png:https://tropicalartsbocas.com/wp-content/uploads/2026/01/Screenshot-2026-01-28-131919.png
END:VEVENT
BEGIN:VEVENT
DTSTART;TZID=America/Panama:20300107T173000
DTEND;TZID=America/Panama:20300107T183000
DTSTAMP:20260423T180717
CREATED:20260128T182904Z
LAST-MODIFIED:20260128T182904Z
UID:10000657-1894037400-1894041000@tropicalartsbocas.com
SUMMARY:Vinyasa Flow Yoga
DESCRIPTION:This class blends seamless flow with functional mobility-focused movement. Expect a feel-good rhythm\, smart sequencing and options to meet you where you are\, you´ll leave feeling stronger\, softer and more at home in your body! \nCome as you are–you´re in good hands
URL:https://tropicalartsbocas.com/event/vinyasa-flow-yoga/2030-01-07/
LOCATION:Fitness Studio
CATEGORIES:Fitness Studio
ATTACH;FMTTYPE=image/png:https://tropicalartsbocas.com/wp-content/uploads/2026/01/Screenshot-2026-01-28-131919.png
END:VEVENT
BEGIN:VEVENT
DTSTART;TZID=America/Panama:20300109T173000
DTEND;TZID=America/Panama:20300109T183000
DTSTAMP:20260423T180717
CREATED:20260128T182904Z
LAST-MODIFIED:20260128T182904Z
UID:10000658-1894210200-1894213800@tropicalartsbocas.com
SUMMARY:Vinyasa Flow Yoga
DESCRIPTION:This class blends seamless flow with functional mobility-focused movement. Expect a feel-good rhythm\, smart sequencing and options to meet you where you are\, you´ll leave feeling stronger\, softer and more at home in your body! \nCome as you are–you´re in good hands
URL:https://tropicalartsbocas.com/event/vinyasa-flow-yoga/2030-01-09/
LOCATION:Fitness Studio
CATEGORIES:Fitness Studio
ATTACH;FMTTYPE=image/png:https://tropicalartsbocas.com/wp-content/uploads/2026/01/Screenshot-2026-01-28-131919.png
END:VEVENT
BEGIN:VEVENT
DTSTART;TZID=America/Panama:20300111T173000
DTEND;TZID=America/Panama:20300111T183000
DTSTAMP:20260423T180717
CREATED:20260128T182904Z
LAST-MODIFIED:20260128T182904Z
UID:10000659-1894383000-1894386600@tropicalartsbocas.com
SUMMARY:Vinyasa Flow Yoga
DESCRIPTION:This class blends seamless flow with functional mobility-focused movement. Expect a feel-good rhythm\, smart sequencing and options to meet you where you are\, you´ll leave feeling stronger\, softer and more at home in your body! \nCome as you are–you´re in good hands
URL:https://tropicalartsbocas.com/event/vinyasa-flow-yoga/2030-01-11/
LOCATION:Fitness Studio
CATEGORIES:Fitness Studio
ATTACH;FMTTYPE=image/png:https://tropicalartsbocas.com/wp-content/uploads/2026/01/Screenshot-2026-01-28-131919.png
END:VEVENT
BEGIN:VEVENT
DTSTART;TZID=America/Panama:20300114T173000
DTEND;TZID=America/Panama:20300114T183000
DTSTAMP:20260423T180717
CREATED:20260128T182904Z
LAST-MODIFIED:20260128T182904Z
UID:10000660-1894642200-1894645800@tropicalartsbocas.com
SUMMARY:Vinyasa Flow Yoga
DESCRIPTION:This class blends seamless flow with functional mobility-focused movement. Expect a feel-good rhythm\, smart sequencing and options to meet you where you are\, you´ll leave feeling stronger\, softer and more at home in your body! \nCome as you are–you´re in good hands
URL:https://tropicalartsbocas.com/event/vinyasa-flow-yoga/2030-01-14/
LOCATION:Fitness Studio
CATEGORIES:Fitness Studio
ATTACH;FMTTYPE=image/png:https://tropicalartsbocas.com/wp-content/uploads/2026/01/Screenshot-2026-01-28-131919.png
END:VEVENT
BEGIN:VEVENT
DTSTART;TZID=America/Panama:20300116T173000
DTEND;TZID=America/Panama:20300116T183000
DTSTAMP:20260423T180717
CREATED:20260128T182904Z
LAST-MODIFIED:20260128T182904Z
UID:10000661-1894815000-1894818600@tropicalartsbocas.com
SUMMARY:Vinyasa Flow Yoga
DESCRIPTION:This class blends seamless flow with functional mobility-focused movement. Expect a feel-good rhythm\, smart sequencing and options to meet you where you are\, you´ll leave feeling stronger\, softer and more at home in your body! \nCome as you are–you´re in good hands
URL:https://tropicalartsbocas.com/event/vinyasa-flow-yoga/2030-01-16/
LOCATION:Fitness Studio
CATEGORIES:Fitness Studio
ATTACH;FMTTYPE=image/png:https://tropicalartsbocas.com/wp-content/uploads/2026/01/Screenshot-2026-01-28-131919.png
END:VEVENT
BEGIN:VEVENT
DTSTART;TZID=America/Panama:20300118T173000
DTEND;TZID=America/Panama:20300118T183000
DTSTAMP:20260423T180717
CREATED:20260128T182904Z
LAST-MODIFIED:20260128T182904Z
UID:10000662-1894987800-1894991400@tropicalartsbocas.com
SUMMARY:Vinyasa Flow Yoga
DESCRIPTION:This class blends seamless flow with functional mobility-focused movement. Expect a feel-good rhythm\, smart sequencing and options to meet you where you are\, you´ll leave feeling stronger\, softer and more at home in your body! \nCome as you are–you´re in good hands
URL:https://tropicalartsbocas.com/event/vinyasa-flow-yoga/2030-01-18/
LOCATION:Fitness Studio
CATEGORIES:Fitness Studio
ATTACH;FMTTYPE=image/png:https://tropicalartsbocas.com/wp-content/uploads/2026/01/Screenshot-2026-01-28-131919.png
END:VEVENT
BEGIN:VEVENT
DTSTART;TZID=America/Panama:20300121T173000
DTEND;TZID=America/Panama:20300121T183000
DTSTAMP:20260423T180717
CREATED:20260128T182904Z
LAST-MODIFIED:20260128T182904Z
UID:10000663-1895247000-1895250600@tropicalartsbocas.com
SUMMARY:Vinyasa Flow Yoga
DESCRIPTION:This class blends seamless flow with functional mobility-focused movement. Expect a feel-good rhythm\, smart sequencing and options to meet you where you are\, you´ll leave feeling stronger\, softer and more at home in your body! \nCome as you are–you´re in good hands
URL:https://tropicalartsbocas.com/event/vinyasa-flow-yoga/2030-01-21/
LOCATION:Fitness Studio
CATEGORIES:Fitness Studio
ATTACH;FMTTYPE=image/png:https://tropicalartsbocas.com/wp-content/uploads/2026/01/Screenshot-2026-01-28-131919.png
END:VEVENT
BEGIN:VEVENT
DTSTART;TZID=America/Panama:20300123T173000
DTEND;TZID=America/Panama:20300123T183000
DTSTAMP:20260423T180717
CREATED:20260128T182904Z
LAST-MODIFIED:20260128T182904Z
UID:10000664-1895419800-1895423400@tropicalartsbocas.com
SUMMARY:Vinyasa Flow Yoga
DESCRIPTION:This class blends seamless flow with functional mobility-focused movement. Expect a feel-good rhythm\, smart sequencing and options to meet you where you are\, you´ll leave feeling stronger\, softer and more at home in your body! \nCome as you are–you´re in good hands
URL:https://tropicalartsbocas.com/event/vinyasa-flow-yoga/2030-01-23/
LOCATION:Fitness Studio
CATEGORIES:Fitness Studio
ATTACH;FMTTYPE=image/png:https://tropicalartsbocas.com/wp-content/uploads/2026/01/Screenshot-2026-01-28-131919.png
END:VEVENT
BEGIN:VEVENT
DTSTART;TZID=America/Panama:20300125T173000
DTEND;TZID=America/Panama:20300125T183000
DTSTAMP:20260423T180717
CREATED:20260128T182904Z
LAST-MODIFIED:20260128T182904Z
UID:10000665-1895592600-1895596200@tropicalartsbocas.com
SUMMARY:Vinyasa Flow Yoga
DESCRIPTION:This class blends seamless flow with functional mobility-focused movement. Expect a feel-good rhythm\, smart sequencing and options to meet you where you are\, you´ll leave feeling stronger\, softer and more at home in your body! \nCome as you are–you´re in good hands
URL:https://tropicalartsbocas.com/event/vinyasa-flow-yoga/2030-01-25/
LOCATION:Fitness Studio
CATEGORIES:Fitness Studio
ATTACH;FMTTYPE=image/png:https://tropicalartsbocas.com/wp-content/uploads/2026/01/Screenshot-2026-01-28-131919.png
END:VEVENT
BEGIN:VEVENT
DTSTART;TZID=America/Panama:20300128T173000
DTEND;TZID=America/Panama:20300128T183000
DTSTAMP:20260423T180717
CREATED:20260128T182904Z
LAST-MODIFIED:20260128T182904Z
UID:10000666-1895851800-1895855400@tropicalartsbocas.com
SUMMARY:Vinyasa Flow Yoga
DESCRIPTION:This class blends seamless flow with functional mobility-focused movement. Expect a feel-good rhythm\, smart sequencing and options to meet you where you are\, you´ll leave feeling stronger\, softer and more at home in your body! \nCome as you are–you´re in good hands
URL:https://tropicalartsbocas.com/event/vinyasa-flow-yoga/2030-01-28/
LOCATION:Fitness Studio
CATEGORIES:Fitness Studio
ATTACH;FMTTYPE=image/png:https://tropicalartsbocas.com/wp-content/uploads/2026/01/Screenshot-2026-01-28-131919.png
END:VEVENT
BEGIN:VEVENT
DTSTART;TZID=America/Panama:20300130T173000
DTEND;TZID=America/Panama:20300130T183000
DTSTAMP:20260423T180717
CREATED:20260128T182904Z
LAST-MODIFIED:20260128T182904Z
UID:10000667-1896024600-1896028200@tropicalartsbocas.com
SUMMARY:Vinyasa Flow Yoga
DESCRIPTION:This class blends seamless flow with functional mobility-focused movement. Expect a feel-good rhythm\, smart sequencing and options to meet you where you are\, you´ll leave feeling stronger\, softer and more at home in your body! \nCome as you are–you´re in good hands
URL:https://tropicalartsbocas.com/event/vinyasa-flow-yoga/2030-01-30/
LOCATION:Fitness Studio
CATEGORIES:Fitness Studio
ATTACH;FMTTYPE=image/png:https://tropicalartsbocas.com/wp-content/uploads/2026/01/Screenshot-2026-01-28-131919.png
END:VEVENT
BEGIN:VEVENT
DTSTART;TZID=America/Panama:20300201T173000
DTEND;TZID=America/Panama:20300201T183000
DTSTAMP:20260423T180717
CREATED:20260128T182904Z
LAST-MODIFIED:20260128T182904Z
UID:10000668-1896197400-1896201000@tropicalartsbocas.com
SUMMARY:Vinyasa Flow Yoga
DESCRIPTION:This class blends seamless flow with functional mobility-focused movement. Expect a feel-good rhythm\, smart sequencing and options to meet you where you are\, you´ll leave feeling stronger\, softer and more at home in your body! \nCome as you are–you´re in good hands
URL:https://tropicalartsbocas.com/event/vinyasa-flow-yoga/2030-02-01/
LOCATION:Fitness Studio
CATEGORIES:Fitness Studio
ATTACH;FMTTYPE=image/png:https://tropicalartsbocas.com/wp-content/uploads/2026/01/Screenshot-2026-01-28-131919.png
END:VEVENT
BEGIN:VEVENT
DTSTART;TZID=America/Panama:20300204T173000
DTEND;TZID=America/Panama:20300204T183000
DTSTAMP:20260423T180717
CREATED:20260128T182904Z
LAST-MODIFIED:20260128T182904Z
UID:10000669-1896456600-1896460200@tropicalartsbocas.com
SUMMARY:Vinyasa Flow Yoga
DESCRIPTION:This class blends seamless flow with functional mobility-focused movement. Expect a feel-good rhythm\, smart sequencing and options to meet you where you are\, you´ll leave feeling stronger\, softer and more at home in your body! \nCome as you are–you´re in good hands
URL:https://tropicalartsbocas.com/event/vinyasa-flow-yoga/2030-02-04/
LOCATION:Fitness Studio
CATEGORIES:Fitness Studio
ATTACH;FMTTYPE=image/png:https://tropicalartsbocas.com/wp-content/uploads/2026/01/Screenshot-2026-01-28-131919.png
END:VEVENT
BEGIN:VEVENT
DTSTART;TZID=America/Panama:20300206T173000
DTEND;TZID=America/Panama:20300206T183000
DTSTAMP:20260423T180717
CREATED:20260128T182904Z
LAST-MODIFIED:20260128T182904Z
UID:10000670-1896629400-1896633000@tropicalartsbocas.com
SUMMARY:Vinyasa Flow Yoga
DESCRIPTION:This class blends seamless flow with functional mobility-focused movement. Expect a feel-good rhythm\, smart sequencing and options to meet you where you are\, you´ll leave feeling stronger\, softer and more at home in your body! \nCome as you are–you´re in good hands
URL:https://tropicalartsbocas.com/event/vinyasa-flow-yoga/2030-02-06/
LOCATION:Fitness Studio
CATEGORIES:Fitness Studio
ATTACH;FMTTYPE=image/png:https://tropicalartsbocas.com/wp-content/uploads/2026/01/Screenshot-2026-01-28-131919.png
END:VEVENT
BEGIN:VEVENT
DTSTART;TZID=America/Panama:20300208T173000
DTEND;TZID=America/Panama:20300208T183000
DTSTAMP:20260423T180717
CREATED:20260128T182904Z
LAST-MODIFIED:20260128T182904Z
UID:10000671-1896802200-1896805800@tropicalartsbocas.com
SUMMARY:Vinyasa Flow Yoga
DESCRIPTION:This class blends seamless flow with functional mobility-focused movement. Expect a feel-good rhythm\, smart sequencing and options to meet you where you are\, you´ll leave feeling stronger\, softer and more at home in your body! \nCome as you are–you´re in good hands
URL:https://tropicalartsbocas.com/event/vinyasa-flow-yoga/2030-02-08/
LOCATION:Fitness Studio
CATEGORIES:Fitness Studio
ATTACH;FMTTYPE=image/png:https://tropicalartsbocas.com/wp-content/uploads/2026/01/Screenshot-2026-01-28-131919.png
END:VEVENT
BEGIN:VEVENT
DTSTART;TZID=America/Panama:20300211T173000
DTEND;TZID=America/Panama:20300211T183000
DTSTAMP:20260423T180717
CREATED:20260128T182904Z
LAST-MODIFIED:20260128T182904Z
UID:10000672-1897061400-1897065000@tropicalartsbocas.com
SUMMARY:Vinyasa Flow Yoga
DESCRIPTION:This class blends seamless flow with functional mobility-focused movement. Expect a feel-good rhythm\, smart sequencing and options to meet you where you are\, you´ll leave feeling stronger\, softer and more at home in your body! \nCome as you are–you´re in good hands
URL:https://tropicalartsbocas.com/event/vinyasa-flow-yoga/2030-02-11/
LOCATION:Fitness Studio
CATEGORIES:Fitness Studio
ATTACH;FMTTYPE=image/png:https://tropicalartsbocas.com/wp-content/uploads/2026/01/Screenshot-2026-01-28-131919.png
END:VEVENT
BEGIN:VEVENT
DTSTART;TZID=America/Panama:20300213T173000
DTEND;TZID=America/Panama:20300213T183000
DTSTAMP:20260423T180717
CREATED:20260128T182904Z
LAST-MODIFIED:20260128T182904Z
UID:10000673-1897234200-1897237800@tropicalartsbocas.com
SUMMARY:Vinyasa Flow Yoga
DESCRIPTION:This class blends seamless flow with functional mobility-focused movement. Expect a feel-good rhythm\, smart sequencing and options to meet you where you are\, you´ll leave feeling stronger\, softer and more at home in your body! \nCome as you are–you´re in good hands
URL:https://tropicalartsbocas.com/event/vinyasa-flow-yoga/2030-02-13/
LOCATION:Fitness Studio
CATEGORIES:Fitness Studio
ATTACH;FMTTYPE=image/png:https://tropicalartsbocas.com/wp-content/uploads/2026/01/Screenshot-2026-01-28-131919.png
END:VEVENT
BEGIN:VEVENT
DTSTART;TZID=America/Panama:20300215T173000
DTEND;TZID=America/Panama:20300215T183000
DTSTAMP:20260423T180717
CREATED:20260128T182904Z
LAST-MODIFIED:20260128T182904Z
UID:10000674-1897407000-1897410600@tropicalartsbocas.com
SUMMARY:Vinyasa Flow Yoga
DESCRIPTION:This class blends seamless flow with functional mobility-focused movement. Expect a feel-good rhythm\, smart sequencing and options to meet you where you are\, you´ll leave feeling stronger\, softer and more at home in your body! \nCome as you are–you´re in good hands
URL:https://tropicalartsbocas.com/event/vinyasa-flow-yoga/2030-02-15/
LOCATION:Fitness Studio
CATEGORIES:Fitness Studio
ATTACH;FMTTYPE=image/png:https://tropicalartsbocas.com/wp-content/uploads/2026/01/Screenshot-2026-01-28-131919.png
END:VEVENT
BEGIN:VEVENT
DTSTART;TZID=America/Panama:20300218T173000
DTEND;TZID=America/Panama:20300218T183000
DTSTAMP:20260423T180717
CREATED:20260128T182904Z
LAST-MODIFIED:20260128T182904Z
UID:10000675-1897666200-1897669800@tropicalartsbocas.com
SUMMARY:Vinyasa Flow Yoga
DESCRIPTION:This class blends seamless flow with functional mobility-focused movement. Expect a feel-good rhythm\, smart sequencing and options to meet you where you are\, you´ll leave feeling stronger\, softer and more at home in your body! \nCome as you are–you´re in good hands
URL:https://tropicalartsbocas.com/event/vinyasa-flow-yoga/2030-02-18/
LOCATION:Fitness Studio
CATEGORIES:Fitness Studio
ATTACH;FMTTYPE=image/png:https://tropicalartsbocas.com/wp-content/uploads/2026/01/Screenshot-2026-01-28-131919.png
END:VEVENT
BEGIN:VEVENT
DTSTART;TZID=America/Panama:20300220T173000
DTEND;TZID=America/Panama:20300220T183000
DTSTAMP:20260423T180717
CREATED:20260128T182904Z
LAST-MODIFIED:20260128T182904Z
UID:10000676-1897839000-1897842600@tropicalartsbocas.com
SUMMARY:Vinyasa Flow Yoga
DESCRIPTION:This class blends seamless flow with functional mobility-focused movement. Expect a feel-good rhythm\, smart sequencing and options to meet you where you are\, you´ll leave feeling stronger\, softer and more at home in your body! \nCome as you are–you´re in good hands
URL:https://tropicalartsbocas.com/event/vinyasa-flow-yoga/2030-02-20/
LOCATION:Fitness Studio
CATEGORIES:Fitness Studio
ATTACH;FMTTYPE=image/png:https://tropicalartsbocas.com/wp-content/uploads/2026/01/Screenshot-2026-01-28-131919.png
END:VEVENT
BEGIN:VEVENT
DTSTART;TZID=America/Panama:20300222T173000
DTEND;TZID=America/Panama:20300222T183000
DTSTAMP:20260423T180717
CREATED:20260128T182904Z
LAST-MODIFIED:20260128T182904Z
UID:10000677-1898011800-1898015400@tropicalartsbocas.com
SUMMARY:Vinyasa Flow Yoga
DESCRIPTION:This class blends seamless flow with functional mobility-focused movement. Expect a feel-good rhythm\, smart sequencing and options to meet you where you are\, you´ll leave feeling stronger\, softer and more at home in your body! \nCome as you are–you´re in good hands
URL:https://tropicalartsbocas.com/event/vinyasa-flow-yoga/2030-02-22/
LOCATION:Fitness Studio
CATEGORIES:Fitness Studio
ATTACH;FMTTYPE=image/png:https://tropicalartsbocas.com/wp-content/uploads/2026/01/Screenshot-2026-01-28-131919.png
END:VEVENT
BEGIN:VEVENT
DTSTART;TZID=America/Panama:20300225T173000
DTEND;TZID=America/Panama:20300225T183000
DTSTAMP:20260423T180717
CREATED:20260128T182904Z
LAST-MODIFIED:20260128T182904Z
UID:10000678-1898271000-1898274600@tropicalartsbocas.com
SUMMARY:Vinyasa Flow Yoga
DESCRIPTION:This class blends seamless flow with functional mobility-focused movement. Expect a feel-good rhythm\, smart sequencing and options to meet you where you are\, you´ll leave feeling stronger\, softer and more at home in your body! \nCome as you are–you´re in good hands
URL:https://tropicalartsbocas.com/event/vinyasa-flow-yoga/2030-02-25/
LOCATION:Fitness Studio
CATEGORIES:Fitness Studio
ATTACH;FMTTYPE=image/png:https://tropicalartsbocas.com/wp-content/uploads/2026/01/Screenshot-2026-01-28-131919.png
END:VEVENT
BEGIN:VEVENT
DTSTART;TZID=America/Panama:20300227T173000
DTEND;TZID=America/Panama:20300227T183000
DTSTAMP:20260423T180717
CREATED:20260128T182904Z
LAST-MODIFIED:20260128T182904Z
UID:10000679-1898443800-1898447400@tropicalartsbocas.com
SUMMARY:Vinyasa Flow Yoga
DESCRIPTION:This class blends seamless flow with functional mobility-focused movement. Expect a feel-good rhythm\, smart sequencing and options to meet you where you are\, you´ll leave feeling stronger\, softer and more at home in your body! \nCome as you are–you´re in good hands
URL:https://tropicalartsbocas.com/event/vinyasa-flow-yoga/2030-02-27/
LOCATION:Fitness Studio
CATEGORIES:Fitness Studio
ATTACH;FMTTYPE=image/png:https://tropicalartsbocas.com/wp-content/uploads/2026/01/Screenshot-2026-01-28-131919.png
END:VEVENT
BEGIN:VEVENT
DTSTART;TZID=America/Panama:20300301T173000
DTEND;TZID=America/Panama:20300301T183000
DTSTAMP:20260423T180717
CREATED:20260128T182904Z
LAST-MODIFIED:20260128T182904Z
UID:10000680-1898616600-1898620200@tropicalartsbocas.com
SUMMARY:Vinyasa Flow Yoga
DESCRIPTION:This class blends seamless flow with functional mobility-focused movement. Expect a feel-good rhythm\, smart sequencing and options to meet you where you are\, you´ll leave feeling stronger\, softer and more at home in your body! \nCome as you are–you´re in good hands
URL:https://tropicalartsbocas.com/event/vinyasa-flow-yoga/2030-03-01/
LOCATION:Fitness Studio
CATEGORIES:Fitness Studio
ATTACH;FMTTYPE=image/png:https://tropicalartsbocas.com/wp-content/uploads/2026/01/Screenshot-2026-01-28-131919.png
END:VEVENT
BEGIN:VEVENT
DTSTART;TZID=America/Panama:20300304T173000
DTEND;TZID=America/Panama:20300304T183000
DTSTAMP:20260423T180717
CREATED:20260128T182904Z
LAST-MODIFIED:20260128T182904Z
UID:10000681-1898875800-1898879400@tropicalartsbocas.com
SUMMARY:Vinyasa Flow Yoga
DESCRIPTION:This class blends seamless flow with functional mobility-focused movement. Expect a feel-good rhythm\, smart sequencing and options to meet you where you are\, you´ll leave feeling stronger\, softer and more at home in your body! \nCome as you are–you´re in good hands
URL:https://tropicalartsbocas.com/event/vinyasa-flow-yoga/2030-03-04/
LOCATION:Fitness Studio
CATEGORIES:Fitness Studio
ATTACH;FMTTYPE=image/png:https://tropicalartsbocas.com/wp-content/uploads/2026/01/Screenshot-2026-01-28-131919.png
END:VEVENT
BEGIN:VEVENT
DTSTART;TZID=America/Panama:20300306T173000
DTEND;TZID=America/Panama:20300306T183000
DTSTAMP:20260423T180717
CREATED:20260128T182904Z
LAST-MODIFIED:20260128T182904Z
UID:10000682-1899048600-1899052200@tropicalartsbocas.com
SUMMARY:Vinyasa Flow Yoga
DESCRIPTION:This class blends seamless flow with functional mobility-focused movement. Expect a feel-good rhythm\, smart sequencing and options to meet you where you are\, you´ll leave feeling stronger\, softer and more at home in your body! \nCome as you are–you´re in good hands
URL:https://tropicalartsbocas.com/event/vinyasa-flow-yoga/2030-03-06/
LOCATION:Fitness Studio
CATEGORIES:Fitness Studio
ATTACH;FMTTYPE=image/png:https://tropicalartsbocas.com/wp-content/uploads/2026/01/Screenshot-2026-01-28-131919.png
END:VEVENT
END:VCALENDAR