BEGIN:VCALENDAR
VERSION:2.0
PRODID:-//TropicalArts Resort and Studios | Bocas del Toro, Panama - ECPv6.15.14//NONSGML v1.0//EN
CALSCALE:GREGORIAN
METHOD:PUBLISH
X-WR-CALNAME:TropicalArts Resort and Studios | Bocas del Toro, Panama
X-ORIGINAL-URL:https://tropicalartsbocas.com
X-WR-CALDESC:Events for TropicalArts Resort and Studios | Bocas del Toro, Panama
REFRESH-INTERVAL;VALUE=DURATION:PT1H
X-Robots-Tag:noindex
X-PUBLISHED-TTL:PT1H
BEGIN:VTIMEZONE
TZID:America/Panama
BEGIN:STANDARD
TZOFFSETFROM:-0500
TZOFFSETTO:-0500
TZNAME:EST
DTSTART:20270101T000000
END:STANDARD
END:VTIMEZONE
BEGIN:VEVENT
DTSTART;TZID=America/Panama:20280809T173000
DTEND;TZID=America/Panama:20280809T183000
DTSTAMP:20260422T114259
CREATED:20260128T182904Z
LAST-MODIFIED:20260128T182904Z
UID:10000436-1849455000-1849458600@tropicalartsbocas.com
SUMMARY:Vinyasa Flow Yoga
DESCRIPTION:This class blends seamless flow with functional mobility-focused movement. Expect a feel-good rhythm\, smart sequencing and options to meet you where you are\, you´ll leave feeling stronger\, softer and more at home in your body! \nCome as you are–you´re in good hands
URL:https://tropicalartsbocas.com/event/vinyasa-flow-yoga/2028-08-09/
LOCATION:Fitness Studio
CATEGORIES:Fitness Studio
ATTACH;FMTTYPE=image/png:https://tropicalartsbocas.com/wp-content/uploads/2026/01/Screenshot-2026-01-28-131919.png
END:VEVENT
BEGIN:VEVENT
DTSTART;TZID=America/Panama:20280811T173000
DTEND;TZID=America/Panama:20280811T183000
DTSTAMP:20260422T114259
CREATED:20260128T182904Z
LAST-MODIFIED:20260128T182904Z
UID:10000437-1849627800-1849631400@tropicalartsbocas.com
SUMMARY:Vinyasa Flow Yoga
DESCRIPTION:This class blends seamless flow with functional mobility-focused movement. Expect a feel-good rhythm\, smart sequencing and options to meet you where you are\, you´ll leave feeling stronger\, softer and more at home in your body! \nCome as you are–you´re in good hands
URL:https://tropicalartsbocas.com/event/vinyasa-flow-yoga/2028-08-11/
LOCATION:Fitness Studio
CATEGORIES:Fitness Studio
ATTACH;FMTTYPE=image/png:https://tropicalartsbocas.com/wp-content/uploads/2026/01/Screenshot-2026-01-28-131919.png
END:VEVENT
BEGIN:VEVENT
DTSTART;TZID=America/Panama:20280814T173000
DTEND;TZID=America/Panama:20280814T183000
DTSTAMP:20260422T114259
CREATED:20260128T182904Z
LAST-MODIFIED:20260128T182904Z
UID:10000438-1849887000-1849890600@tropicalartsbocas.com
SUMMARY:Vinyasa Flow Yoga
DESCRIPTION:This class blends seamless flow with functional mobility-focused movement. Expect a feel-good rhythm\, smart sequencing and options to meet you where you are\, you´ll leave feeling stronger\, softer and more at home in your body! \nCome as you are–you´re in good hands
URL:https://tropicalartsbocas.com/event/vinyasa-flow-yoga/2028-08-14/
LOCATION:Fitness Studio
CATEGORIES:Fitness Studio
ATTACH;FMTTYPE=image/png:https://tropicalartsbocas.com/wp-content/uploads/2026/01/Screenshot-2026-01-28-131919.png
END:VEVENT
BEGIN:VEVENT
DTSTART;TZID=America/Panama:20280816T173000
DTEND;TZID=America/Panama:20280816T183000
DTSTAMP:20260422T114259
CREATED:20260128T182904Z
LAST-MODIFIED:20260128T182904Z
UID:10000439-1850059800-1850063400@tropicalartsbocas.com
SUMMARY:Vinyasa Flow Yoga
DESCRIPTION:This class blends seamless flow with functional mobility-focused movement. Expect a feel-good rhythm\, smart sequencing and options to meet you where you are\, you´ll leave feeling stronger\, softer and more at home in your body! \nCome as you are–you´re in good hands
URL:https://tropicalartsbocas.com/event/vinyasa-flow-yoga/2028-08-16/
LOCATION:Fitness Studio
CATEGORIES:Fitness Studio
ATTACH;FMTTYPE=image/png:https://tropicalartsbocas.com/wp-content/uploads/2026/01/Screenshot-2026-01-28-131919.png
END:VEVENT
BEGIN:VEVENT
DTSTART;TZID=America/Panama:20280818T173000
DTEND;TZID=America/Panama:20280818T183000
DTSTAMP:20260422T114259
CREATED:20260128T182904Z
LAST-MODIFIED:20260128T182904Z
UID:10000440-1850232600-1850236200@tropicalartsbocas.com
SUMMARY:Vinyasa Flow Yoga
DESCRIPTION:This class blends seamless flow with functional mobility-focused movement. Expect a feel-good rhythm\, smart sequencing and options to meet you where you are\, you´ll leave feeling stronger\, softer and more at home in your body! \nCome as you are–you´re in good hands
URL:https://tropicalartsbocas.com/event/vinyasa-flow-yoga/2028-08-18/
LOCATION:Fitness Studio
CATEGORIES:Fitness Studio
ATTACH;FMTTYPE=image/png:https://tropicalartsbocas.com/wp-content/uploads/2026/01/Screenshot-2026-01-28-131919.png
END:VEVENT
BEGIN:VEVENT
DTSTART;TZID=America/Panama:20280821T173000
DTEND;TZID=America/Panama:20280821T183000
DTSTAMP:20260422T114259
CREATED:20260128T182904Z
LAST-MODIFIED:20260128T182904Z
UID:10000441-1850491800-1850495400@tropicalartsbocas.com
SUMMARY:Vinyasa Flow Yoga
DESCRIPTION:This class blends seamless flow with functional mobility-focused movement. Expect a feel-good rhythm\, smart sequencing and options to meet you where you are\, you´ll leave feeling stronger\, softer and more at home in your body! \nCome as you are–you´re in good hands
URL:https://tropicalartsbocas.com/event/vinyasa-flow-yoga/2028-08-21/
LOCATION:Fitness Studio
CATEGORIES:Fitness Studio
ATTACH;FMTTYPE=image/png:https://tropicalartsbocas.com/wp-content/uploads/2026/01/Screenshot-2026-01-28-131919.png
END:VEVENT
BEGIN:VEVENT
DTSTART;TZID=America/Panama:20280823T173000
DTEND;TZID=America/Panama:20280823T183000
DTSTAMP:20260422T114259
CREATED:20260128T182904Z
LAST-MODIFIED:20260128T182904Z
UID:10000442-1850664600-1850668200@tropicalartsbocas.com
SUMMARY:Vinyasa Flow Yoga
DESCRIPTION:This class blends seamless flow with functional mobility-focused movement. Expect a feel-good rhythm\, smart sequencing and options to meet you where you are\, you´ll leave feeling stronger\, softer and more at home in your body! \nCome as you are–you´re in good hands
URL:https://tropicalartsbocas.com/event/vinyasa-flow-yoga/2028-08-23/
LOCATION:Fitness Studio
CATEGORIES:Fitness Studio
ATTACH;FMTTYPE=image/png:https://tropicalartsbocas.com/wp-content/uploads/2026/01/Screenshot-2026-01-28-131919.png
END:VEVENT
BEGIN:VEVENT
DTSTART;TZID=America/Panama:20280825T173000
DTEND;TZID=America/Panama:20280825T183000
DTSTAMP:20260422T114259
CREATED:20260128T182904Z
LAST-MODIFIED:20260128T182904Z
UID:10000443-1850837400-1850841000@tropicalartsbocas.com
SUMMARY:Vinyasa Flow Yoga
DESCRIPTION:This class blends seamless flow with functional mobility-focused movement. Expect a feel-good rhythm\, smart sequencing and options to meet you where you are\, you´ll leave feeling stronger\, softer and more at home in your body! \nCome as you are–you´re in good hands
URL:https://tropicalartsbocas.com/event/vinyasa-flow-yoga/2028-08-25/
LOCATION:Fitness Studio
CATEGORIES:Fitness Studio
ATTACH;FMTTYPE=image/png:https://tropicalartsbocas.com/wp-content/uploads/2026/01/Screenshot-2026-01-28-131919.png
END:VEVENT
BEGIN:VEVENT
DTSTART;TZID=America/Panama:20280828T173000
DTEND;TZID=America/Panama:20280828T183000
DTSTAMP:20260422T114259
CREATED:20260128T182904Z
LAST-MODIFIED:20260128T182904Z
UID:10000444-1851096600-1851100200@tropicalartsbocas.com
SUMMARY:Vinyasa Flow Yoga
DESCRIPTION:This class blends seamless flow with functional mobility-focused movement. Expect a feel-good rhythm\, smart sequencing and options to meet you where you are\, you´ll leave feeling stronger\, softer and more at home in your body! \nCome as you are–you´re in good hands
URL:https://tropicalartsbocas.com/event/vinyasa-flow-yoga/2028-08-28/
LOCATION:Fitness Studio
CATEGORIES:Fitness Studio
ATTACH;FMTTYPE=image/png:https://tropicalartsbocas.com/wp-content/uploads/2026/01/Screenshot-2026-01-28-131919.png
END:VEVENT
BEGIN:VEVENT
DTSTART;TZID=America/Panama:20280830T173000
DTEND;TZID=America/Panama:20280830T183000
DTSTAMP:20260422T114259
CREATED:20260128T182904Z
LAST-MODIFIED:20260128T182904Z
UID:10000445-1851269400-1851273000@tropicalartsbocas.com
SUMMARY:Vinyasa Flow Yoga
DESCRIPTION:This class blends seamless flow with functional mobility-focused movement. Expect a feel-good rhythm\, smart sequencing and options to meet you where you are\, you´ll leave feeling stronger\, softer and more at home in your body! \nCome as you are–you´re in good hands
URL:https://tropicalartsbocas.com/event/vinyasa-flow-yoga/2028-08-30/
LOCATION:Fitness Studio
CATEGORIES:Fitness Studio
ATTACH;FMTTYPE=image/png:https://tropicalartsbocas.com/wp-content/uploads/2026/01/Screenshot-2026-01-28-131919.png
END:VEVENT
BEGIN:VEVENT
DTSTART;TZID=America/Panama:20280901T173000
DTEND;TZID=America/Panama:20280901T183000
DTSTAMP:20260422T114259
CREATED:20260128T182904Z
LAST-MODIFIED:20260128T182904Z
UID:10000446-1851442200-1851445800@tropicalartsbocas.com
SUMMARY:Vinyasa Flow Yoga
DESCRIPTION:This class blends seamless flow with functional mobility-focused movement. Expect a feel-good rhythm\, smart sequencing and options to meet you where you are\, you´ll leave feeling stronger\, softer and more at home in your body! \nCome as you are–you´re in good hands
URL:https://tropicalartsbocas.com/event/vinyasa-flow-yoga/2028-09-01/
LOCATION:Fitness Studio
CATEGORIES:Fitness Studio
ATTACH;FMTTYPE=image/png:https://tropicalartsbocas.com/wp-content/uploads/2026/01/Screenshot-2026-01-28-131919.png
END:VEVENT
BEGIN:VEVENT
DTSTART;TZID=America/Panama:20280904T173000
DTEND;TZID=America/Panama:20280904T183000
DTSTAMP:20260422T114259
CREATED:20260128T182904Z
LAST-MODIFIED:20260128T182904Z
UID:10000447-1851701400-1851705000@tropicalartsbocas.com
SUMMARY:Vinyasa Flow Yoga
DESCRIPTION:This class blends seamless flow with functional mobility-focused movement. Expect a feel-good rhythm\, smart sequencing and options to meet you where you are\, you´ll leave feeling stronger\, softer and more at home in your body! \nCome as you are–you´re in good hands
URL:https://tropicalartsbocas.com/event/vinyasa-flow-yoga/2028-09-04/
LOCATION:Fitness Studio
CATEGORIES:Fitness Studio
ATTACH;FMTTYPE=image/png:https://tropicalartsbocas.com/wp-content/uploads/2026/01/Screenshot-2026-01-28-131919.png
END:VEVENT
BEGIN:VEVENT
DTSTART;TZID=America/Panama:20280906T173000
DTEND;TZID=America/Panama:20280906T183000
DTSTAMP:20260422T114259
CREATED:20260128T182904Z
LAST-MODIFIED:20260128T182904Z
UID:10000448-1851874200-1851877800@tropicalartsbocas.com
SUMMARY:Vinyasa Flow Yoga
DESCRIPTION:This class blends seamless flow with functional mobility-focused movement. Expect a feel-good rhythm\, smart sequencing and options to meet you where you are\, you´ll leave feeling stronger\, softer and more at home in your body! \nCome as you are–you´re in good hands
URL:https://tropicalartsbocas.com/event/vinyasa-flow-yoga/2028-09-06/
LOCATION:Fitness Studio
CATEGORIES:Fitness Studio
ATTACH;FMTTYPE=image/png:https://tropicalartsbocas.com/wp-content/uploads/2026/01/Screenshot-2026-01-28-131919.png
END:VEVENT
BEGIN:VEVENT
DTSTART;TZID=America/Panama:20280908T173000
DTEND;TZID=America/Panama:20280908T183000
DTSTAMP:20260422T114259
CREATED:20260128T182904Z
LAST-MODIFIED:20260128T182904Z
UID:10000449-1852047000-1852050600@tropicalartsbocas.com
SUMMARY:Vinyasa Flow Yoga
DESCRIPTION:This class blends seamless flow with functional mobility-focused movement. Expect a feel-good rhythm\, smart sequencing and options to meet you where you are\, you´ll leave feeling stronger\, softer and more at home in your body! \nCome as you are–you´re in good hands
URL:https://tropicalartsbocas.com/event/vinyasa-flow-yoga/2028-09-08/
LOCATION:Fitness Studio
CATEGORIES:Fitness Studio
ATTACH;FMTTYPE=image/png:https://tropicalartsbocas.com/wp-content/uploads/2026/01/Screenshot-2026-01-28-131919.png
END:VEVENT
BEGIN:VEVENT
DTSTART;TZID=America/Panama:20280911T173000
DTEND;TZID=America/Panama:20280911T183000
DTSTAMP:20260422T114259
CREATED:20260128T182904Z
LAST-MODIFIED:20260128T182904Z
UID:10000450-1852306200-1852309800@tropicalartsbocas.com
SUMMARY:Vinyasa Flow Yoga
DESCRIPTION:This class blends seamless flow with functional mobility-focused movement. Expect a feel-good rhythm\, smart sequencing and options to meet you where you are\, you´ll leave feeling stronger\, softer and more at home in your body! \nCome as you are–you´re in good hands
URL:https://tropicalartsbocas.com/event/vinyasa-flow-yoga/2028-09-11/
LOCATION:Fitness Studio
CATEGORIES:Fitness Studio
ATTACH;FMTTYPE=image/png:https://tropicalartsbocas.com/wp-content/uploads/2026/01/Screenshot-2026-01-28-131919.png
END:VEVENT
BEGIN:VEVENT
DTSTART;TZID=America/Panama:20280913T173000
DTEND;TZID=America/Panama:20280913T183000
DTSTAMP:20260422T114259
CREATED:20260128T182904Z
LAST-MODIFIED:20260128T182904Z
UID:10000451-1852479000-1852482600@tropicalartsbocas.com
SUMMARY:Vinyasa Flow Yoga
DESCRIPTION:This class blends seamless flow with functional mobility-focused movement. Expect a feel-good rhythm\, smart sequencing and options to meet you where you are\, you´ll leave feeling stronger\, softer and more at home in your body! \nCome as you are–you´re in good hands
URL:https://tropicalartsbocas.com/event/vinyasa-flow-yoga/2028-09-13/
LOCATION:Fitness Studio
CATEGORIES:Fitness Studio
ATTACH;FMTTYPE=image/png:https://tropicalartsbocas.com/wp-content/uploads/2026/01/Screenshot-2026-01-28-131919.png
END:VEVENT
BEGIN:VEVENT
DTSTART;TZID=America/Panama:20280915T173000
DTEND;TZID=America/Panama:20280915T183000
DTSTAMP:20260422T114259
CREATED:20260128T182904Z
LAST-MODIFIED:20260128T182904Z
UID:10000452-1852651800-1852655400@tropicalartsbocas.com
SUMMARY:Vinyasa Flow Yoga
DESCRIPTION:This class blends seamless flow with functional mobility-focused movement. Expect a feel-good rhythm\, smart sequencing and options to meet you where you are\, you´ll leave feeling stronger\, softer and more at home in your body! \nCome as you are–you´re in good hands
URL:https://tropicalartsbocas.com/event/vinyasa-flow-yoga/2028-09-15/
LOCATION:Fitness Studio
CATEGORIES:Fitness Studio
ATTACH;FMTTYPE=image/png:https://tropicalartsbocas.com/wp-content/uploads/2026/01/Screenshot-2026-01-28-131919.png
END:VEVENT
BEGIN:VEVENT
DTSTART;TZID=America/Panama:20280918T173000
DTEND;TZID=America/Panama:20280918T183000
DTSTAMP:20260422T114259
CREATED:20260128T182904Z
LAST-MODIFIED:20260128T182904Z
UID:10000453-1852911000-1852914600@tropicalartsbocas.com
SUMMARY:Vinyasa Flow Yoga
DESCRIPTION:This class blends seamless flow with functional mobility-focused movement. Expect a feel-good rhythm\, smart sequencing and options to meet you where you are\, you´ll leave feeling stronger\, softer and more at home in your body! \nCome as you are–you´re in good hands
URL:https://tropicalartsbocas.com/event/vinyasa-flow-yoga/2028-09-18/
LOCATION:Fitness Studio
CATEGORIES:Fitness Studio
ATTACH;FMTTYPE=image/png:https://tropicalartsbocas.com/wp-content/uploads/2026/01/Screenshot-2026-01-28-131919.png
END:VEVENT
BEGIN:VEVENT
DTSTART;TZID=America/Panama:20280920T173000
DTEND;TZID=America/Panama:20280920T183000
DTSTAMP:20260422T114259
CREATED:20260128T182904Z
LAST-MODIFIED:20260128T182904Z
UID:10000454-1853083800-1853087400@tropicalartsbocas.com
SUMMARY:Vinyasa Flow Yoga
DESCRIPTION:This class blends seamless flow with functional mobility-focused movement. Expect a feel-good rhythm\, smart sequencing and options to meet you where you are\, you´ll leave feeling stronger\, softer and more at home in your body! \nCome as you are–you´re in good hands
URL:https://tropicalartsbocas.com/event/vinyasa-flow-yoga/2028-09-20/
LOCATION:Fitness Studio
CATEGORIES:Fitness Studio
ATTACH;FMTTYPE=image/png:https://tropicalartsbocas.com/wp-content/uploads/2026/01/Screenshot-2026-01-28-131919.png
END:VEVENT
BEGIN:VEVENT
DTSTART;TZID=America/Panama:20280922T173000
DTEND;TZID=America/Panama:20280922T183000
DTSTAMP:20260422T114259
CREATED:20260128T182904Z
LAST-MODIFIED:20260128T182904Z
UID:10000455-1853256600-1853260200@tropicalartsbocas.com
SUMMARY:Vinyasa Flow Yoga
DESCRIPTION:This class blends seamless flow with functional mobility-focused movement. Expect a feel-good rhythm\, smart sequencing and options to meet you where you are\, you´ll leave feeling stronger\, softer and more at home in your body! \nCome as you are–you´re in good hands
URL:https://tropicalartsbocas.com/event/vinyasa-flow-yoga/2028-09-22/
LOCATION:Fitness Studio
CATEGORIES:Fitness Studio
ATTACH;FMTTYPE=image/png:https://tropicalartsbocas.com/wp-content/uploads/2026/01/Screenshot-2026-01-28-131919.png
END:VEVENT
BEGIN:VEVENT
DTSTART;TZID=America/Panama:20280925T173000
DTEND;TZID=America/Panama:20280925T183000
DTSTAMP:20260422T114259
CREATED:20260128T182904Z
LAST-MODIFIED:20260128T182904Z
UID:10000456-1853515800-1853519400@tropicalartsbocas.com
SUMMARY:Vinyasa Flow Yoga
DESCRIPTION:This class blends seamless flow with functional mobility-focused movement. Expect a feel-good rhythm\, smart sequencing and options to meet you where you are\, you´ll leave feeling stronger\, softer and more at home in your body! \nCome as you are–you´re in good hands
URL:https://tropicalartsbocas.com/event/vinyasa-flow-yoga/2028-09-25/
LOCATION:Fitness Studio
CATEGORIES:Fitness Studio
ATTACH;FMTTYPE=image/png:https://tropicalartsbocas.com/wp-content/uploads/2026/01/Screenshot-2026-01-28-131919.png
END:VEVENT
BEGIN:VEVENT
DTSTART;TZID=America/Panama:20280927T173000
DTEND;TZID=America/Panama:20280927T183000
DTSTAMP:20260422T114259
CREATED:20260128T182904Z
LAST-MODIFIED:20260128T182904Z
UID:10000457-1853688600-1853692200@tropicalartsbocas.com
SUMMARY:Vinyasa Flow Yoga
DESCRIPTION:This class blends seamless flow with functional mobility-focused movement. Expect a feel-good rhythm\, smart sequencing and options to meet you where you are\, you´ll leave feeling stronger\, softer and more at home in your body! \nCome as you are–you´re in good hands
URL:https://tropicalartsbocas.com/event/vinyasa-flow-yoga/2028-09-27/
LOCATION:Fitness Studio
CATEGORIES:Fitness Studio
ATTACH;FMTTYPE=image/png:https://tropicalartsbocas.com/wp-content/uploads/2026/01/Screenshot-2026-01-28-131919.png
END:VEVENT
BEGIN:VEVENT
DTSTART;TZID=America/Panama:20280929T173000
DTEND;TZID=America/Panama:20280929T183000
DTSTAMP:20260422T114259
CREATED:20260128T182904Z
LAST-MODIFIED:20260128T182904Z
UID:10000458-1853861400-1853865000@tropicalartsbocas.com
SUMMARY:Vinyasa Flow Yoga
DESCRIPTION:This class blends seamless flow with functional mobility-focused movement. Expect a feel-good rhythm\, smart sequencing and options to meet you where you are\, you´ll leave feeling stronger\, softer and more at home in your body! \nCome as you are–you´re in good hands
URL:https://tropicalartsbocas.com/event/vinyasa-flow-yoga/2028-09-29/
LOCATION:Fitness Studio
CATEGORIES:Fitness Studio
ATTACH;FMTTYPE=image/png:https://tropicalartsbocas.com/wp-content/uploads/2026/01/Screenshot-2026-01-28-131919.png
END:VEVENT
BEGIN:VEVENT
DTSTART;TZID=America/Panama:20281002T173000
DTEND;TZID=America/Panama:20281002T183000
DTSTAMP:20260422T114259
CREATED:20260128T182904Z
LAST-MODIFIED:20260128T182904Z
UID:10000459-1854120600-1854124200@tropicalartsbocas.com
SUMMARY:Vinyasa Flow Yoga
DESCRIPTION:This class blends seamless flow with functional mobility-focused movement. Expect a feel-good rhythm\, smart sequencing and options to meet you where you are\, you´ll leave feeling stronger\, softer and more at home in your body! \nCome as you are–you´re in good hands
URL:https://tropicalartsbocas.com/event/vinyasa-flow-yoga/2028-10-02/
LOCATION:Fitness Studio
CATEGORIES:Fitness Studio
ATTACH;FMTTYPE=image/png:https://tropicalartsbocas.com/wp-content/uploads/2026/01/Screenshot-2026-01-28-131919.png
END:VEVENT
BEGIN:VEVENT
DTSTART;TZID=America/Panama:20281004T173000
DTEND;TZID=America/Panama:20281004T183000
DTSTAMP:20260422T114259
CREATED:20260128T182904Z
LAST-MODIFIED:20260128T182904Z
UID:10000460-1854293400-1854297000@tropicalartsbocas.com
SUMMARY:Vinyasa Flow Yoga
DESCRIPTION:This class blends seamless flow with functional mobility-focused movement. Expect a feel-good rhythm\, smart sequencing and options to meet you where you are\, you´ll leave feeling stronger\, softer and more at home in your body! \nCome as you are–you´re in good hands
URL:https://tropicalartsbocas.com/event/vinyasa-flow-yoga/2028-10-04/
LOCATION:Fitness Studio
CATEGORIES:Fitness Studio
ATTACH;FMTTYPE=image/png:https://tropicalartsbocas.com/wp-content/uploads/2026/01/Screenshot-2026-01-28-131919.png
END:VEVENT
BEGIN:VEVENT
DTSTART;TZID=America/Panama:20281006T173000
DTEND;TZID=America/Panama:20281006T183000
DTSTAMP:20260422T114259
CREATED:20260128T182904Z
LAST-MODIFIED:20260128T182904Z
UID:10000461-1854466200-1854469800@tropicalartsbocas.com
SUMMARY:Vinyasa Flow Yoga
DESCRIPTION:This class blends seamless flow with functional mobility-focused movement. Expect a feel-good rhythm\, smart sequencing and options to meet you where you are\, you´ll leave feeling stronger\, softer and more at home in your body! \nCome as you are–you´re in good hands
URL:https://tropicalartsbocas.com/event/vinyasa-flow-yoga/2028-10-06/
LOCATION:Fitness Studio
CATEGORIES:Fitness Studio
ATTACH;FMTTYPE=image/png:https://tropicalartsbocas.com/wp-content/uploads/2026/01/Screenshot-2026-01-28-131919.png
END:VEVENT
BEGIN:VEVENT
DTSTART;TZID=America/Panama:20281009T173000
DTEND;TZID=America/Panama:20281009T183000
DTSTAMP:20260422T114259
CREATED:20260128T182904Z
LAST-MODIFIED:20260128T182904Z
UID:10000462-1854725400-1854729000@tropicalartsbocas.com
SUMMARY:Vinyasa Flow Yoga
DESCRIPTION:This class blends seamless flow with functional mobility-focused movement. Expect a feel-good rhythm\, smart sequencing and options to meet you where you are\, you´ll leave feeling stronger\, softer and more at home in your body! \nCome as you are–you´re in good hands
URL:https://tropicalartsbocas.com/event/vinyasa-flow-yoga/2028-10-09/
LOCATION:Fitness Studio
CATEGORIES:Fitness Studio
ATTACH;FMTTYPE=image/png:https://tropicalartsbocas.com/wp-content/uploads/2026/01/Screenshot-2026-01-28-131919.png
END:VEVENT
BEGIN:VEVENT
DTSTART;TZID=America/Panama:20281011T173000
DTEND;TZID=America/Panama:20281011T183000
DTSTAMP:20260422T114259
CREATED:20260128T182904Z
LAST-MODIFIED:20260128T182904Z
UID:10000463-1854898200-1854901800@tropicalartsbocas.com
SUMMARY:Vinyasa Flow Yoga
DESCRIPTION:This class blends seamless flow with functional mobility-focused movement. Expect a feel-good rhythm\, smart sequencing and options to meet you where you are\, you´ll leave feeling stronger\, softer and more at home in your body! \nCome as you are–you´re in good hands
URL:https://tropicalartsbocas.com/event/vinyasa-flow-yoga/2028-10-11/
LOCATION:Fitness Studio
CATEGORIES:Fitness Studio
ATTACH;FMTTYPE=image/png:https://tropicalartsbocas.com/wp-content/uploads/2026/01/Screenshot-2026-01-28-131919.png
END:VEVENT
BEGIN:VEVENT
DTSTART;TZID=America/Panama:20281013T173000
DTEND;TZID=America/Panama:20281013T183000
DTSTAMP:20260422T114259
CREATED:20260128T182904Z
LAST-MODIFIED:20260128T182904Z
UID:10000464-1855071000-1855074600@tropicalartsbocas.com
SUMMARY:Vinyasa Flow Yoga
DESCRIPTION:This class blends seamless flow with functional mobility-focused movement. Expect a feel-good rhythm\, smart sequencing and options to meet you where you are\, you´ll leave feeling stronger\, softer and more at home in your body! \nCome as you are–you´re in good hands
URL:https://tropicalartsbocas.com/event/vinyasa-flow-yoga/2028-10-13/
LOCATION:Fitness Studio
CATEGORIES:Fitness Studio
ATTACH;FMTTYPE=image/png:https://tropicalartsbocas.com/wp-content/uploads/2026/01/Screenshot-2026-01-28-131919.png
END:VEVENT
BEGIN:VEVENT
DTSTART;TZID=America/Panama:20281016T173000
DTEND;TZID=America/Panama:20281016T183000
DTSTAMP:20260422T114259
CREATED:20260128T182904Z
LAST-MODIFIED:20260128T182904Z
UID:10000465-1855330200-1855333800@tropicalartsbocas.com
SUMMARY:Vinyasa Flow Yoga
DESCRIPTION:This class blends seamless flow with functional mobility-focused movement. Expect a feel-good rhythm\, smart sequencing and options to meet you where you are\, you´ll leave feeling stronger\, softer and more at home in your body! \nCome as you are–you´re in good hands
URL:https://tropicalartsbocas.com/event/vinyasa-flow-yoga/2028-10-16/
LOCATION:Fitness Studio
CATEGORIES:Fitness Studio
ATTACH;FMTTYPE=image/png:https://tropicalartsbocas.com/wp-content/uploads/2026/01/Screenshot-2026-01-28-131919.png
END:VEVENT
END:VCALENDAR